BEGIN:VCALENDAR
VERSION:2.0
PRODID:-//Central Jersey Intergroup - ECPv6.15.20//NONSGML v1.0//EN
CALSCALE:GREGORIAN
METHOD:PUBLISH
X-WR-CALNAME:Central Jersey Intergroup
X-ORIGINAL-URL:https://cjiaa.org
X-WR-CALDESC:Events for Central Jersey Intergroup
REFRESH-INTERVAL;VALUE=DURATION:PT1H
X-Robots-Tag:noindex
X-PUBLISHED-TTL:PT1H
BEGIN:VTIMEZONE
TZID:America/New_York
BEGIN:DAYLIGHT
TZOFFSETFROM:-0500
TZOFFSETTO:-0400
TZNAME:EDT
DTSTART:20240310T070000
END:DAYLIGHT
BEGIN:STANDARD
TZOFFSETFROM:-0400
TZOFFSETTO:-0500
TZNAME:EST
DTSTART:20241103T060000
END:STANDARD
BEGIN:DAYLIGHT
TZOFFSETFROM:-0500
TZOFFSETTO:-0400
TZNAME:EDT
DTSTART:20250309T070000
END:DAYLIGHT
BEGIN:STANDARD
TZOFFSETFROM:-0400
TZOFFSETTO:-0500
TZNAME:EST
DTSTART:20251102T060000
END:STANDARD
BEGIN:DAYLIGHT
TZOFFSETFROM:-0500
TZOFFSETTO:-0400
TZNAME:EDT
DTSTART:20260308T070000
END:DAYLIGHT
BEGIN:STANDARD
TZOFFSETFROM:-0400
TZOFFSETTO:-0500
TZNAME:EST
DTSTART:20261101T060000
END:STANDARD
END:VTIMEZONE
BEGIN:VEVENT
DTSTART;TZID=America/New_York:20251004T120000
DTEND;TZID=America/New_York:20251004T160000
DTSTAMP:20260421T143038
CREATED:20250828T174501Z
LAST-MODIFIED:20250828T174501Z
UID:10000556-1759579200-1759593600@cjiaa.org
SUMMARY:Fall Fun Fest
DESCRIPTION:Hosted by District 24 at \nRosedale Park\, 422 Federal City Road\, Pennington\, NJ \nFood\, Games \nand \n\n\n\nAA Speakers at 2:30pm: Angie P and Harry P \nAl-anon Speaker: to be announced
URL:https://cjiaa.org/event/fall-fun-fest/
LOCATION:Rosedale Park\, 422 Federal City Road\, Pennington\, 08534\, United States
CATEGORIES:District Event
ATTACH;FMTTYPE=application/pdf:https://cjiaa.org/wp-content/uploads/2025/08/FunFallFestpdf.pdf
GEO:40.3267167;-74.7602918
X-APPLE-STRUCTURED-LOCATION;VALUE=URI;X-ADDRESS=Rosedale Park 422 Federal City Road Pennington 08534 United States;X-APPLE-RADIUS=500;X-TITLE=422 Federal City Road:geo:-74.7602918,40.3267167
END:VEVENT
BEGIN:VEVENT
DTSTART;TZID=America/New_York:20251011T103000
DTEND;TZID=America/New_York:20251011T133000
DTSTAMP:20260421T143038
CREATED:20250815T165021Z
LAST-MODIFIED:20250815T165021Z
UID:10000554-1760178600-1760189400@cjiaa.org
SUMMARY:District 25 AA Literature Day
DESCRIPTION:District 25 Presents an AA Literature Day \n\n\n\n\nLunch provided as we journey through our literature \n5 Topic Panels on Different AA Literature\nThe Program History Grapevine Service Member’s Eye View \nPlus Share Your Favorite Literature Minute \nGive-a-ways!! \nEach Group in District 25 Gets a FREE Literature Package\, Grapevine subscriptions – and more
URL:https://cjiaa.org/event/district-25-aa-literature-day/
LOCATION:1st Presbyterian Church – Hightstown\, North Main Street 320\, Hightstown\, NJ\, 08520\, United States
CATEGORIES:District Event
ATTACH;FMTTYPE=application/pdf:https://cjiaa.org/wp-content/uploads/2025/08/District-25-Presents-Literature-Day-October-11-2025.pdf
GEO:40.2731819;-74.5220293
X-APPLE-STRUCTURED-LOCATION;VALUE=URI;X-ADDRESS=1st Presbyterian Church – Hightstown North Main Street 320 Hightstown NJ 08520 United States;X-APPLE-RADIUS=500;X-TITLE=North Main Street 320:geo:-74.5220293,40.2731819
END:VEVENT
END:VCALENDAR