BEGIN:VCALENDAR
VERSION:2.0
PRODID:-//Central Jersey Intergroup - ECPv6.15.20//NONSGML v1.0//EN
CALSCALE:GREGORIAN
METHOD:PUBLISH
X-WR-CALNAME:Central Jersey Intergroup
X-ORIGINAL-URL:https://cjiaa.org
X-WR-CALDESC:Events for Central Jersey Intergroup
REFRESH-INTERVAL;VALUE=DURATION:PT1H
X-Robots-Tag:noindex
X-PUBLISHED-TTL:PT1H
BEGIN:VTIMEZONE
TZID:America/New_York
BEGIN:DAYLIGHT
TZOFFSETFROM:-0500
TZOFFSETTO:-0400
TZNAME:EDT
DTSTART:20270314T070000
END:DAYLIGHT
BEGIN:STANDARD
TZOFFSETFROM:-0400
TZOFFSETTO:-0500
TZNAME:EST
DTSTART:20271107T060000
END:STANDARD
BEGIN:DAYLIGHT
TZOFFSETFROM:-0500
TZOFFSETTO:-0400
TZNAME:EDT
DTSTART:20280312T070000
END:DAYLIGHT
BEGIN:STANDARD
TZOFFSETFROM:-0400
TZOFFSETTO:-0500
TZNAME:EST
DTSTART:20281105T060000
END:STANDARD
BEGIN:DAYLIGHT
TZOFFSETFROM:-0500
TZOFFSETTO:-0400
TZNAME:EDT
DTSTART:20290311T070000
END:DAYLIGHT
BEGIN:STANDARD
TZOFFSETFROM:-0400
TZOFFSETTO:-0500
TZNAME:EST
DTSTART:20291104T060000
END:STANDARD
END:VTIMEZONE
BEGIN:VEVENT
DTSTART;TZID=America/New_York:20280318T120000
DTEND;TZID=America/New_York:20280318T130000
DTSTAMP:20260420T040229
CREATED:20241011T201820Z
LAST-MODIFIED:20241011T202021Z
UID:10000230-1836993600-1836997200@cjiaa.org
SUMMARY:Worldwide Grapevine Monthly Meeting
DESCRIPTION:Meeting ID:  871 2801 9459 \nPasscode:  GLM
URL:https://cjiaa.org/event/worldwide-grapevine-monthly-meeting/2028-03-18/
LOCATION:
CATEGORIES:Other AA Event
ATTACH;FMTTYPE=image/jpeg:https://cjiaa.org/wp-content/uploads/2024/03/Grapevine-Monthly-Meeting.1.jpeg
END:VEVENT
BEGIN:VEVENT
DTSTART;TZID=America/New_York:20280321T190000
DTEND;TZID=America/New_York:20280321T200000
DTSTAMP:20260420T040229
CREATED:20241011T123805Z
LAST-MODIFIED:20241011T124240Z
UID:10000170-1837278000-1837281600@cjiaa.org
SUMMARY:H&I Committee Monthly Meeting
DESCRIPTION:Meeting ID: 821 4265 2012\nPasscode: 293127
URL:https://cjiaa.org/event/hi-committee-monthly-meeting/2028-03-21/
LOCATION:https://us02web.zoom.us/j/82142652012?pwd=WyR0VbePnlDQ43S58x0OtGD0hib30A.1
CATEGORIES:CJI Committee Meeting
ATTACH;FMTTYPE=image/jpg:https://cjiaa.org/wp-content/uploads/2024/07/hI_meeting_flyer-pdf-image.jpg
END:VEVENT
BEGIN:VEVENT
DTSTART;TZID=America/New_York:20280324T180000
DTEND;TZID=America/New_York:20280324T190000
DTSTAMP:20260420T040229
CREATED:20241011T202351Z
LAST-MODIFIED:20241011T202351Z
UID:10000290-1837533600-1837537200@cjiaa.org
SUMMARY:CPC/PI Committee Monthly Meeting
DESCRIPTION:
URL:https://cjiaa.org/event/cpc-pi-committee-monthly-meeting/2028-03-24/
LOCATION:Intergroup Office\, Quakerbridge Road 3525\, Hamilton Township\, NJ\, 08619\, United States
ATTACH;FMTTYPE=image/jpg:https://cjiaa.org/wp-content/uploads/2022/04/CPC-PI-Flier-Central-Jersey-Intergroup-REV-3-17-24-pdf-image.jpg
GEO:40.2547923;-74.6794883
X-APPLE-STRUCTURED-LOCATION;VALUE=URI;X-ADDRESS=Intergroup Office Quakerbridge Road 3525 Hamilton Township NJ 08619 United States;X-APPLE-RADIUS=500;X-TITLE=Quakerbridge Road 3525:geo:-74.6794883,40.2547923
END:VEVENT
BEGIN:VEVENT
DTSTART;TZID=America/New_York:20280401T140000
DTEND;TZID=America/New_York:20280401T150000
DTSTAMP:20260420T040229
CREATED:20260202T215957Z
LAST-MODIFIED:20260202T215957Z
UID:10000664-1838210400-1838214000@cjiaa.org
SUMMARY:Public Information Monthly Meeting
DESCRIPTION:
URL:https://cjiaa.org/event/public-information-monthly-meeting/2028-04-01/
LOCATION:Intergroup Office\, Quakerbridge Road 3525\, Hamilton Township\, NJ\, 08619\, United States
CATEGORIES:CJI Committee Meeting
GEO:40.2547923;-74.6794883
X-APPLE-STRUCTURED-LOCATION;VALUE=URI;X-ADDRESS=Intergroup Office Quakerbridge Road 3525 Hamilton Township NJ 08619 United States;X-APPLE-RADIUS=500;X-TITLE=Quakerbridge Road 3525:geo:-74.6794883,40.2547923
END:VEVENT
BEGIN:VEVENT
DTSTART;TZID=America/New_York:20280405T190000
DTEND;TZID=America/New_York:20280405T200000
DTSTAMP:20260420T040229
CREATED:20241003T214406Z
LAST-MODIFIED:20241003T214407Z
UID:10000047-1838574000-1838577600@cjiaa.org
SUMMARY:CJI Monthly Body Meeting – Hybrid
DESCRIPTION:Meeting is now HYBRID!  In person still meets in the Hamilton Library basement.
URL:https://cjiaa.org/event/cji-monthly-body-meeting-hybrid-2/2028-04-05/
LOCATION:Hamilton Library\, Justice Samuel A Alito Junior Way 1\, Hamilton Township\, NJ\, 08619\, United States
GEO:40.2113261;-74.695721
X-APPLE-STRUCTURED-LOCATION;VALUE=URI;X-ADDRESS=Hamilton Library Justice Samuel A Alito Junior Way 1 Hamilton Township NJ 08619 United States;X-APPLE-RADIUS=500;X-TITLE=Justice Samuel A Alito Junior Way 1:geo:-74.695721,40.2113261
END:VEVENT
BEGIN:VEVENT
DTSTART;TZID=America/New_York:20280412T180000
DTEND;TZID=America/New_York:20280412T190000
DTSTAMP:20260420T040229
CREATED:20241030T214047Z
LAST-MODIFIED:20241030T214047Z
UID:10000356-1839175200-1839178800@cjiaa.org
SUMMARY:CJI Social Committee Monthly Meeting
DESCRIPTION:
URL:https://cjiaa.org/event/cji-social-committee-monthly-meeting/2028-04-12/
LOCATION:Intergroup Office\, Quakerbridge Road 3525\, Hamilton Township\, NJ\, 08619\, United States
CATEGORIES:CJI Committee Meeting
GEO:40.2547923;-74.6794883
X-APPLE-STRUCTURED-LOCATION;VALUE=URI;X-ADDRESS=Intergroup Office Quakerbridge Road 3525 Hamilton Township NJ 08619 United States;X-APPLE-RADIUS=500;X-TITLE=Quakerbridge Road 3525:geo:-74.6794883,40.2547923
END:VEVENT
BEGIN:VEVENT
DTSTART;TZID=America/New_York:20280415T120000
DTEND;TZID=America/New_York:20280415T130000
DTSTAMP:20260420T040229
CREATED:20241011T201820Z
LAST-MODIFIED:20241011T202021Z
UID:10000231-1839412800-1839416400@cjiaa.org
SUMMARY:Worldwide Grapevine Monthly Meeting
DESCRIPTION:Meeting ID:  871 2801 9459 \nPasscode:  GLM
URL:https://cjiaa.org/event/worldwide-grapevine-monthly-meeting/2028-04-15/
LOCATION:
CATEGORIES:Other AA Event
ATTACH;FMTTYPE=image/jpeg:https://cjiaa.org/wp-content/uploads/2024/03/Grapevine-Monthly-Meeting.1.jpeg
END:VEVENT
BEGIN:VEVENT
DTSTART;TZID=America/New_York:20280418T190000
DTEND;TZID=America/New_York:20280418T200000
DTSTAMP:20260420T040229
CREATED:20241011T123805Z
LAST-MODIFIED:20241011T124240Z
UID:10000171-1839697200-1839700800@cjiaa.org
SUMMARY:H&I Committee Monthly Meeting
DESCRIPTION:Meeting ID: 821 4265 2012\nPasscode: 293127
URL:https://cjiaa.org/event/hi-committee-monthly-meeting/2028-04-18/
LOCATION:https://us02web.zoom.us/j/82142652012?pwd=WyR0VbePnlDQ43S58x0OtGD0hib30A.1
CATEGORIES:CJI Committee Meeting
ATTACH;FMTTYPE=image/jpg:https://cjiaa.org/wp-content/uploads/2024/07/hI_meeting_flyer-pdf-image.jpg
END:VEVENT
BEGIN:VEVENT
DTSTART;TZID=America/New_York:20280419T190000
DTEND;TZID=America/New_York:20280419T200000
DTSTAMP:20260420T040229
CREATED:20241003T220016Z
LAST-MODIFIED:20241003T220236Z
UID:10000110-1839783600-1839787200@cjiaa.org
SUMMARY:CJI Steering Committee Meeting
DESCRIPTION:
URL:https://cjiaa.org/event/cji-steering-committee-meeting/2028-04-19/
LOCATION:Intergroup Office\, Quakerbridge Road 3525\, Hamilton Township\, NJ\, 08619\, United States
GEO:40.2547923;-74.6794883
X-APPLE-STRUCTURED-LOCATION;VALUE=URI;X-ADDRESS=Intergroup Office Quakerbridge Road 3525 Hamilton Township NJ 08619 United States;X-APPLE-RADIUS=500;X-TITLE=Quakerbridge Road 3525:geo:-74.6794883,40.2547923
END:VEVENT
BEGIN:VEVENT
DTSTART;TZID=America/New_York:20280428T180000
DTEND;TZID=America/New_York:20280428T190000
DTSTAMP:20260420T040229
CREATED:20241011T202351Z
LAST-MODIFIED:20241011T202351Z
UID:10000291-1840557600-1840561200@cjiaa.org
SUMMARY:CPC/PI Committee Monthly Meeting
DESCRIPTION:
URL:https://cjiaa.org/event/cpc-pi-committee-monthly-meeting/2028-04-28/
LOCATION:Intergroup Office\, Quakerbridge Road 3525\, Hamilton Township\, NJ\, 08619\, United States
ATTACH;FMTTYPE=image/jpg:https://cjiaa.org/wp-content/uploads/2022/04/CPC-PI-Flier-Central-Jersey-Intergroup-REV-3-17-24-pdf-image.jpg
GEO:40.2547923;-74.6794883
X-APPLE-STRUCTURED-LOCATION;VALUE=URI;X-ADDRESS=Intergroup Office Quakerbridge Road 3525 Hamilton Township NJ 08619 United States;X-APPLE-RADIUS=500;X-TITLE=Quakerbridge Road 3525:geo:-74.6794883,40.2547923
END:VEVENT
BEGIN:VEVENT
DTSTART;TZID=America/New_York:20280501T140000
DTEND;TZID=America/New_York:20280501T150000
DTSTAMP:20260420T040229
CREATED:20260202T215957Z
LAST-MODIFIED:20260202T215957Z
UID:10000665-1840802400-1840806000@cjiaa.org
SUMMARY:Public Information Monthly Meeting
DESCRIPTION:
URL:https://cjiaa.org/event/public-information-monthly-meeting/2028-05-01/
LOCATION:Intergroup Office\, Quakerbridge Road 3525\, Hamilton Township\, NJ\, 08619\, United States
CATEGORIES:CJI Committee Meeting
GEO:40.2547923;-74.6794883
X-APPLE-STRUCTURED-LOCATION;VALUE=URI;X-ADDRESS=Intergroup Office Quakerbridge Road 3525 Hamilton Township NJ 08619 United States;X-APPLE-RADIUS=500;X-TITLE=Quakerbridge Road 3525:geo:-74.6794883,40.2547923
END:VEVENT
BEGIN:VEVENT
DTSTART;TZID=America/New_York:20280503T190000
DTEND;TZID=America/New_York:20280503T200000
DTSTAMP:20260420T040229
CREATED:20241003T214406Z
LAST-MODIFIED:20241003T214407Z
UID:10000048-1840993200-1840996800@cjiaa.org
SUMMARY:CJI Monthly Body Meeting – Hybrid
DESCRIPTION:Meeting is now HYBRID!  In person still meets in the Hamilton Library basement.
URL:https://cjiaa.org/event/cji-monthly-body-meeting-hybrid-2/2028-05-03/
LOCATION:Hamilton Library\, Justice Samuel A Alito Junior Way 1\, Hamilton Township\, NJ\, 08619\, United States
GEO:40.2113261;-74.695721
X-APPLE-STRUCTURED-LOCATION;VALUE=URI;X-ADDRESS=Hamilton Library Justice Samuel A Alito Junior Way 1 Hamilton Township NJ 08619 United States;X-APPLE-RADIUS=500;X-TITLE=Justice Samuel A Alito Junior Way 1:geo:-74.695721,40.2113261
END:VEVENT
BEGIN:VEVENT
DTSTART;TZID=America/New_York:20280510T180000
DTEND;TZID=America/New_York:20280510T190000
DTSTAMP:20260420T040229
CREATED:20241030T214047Z
LAST-MODIFIED:20241030T214047Z
UID:10000357-1841594400-1841598000@cjiaa.org
SUMMARY:CJI Social Committee Monthly Meeting
DESCRIPTION:
URL:https://cjiaa.org/event/cji-social-committee-monthly-meeting/2028-05-10/
LOCATION:Intergroup Office\, Quakerbridge Road 3525\, Hamilton Township\, NJ\, 08619\, United States
CATEGORIES:CJI Committee Meeting
GEO:40.2547923;-74.6794883
X-APPLE-STRUCTURED-LOCATION;VALUE=URI;X-ADDRESS=Intergroup Office Quakerbridge Road 3525 Hamilton Township NJ 08619 United States;X-APPLE-RADIUS=500;X-TITLE=Quakerbridge Road 3525:geo:-74.6794883,40.2547923
END:VEVENT
BEGIN:VEVENT
DTSTART;TZID=America/New_York:20280516T190000
DTEND;TZID=America/New_York:20280516T200000
DTSTAMP:20260420T040229
CREATED:20241011T123805Z
LAST-MODIFIED:20241011T124240Z
UID:10000172-1842116400-1842120000@cjiaa.org
SUMMARY:H&I Committee Monthly Meeting
DESCRIPTION:Meeting ID: 821 4265 2012\nPasscode: 293127
URL:https://cjiaa.org/event/hi-committee-monthly-meeting/2028-05-16/
LOCATION:https://us02web.zoom.us/j/82142652012?pwd=WyR0VbePnlDQ43S58x0OtGD0hib30A.1
CATEGORIES:CJI Committee Meeting
ATTACH;FMTTYPE=image/jpg:https://cjiaa.org/wp-content/uploads/2024/07/hI_meeting_flyer-pdf-image.jpg
END:VEVENT
BEGIN:VEVENT
DTSTART;TZID=America/New_York:20280517T190000
DTEND;TZID=America/New_York:20280517T200000
DTSTAMP:20260420T040229
CREATED:20241003T220016Z
LAST-MODIFIED:20241003T220236Z
UID:10000111-1842202800-1842206400@cjiaa.org
SUMMARY:CJI Steering Committee Meeting
DESCRIPTION:
URL:https://cjiaa.org/event/cji-steering-committee-meeting/2028-05-17/
LOCATION:Intergroup Office\, Quakerbridge Road 3525\, Hamilton Township\, NJ\, 08619\, United States
GEO:40.2547923;-74.6794883
X-APPLE-STRUCTURED-LOCATION;VALUE=URI;X-ADDRESS=Intergroup Office Quakerbridge Road 3525 Hamilton Township NJ 08619 United States;X-APPLE-RADIUS=500;X-TITLE=Quakerbridge Road 3525:geo:-74.6794883,40.2547923
END:VEVENT
BEGIN:VEVENT
DTSTART;TZID=America/New_York:20280520T120000
DTEND;TZID=America/New_York:20280520T130000
DTSTAMP:20260420T040229
CREATED:20241011T201820Z
LAST-MODIFIED:20241011T202021Z
UID:10000232-1842436800-1842440400@cjiaa.org
SUMMARY:Worldwide Grapevine Monthly Meeting
DESCRIPTION:Meeting ID:  871 2801 9459 \nPasscode:  GLM
URL:https://cjiaa.org/event/worldwide-grapevine-monthly-meeting/2028-05-20/
LOCATION:
CATEGORIES:Other AA Event
ATTACH;FMTTYPE=image/jpeg:https://cjiaa.org/wp-content/uploads/2024/03/Grapevine-Monthly-Meeting.1.jpeg
END:VEVENT
BEGIN:VEVENT
DTSTART;TZID=America/New_York:20280526T180000
DTEND;TZID=America/New_York:20280526T190000
DTSTAMP:20260420T040229
CREATED:20241011T202351Z
LAST-MODIFIED:20241011T202351Z
UID:10000292-1842976800-1842980400@cjiaa.org
SUMMARY:CPC/PI Committee Monthly Meeting
DESCRIPTION:
URL:https://cjiaa.org/event/cpc-pi-committee-monthly-meeting/2028-05-26/
LOCATION:Intergroup Office\, Quakerbridge Road 3525\, Hamilton Township\, NJ\, 08619\, United States
ATTACH;FMTTYPE=image/jpg:https://cjiaa.org/wp-content/uploads/2022/04/CPC-PI-Flier-Central-Jersey-Intergroup-REV-3-17-24-pdf-image.jpg
GEO:40.2547923;-74.6794883
X-APPLE-STRUCTURED-LOCATION;VALUE=URI;X-ADDRESS=Intergroup Office Quakerbridge Road 3525 Hamilton Township NJ 08619 United States;X-APPLE-RADIUS=500;X-TITLE=Quakerbridge Road 3525:geo:-74.6794883,40.2547923
END:VEVENT
BEGIN:VEVENT
DTSTART;TZID=America/New_York:20280601T140000
DTEND;TZID=America/New_York:20280601T150000
DTSTAMP:20260420T040229
CREATED:20260202T215957Z
LAST-MODIFIED:20260202T215957Z
UID:10000666-1843480800-1843484400@cjiaa.org
SUMMARY:Public Information Monthly Meeting
DESCRIPTION:
URL:https://cjiaa.org/event/public-information-monthly-meeting/2028-06-01/
LOCATION:Intergroup Office\, Quakerbridge Road 3525\, Hamilton Township\, NJ\, 08619\, United States
CATEGORIES:CJI Committee Meeting
GEO:40.2547923;-74.6794883
X-APPLE-STRUCTURED-LOCATION;VALUE=URI;X-ADDRESS=Intergroup Office Quakerbridge Road 3525 Hamilton Township NJ 08619 United States;X-APPLE-RADIUS=500;X-TITLE=Quakerbridge Road 3525:geo:-74.6794883,40.2547923
END:VEVENT
BEGIN:VEVENT
DTSTART;TZID=America/New_York:20280607T190000
DTEND;TZID=America/New_York:20280607T200000
DTSTAMP:20260420T040229
CREATED:20241003T214406Z
LAST-MODIFIED:20241003T214407Z
UID:10000049-1844017200-1844020800@cjiaa.org
SUMMARY:CJI Monthly Body Meeting – Hybrid
DESCRIPTION:Meeting is now HYBRID!  In person still meets in the Hamilton Library basement.
URL:https://cjiaa.org/event/cji-monthly-body-meeting-hybrid-2/2028-06-07/
LOCATION:Hamilton Library\, Justice Samuel A Alito Junior Way 1\, Hamilton Township\, NJ\, 08619\, United States
GEO:40.2113261;-74.695721
X-APPLE-STRUCTURED-LOCATION;VALUE=URI;X-ADDRESS=Hamilton Library Justice Samuel A Alito Junior Way 1 Hamilton Township NJ 08619 United States;X-APPLE-RADIUS=500;X-TITLE=Justice Samuel A Alito Junior Way 1:geo:-74.695721,40.2113261
END:VEVENT
BEGIN:VEVENT
DTSTART;TZID=America/New_York:20280614T180000
DTEND;TZID=America/New_York:20280614T190000
DTSTAMP:20260420T040229
CREATED:20241030T214047Z
LAST-MODIFIED:20241030T214047Z
UID:10000358-1844618400-1844622000@cjiaa.org
SUMMARY:CJI Social Committee Monthly Meeting
DESCRIPTION:
URL:https://cjiaa.org/event/cji-social-committee-monthly-meeting/2028-06-14/
LOCATION:Intergroup Office\, Quakerbridge Road 3525\, Hamilton Township\, NJ\, 08619\, United States
CATEGORIES:CJI Committee Meeting
GEO:40.2547923;-74.6794883
X-APPLE-STRUCTURED-LOCATION;VALUE=URI;X-ADDRESS=Intergroup Office Quakerbridge Road 3525 Hamilton Township NJ 08619 United States;X-APPLE-RADIUS=500;X-TITLE=Quakerbridge Road 3525:geo:-74.6794883,40.2547923
END:VEVENT
BEGIN:VEVENT
DTSTART;TZID=America/New_York:20280617T120000
DTEND;TZID=America/New_York:20280617T130000
DTSTAMP:20260420T040229
CREATED:20241011T201820Z
LAST-MODIFIED:20241011T202021Z
UID:10000233-1844856000-1844859600@cjiaa.org
SUMMARY:Worldwide Grapevine Monthly Meeting
DESCRIPTION:Meeting ID:  871 2801 9459 \nPasscode:  GLM
URL:https://cjiaa.org/event/worldwide-grapevine-monthly-meeting/2028-06-17/
LOCATION:
CATEGORIES:Other AA Event
ATTACH;FMTTYPE=image/jpeg:https://cjiaa.org/wp-content/uploads/2024/03/Grapevine-Monthly-Meeting.1.jpeg
END:VEVENT
BEGIN:VEVENT
DTSTART;TZID=America/New_York:20280620T190000
DTEND;TZID=America/New_York:20280620T200000
DTSTAMP:20260420T040229
CREATED:20241011T123805Z
LAST-MODIFIED:20241011T124240Z
UID:10000173-1845140400-1845144000@cjiaa.org
SUMMARY:H&I Committee Monthly Meeting
DESCRIPTION:Meeting ID: 821 4265 2012\nPasscode: 293127
URL:https://cjiaa.org/event/hi-committee-monthly-meeting/2028-06-20/
LOCATION:https://us02web.zoom.us/j/82142652012?pwd=WyR0VbePnlDQ43S58x0OtGD0hib30A.1
CATEGORIES:CJI Committee Meeting
ATTACH;FMTTYPE=image/jpg:https://cjiaa.org/wp-content/uploads/2024/07/hI_meeting_flyer-pdf-image.jpg
END:VEVENT
BEGIN:VEVENT
DTSTART;TZID=America/New_York:20280621T190000
DTEND;TZID=America/New_York:20280621T200000
DTSTAMP:20260420T040229
CREATED:20241003T220016Z
LAST-MODIFIED:20241003T220236Z
UID:10000112-1845226800-1845230400@cjiaa.org
SUMMARY:CJI Steering Committee Meeting
DESCRIPTION:
URL:https://cjiaa.org/event/cji-steering-committee-meeting/2028-06-21/
LOCATION:Intergroup Office\, Quakerbridge Road 3525\, Hamilton Township\, NJ\, 08619\, United States
GEO:40.2547923;-74.6794883
X-APPLE-STRUCTURED-LOCATION;VALUE=URI;X-ADDRESS=Intergroup Office Quakerbridge Road 3525 Hamilton Township NJ 08619 United States;X-APPLE-RADIUS=500;X-TITLE=Quakerbridge Road 3525:geo:-74.6794883,40.2547923
END:VEVENT
BEGIN:VEVENT
DTSTART;TZID=America/New_York:20280623T180000
DTEND;TZID=America/New_York:20280623T190000
DTSTAMP:20260420T040229
CREATED:20241011T202351Z
LAST-MODIFIED:20241011T202351Z
UID:10000293-1845396000-1845399600@cjiaa.org
SUMMARY:CPC/PI Committee Monthly Meeting
DESCRIPTION:
URL:https://cjiaa.org/event/cpc-pi-committee-monthly-meeting/2028-06-23/
LOCATION:Intergroup Office\, Quakerbridge Road 3525\, Hamilton Township\, NJ\, 08619\, United States
ATTACH;FMTTYPE=image/jpg:https://cjiaa.org/wp-content/uploads/2022/04/CPC-PI-Flier-Central-Jersey-Intergroup-REV-3-17-24-pdf-image.jpg
GEO:40.2547923;-74.6794883
X-APPLE-STRUCTURED-LOCATION;VALUE=URI;X-ADDRESS=Intergroup Office Quakerbridge Road 3525 Hamilton Township NJ 08619 United States;X-APPLE-RADIUS=500;X-TITLE=Quakerbridge Road 3525:geo:-74.6794883,40.2547923
END:VEVENT
BEGIN:VEVENT
DTSTART;TZID=America/New_York:20280701T140000
DTEND;TZID=America/New_York:20280701T150000
DTSTAMP:20260420T040229
CREATED:20260202T215957Z
LAST-MODIFIED:20260202T215957Z
UID:10000667-1846072800-1846076400@cjiaa.org
SUMMARY:Public Information Monthly Meeting
DESCRIPTION:
URL:https://cjiaa.org/event/public-information-monthly-meeting/2028-07-01/
LOCATION:Intergroup Office\, Quakerbridge Road 3525\, Hamilton Township\, NJ\, 08619\, United States
CATEGORIES:CJI Committee Meeting
GEO:40.2547923;-74.6794883
X-APPLE-STRUCTURED-LOCATION;VALUE=URI;X-ADDRESS=Intergroup Office Quakerbridge Road 3525 Hamilton Township NJ 08619 United States;X-APPLE-RADIUS=500;X-TITLE=Quakerbridge Road 3525:geo:-74.6794883,40.2547923
END:VEVENT
BEGIN:VEVENT
DTSTART;TZID=America/New_York:20280705T190000
DTEND;TZID=America/New_York:20280705T200000
DTSTAMP:20260420T040229
CREATED:20241003T214406Z
LAST-MODIFIED:20241003T214407Z
UID:10000050-1846436400-1846440000@cjiaa.org
SUMMARY:CJI Monthly Body Meeting – Hybrid
DESCRIPTION:Meeting is now HYBRID!  In person still meets in the Hamilton Library basement.
URL:https://cjiaa.org/event/cji-monthly-body-meeting-hybrid-2/2028-07-05/
LOCATION:Hamilton Library\, Justice Samuel A Alito Junior Way 1\, Hamilton Township\, NJ\, 08619\, United States
GEO:40.2113261;-74.695721
X-APPLE-STRUCTURED-LOCATION;VALUE=URI;X-ADDRESS=Hamilton Library Justice Samuel A Alito Junior Way 1 Hamilton Township NJ 08619 United States;X-APPLE-RADIUS=500;X-TITLE=Justice Samuel A Alito Junior Way 1:geo:-74.695721,40.2113261
END:VEVENT
BEGIN:VEVENT
DTSTART;TZID=America/New_York:20280712T180000
DTEND;TZID=America/New_York:20280712T190000
DTSTAMP:20260420T040229
CREATED:20241030T214047Z
LAST-MODIFIED:20241030T214047Z
UID:10000359-1847037600-1847041200@cjiaa.org
SUMMARY:CJI Social Committee Monthly Meeting
DESCRIPTION:
URL:https://cjiaa.org/event/cji-social-committee-monthly-meeting/2028-07-12/
LOCATION:Intergroup Office\, Quakerbridge Road 3525\, Hamilton Township\, NJ\, 08619\, United States
CATEGORIES:CJI Committee Meeting
GEO:40.2547923;-74.6794883
X-APPLE-STRUCTURED-LOCATION;VALUE=URI;X-ADDRESS=Intergroup Office Quakerbridge Road 3525 Hamilton Township NJ 08619 United States;X-APPLE-RADIUS=500;X-TITLE=Quakerbridge Road 3525:geo:-74.6794883,40.2547923
END:VEVENT
BEGIN:VEVENT
DTSTART;TZID=America/New_York:20280715T120000
DTEND;TZID=America/New_York:20280715T130000
DTSTAMP:20260420T040229
CREATED:20241011T201820Z
LAST-MODIFIED:20241011T202021Z
UID:10000234-1847275200-1847278800@cjiaa.org
SUMMARY:Worldwide Grapevine Monthly Meeting
DESCRIPTION:Meeting ID:  871 2801 9459 \nPasscode:  GLM
URL:https://cjiaa.org/event/worldwide-grapevine-monthly-meeting/2028-07-15/
LOCATION:
CATEGORIES:Other AA Event
ATTACH;FMTTYPE=image/jpeg:https://cjiaa.org/wp-content/uploads/2024/03/Grapevine-Monthly-Meeting.1.jpeg
END:VEVENT
BEGIN:VEVENT
DTSTART;TZID=America/New_York:20280718T190000
DTEND;TZID=America/New_York:20280718T200000
DTSTAMP:20260420T040229
CREATED:20241011T123805Z
LAST-MODIFIED:20241011T124240Z
UID:10000174-1847559600-1847563200@cjiaa.org
SUMMARY:H&I Committee Monthly Meeting
DESCRIPTION:Meeting ID: 821 4265 2012\nPasscode: 293127
URL:https://cjiaa.org/event/hi-committee-monthly-meeting/2028-07-18/
LOCATION:https://us02web.zoom.us/j/82142652012?pwd=WyR0VbePnlDQ43S58x0OtGD0hib30A.1
CATEGORIES:CJI Committee Meeting
ATTACH;FMTTYPE=image/jpg:https://cjiaa.org/wp-content/uploads/2024/07/hI_meeting_flyer-pdf-image.jpg
END:VEVENT
BEGIN:VEVENT
DTSTART;TZID=America/New_York:20280719T190000
DTEND;TZID=America/New_York:20280719T200000
DTSTAMP:20260420T040229
CREATED:20241003T220016Z
LAST-MODIFIED:20241003T220236Z
UID:10000113-1847646000-1847649600@cjiaa.org
SUMMARY:CJI Steering Committee Meeting
DESCRIPTION:
URL:https://cjiaa.org/event/cji-steering-committee-meeting/2028-07-19/
LOCATION:Intergroup Office\, Quakerbridge Road 3525\, Hamilton Township\, NJ\, 08619\, United States
GEO:40.2547923;-74.6794883
X-APPLE-STRUCTURED-LOCATION;VALUE=URI;X-ADDRESS=Intergroup Office Quakerbridge Road 3525 Hamilton Township NJ 08619 United States;X-APPLE-RADIUS=500;X-TITLE=Quakerbridge Road 3525:geo:-74.6794883,40.2547923
END:VEVENT
END:VCALENDAR