BEGIN:VCALENDAR
VERSION:2.0
PRODID:-//Central Jersey Intergroup - ECPv6.15.20//NONSGML v1.0//EN
CALSCALE:GREGORIAN
METHOD:PUBLISH
X-WR-CALNAME:Central Jersey Intergroup
X-ORIGINAL-URL:https://cjiaa.org
X-WR-CALDESC:Events for Central Jersey Intergroup
REFRESH-INTERVAL;VALUE=DURATION:PT1H
X-Robots-Tag:noindex
X-PUBLISHED-TTL:PT1H
BEGIN:VTIMEZONE
TZID:America/New_York
BEGIN:DAYLIGHT
TZOFFSETFROM:-0500
TZOFFSETTO:-0400
TZNAME:EDT
DTSTART:20240310T070000
END:DAYLIGHT
BEGIN:STANDARD
TZOFFSETFROM:-0400
TZOFFSETTO:-0500
TZNAME:EST
DTSTART:20241103T060000
END:STANDARD
BEGIN:DAYLIGHT
TZOFFSETFROM:-0500
TZOFFSETTO:-0400
TZNAME:EDT
DTSTART:20250309T070000
END:DAYLIGHT
BEGIN:STANDARD
TZOFFSETFROM:-0400
TZOFFSETTO:-0500
TZNAME:EST
DTSTART:20251102T060000
END:STANDARD
BEGIN:DAYLIGHT
TZOFFSETFROM:-0500
TZOFFSETTO:-0400
TZNAME:EDT
DTSTART:20260308T070000
END:DAYLIGHT
BEGIN:STANDARD
TZOFFSETFROM:-0400
TZOFFSETTO:-0500
TZNAME:EST
DTSTART:20261101T060000
END:STANDARD
END:VTIMEZONE
BEGIN:VEVENT
DTSTART;TZID=America/New_York:20250419T120000
DTEND;TZID=America/New_York:20250419T130000
DTSTAMP:20260420T042350
CREATED:20241011T201820Z
LAST-MODIFIED:20241011T202021Z
UID:10000195-1745064000-1745067600@cjiaa.org
SUMMARY:Worldwide Grapevine Monthly Meeting
DESCRIPTION:Meeting ID:  871 2801 9459 \nPasscode:  GLM
URL:https://cjiaa.org/event/worldwide-grapevine-monthly-meeting/2025-04-19/
LOCATION:
CATEGORIES:Other AA Event
ATTACH;FMTTYPE=image/jpeg:https://cjiaa.org/wp-content/uploads/2024/03/Grapevine-Monthly-Meeting.1.jpeg
END:VEVENT
BEGIN:VEVENT
DTSTART;TZID=America/New_York:20250416T193000
DTEND;TZID=America/New_York:20250416T203000
DTSTAMP:20260420T042350
CREATED:20250212T140618Z
LAST-MODIFIED:20250212T140618Z
UID:10000523-1744831800-1744835400@cjiaa.org
SUMMARY:Hightstown Winners 52nd Anniversary
DESCRIPTION:Leader – Michael K.\, Hightstown Winners \nSpeaker: Kathy M – 38 Years of sobriety\nBordentown Step Up to Sobriety Group \nAnniversary Cake to Follow Meeting
URL:https://cjiaa.org/event/hightstown-winners-52nd-anniversary/
LOCATION:1st Presbyterian Church – Hightstown\, North Main Street 320\, Hightstown\, NJ\, 08520\, United States
ATTACH;FMTTYPE=image/jpeg:https://cjiaa.org/wp-content/uploads/2025/02/‎WINNERS-52nd-anniversary.‎1.jpeg
GEO:40.2731819;-74.5220293
X-APPLE-STRUCTURED-LOCATION;VALUE=URI;X-ADDRESS=1st Presbyterian Church – Hightstown North Main Street 320 Hightstown NJ 08520 United States;X-APPLE-RADIUS=500;X-TITLE=North Main Street 320:geo:-74.5220293,40.2731819
END:VEVENT
BEGIN:VEVENT
DTSTART;TZID=America/New_York:20250416T190000
DTEND;TZID=America/New_York:20250416T200000
DTSTAMP:20260420T042350
CREATED:20241003T220016Z
LAST-MODIFIED:20241003T220236Z
UID:10000074-1744830000-1744833600@cjiaa.org
SUMMARY:CJI Steering Committee Meeting
DESCRIPTION:
URL:https://cjiaa.org/event/cji-steering-committee-meeting/2025-04-16/
LOCATION:Intergroup Office\, Quakerbridge Road 3525\, Hamilton Township\, NJ\, 08619\, United States
GEO:40.2547923;-74.6794883
X-APPLE-STRUCTURED-LOCATION;VALUE=URI;X-ADDRESS=Intergroup Office Quakerbridge Road 3525 Hamilton Township NJ 08619 United States;X-APPLE-RADIUS=500;X-TITLE=Quakerbridge Road 3525:geo:-74.6794883,40.2547923
END:VEVENT
BEGIN:VEVENT
DTSTART;TZID=America/New_York:20250415T190000
DTEND;TZID=America/New_York:20250415T200000
DTSTAMP:20260420T042350
CREATED:20241011T123805Z
LAST-MODIFIED:20241011T124240Z
UID:10000135-1744743600-1744747200@cjiaa.org
SUMMARY:H&I Committee Monthly Meeting
DESCRIPTION:Meeting ID: 821 4265 2012\nPasscode: 293127
URL:https://cjiaa.org/event/hi-committee-monthly-meeting/2025-04-15/
LOCATION:https://us02web.zoom.us/j/82142652012?pwd=WyR0VbePnlDQ43S58x0OtGD0hib30A.1
CATEGORIES:CJI Committee Meeting
ATTACH;FMTTYPE=image/jpg:https://cjiaa.org/wp-content/uploads/2024/07/hI_meeting_flyer-pdf-image.jpg
END:VEVENT
BEGIN:VEVENT
DTSTART;TZID=America/New_York:20250412T080000
DTEND;TZID=America/New_York:20250412T170000
DTSTAMP:20260420T042350
CREATED:20250317T030732Z
LAST-MODIFIED:20250317T032005Z
UID:10000529-1744444800-1744477200@cjiaa.org
SUMMARY:Area 45 Mini-Conference 2025 (In person:Elmer NJ)
DESCRIPTION:The purpose of the Mini-Conference is to provide the Area Delegate with Area 45’s collective conscience on these agenda items prior to attending the General Service Conference. \n\n\n\n\n\nIn Person – \nApril 12th \n9am – 12pm \nElmer Grange \n535 Daretown Rd\,   Elmer NJ 08318 \n\n\n\n\nAll Area 45 Members are encouraged to attend!
URL:https://cjiaa.org/event/area-45-mini-conference-2025-in-personelmer-nj/
LOCATION:Elmer Grange\, 535 Daretown Road\, Elmer\, 08318\, United States
CATEGORIES:Area 45 Event
ATTACH;FMTTYPE=image/jpeg:https://cjiaa.org/wp-content/uploads/2025/03/2025-Mini-Conference.1-1.jpeg
GEO:39.615812;-75.2335755
X-APPLE-STRUCTURED-LOCATION;VALUE=URI;X-ADDRESS=Elmer Grange 535 Daretown Road Elmer 08318 United States;X-APPLE-RADIUS=500;X-TITLE=535 Daretown Road:geo:-75.2335755,39.615812
END:VEVENT
BEGIN:VEVENT
DTSTART;TZID=America/New_York:20250409T193000
DTEND;TZID=America/New_York:20250409T220000
DTSTAMP:20260420T042350
CREATED:20250317T030145Z
LAST-MODIFIED:20250317T031931Z
UID:10000528-1744227000-1744236000@cjiaa.org
SUMMARY:Area 45 Virtual Mini-Conference 2025
DESCRIPTION:The purpose of the Mini-Conference is to provide the Area Delegate with Area 45’s collective conscience on these agenda items prior to attending the General Service Conference. \n\n\n\n\n\n\n\n\nVirtual Mini-Conference : \nApril 9th: 7:30pm – 10pm\nroom opens at 7:15pm \nhttps://us02web.zoom.us/j/83157385301 \nMeeting ID: 831 5738 5301 \n\n\n\n\nAll Area 45 Members are encouraged to attend! \n\n\n\n\n\n\n\n\n  \n  \n 
URL:https://cjiaa.org/event/area-45-virtual-mini-conference-2025/
LOCATION:https://us02web.zoom.us/j/83157385301
CATEGORIES:Area 45 Event
ATTACH;FMTTYPE=image/jpeg:https://cjiaa.org/wp-content/uploads/2025/03/2025-Mini-Conference.1-1.jpeg
END:VEVENT
BEGIN:VEVENT
DTSTART;TZID=America/New_York:20250409T180000
DTEND;TZID=America/New_York:20250409T190000
DTSTAMP:20260420T042350
CREATED:20241030T214047Z
LAST-MODIFIED:20241030T214047Z
UID:10000320-1744221600-1744225200@cjiaa.org
SUMMARY:CJI Social Committee Monthly Meeting
DESCRIPTION:
URL:https://cjiaa.org/event/cji-social-committee-monthly-meeting/2025-04-09/
LOCATION:Intergroup Office\, Quakerbridge Road 3525\, Hamilton Township\, NJ\, 08619\, United States
CATEGORIES:CJI Committee Meeting
GEO:40.2547923;-74.6794883
X-APPLE-STRUCTURED-LOCATION;VALUE=URI;X-ADDRESS=Intergroup Office Quakerbridge Road 3525 Hamilton Township NJ 08619 United States;X-APPLE-RADIUS=500;X-TITLE=Quakerbridge Road 3525:geo:-74.6794883,40.2547923
END:VEVENT
BEGIN:VEVENT
DTSTART;TZID=America/New_York:20250405T100000
DTEND;TZID=America/New_York:20250405T123000
DTSTAMP:20260420T042350
CREATED:20250303T230244Z
LAST-MODIFIED:20250303T230244Z
UID:10000525-1743847200-1743856200@cjiaa.org
SUMMARY:District 22-23 Early Sobriety Workshop
DESCRIPTION:Learn and share about the Steps and Service in A.A. \nRound Table Discussion \nSteps 1-2-3 \nService \nRefreshments: Coffee\, Bagels\, Doughnuts \n 
URL:https://cjiaa.org/event/district-22-23-early-sobriety-workshop/
LOCATION:Christ Church\, Prince Street 130\, Bordentown\, New Jersey\, 08505\, United States
ATTACH;FMTTYPE=image/png:https://cjiaa.org/wp-content/uploads/2025/03/District22-23EarlySobrietyWorkshop.png
GEO:40.1467982;-74.7139583
X-APPLE-STRUCTURED-LOCATION;VALUE=URI;X-ADDRESS=Christ Church Prince Street 130 Bordentown New Jersey 08505 United States;X-APPLE-RADIUS=500;X-TITLE=Prince Street 130:geo:-74.7139583,40.1467982
END:VEVENT
BEGIN:VEVENT
DTSTART;TZID=America/New_York:20250402T190000
DTEND;TZID=America/New_York:20250402T200000
DTSTAMP:20260420T042350
CREATED:20241003T214406Z
LAST-MODIFIED:20241003T214407Z
UID:10000011-1743620400-1743624000@cjiaa.org
SUMMARY:CJI Monthly Body Meeting – Hybrid
DESCRIPTION:Meeting is now HYBRID!  In person still meets in the Hamilton Library basement.
URL:https://cjiaa.org/event/cji-monthly-body-meeting-hybrid-2/2025-04-02/
LOCATION:Hamilton Library\, Justice Samuel A Alito Junior Way 1\, Hamilton Township\, NJ\, 08619\, United States
GEO:40.2113261;-74.695721
X-APPLE-STRUCTURED-LOCATION;VALUE=URI;X-ADDRESS=Hamilton Library Justice Samuel A Alito Junior Way 1 Hamilton Township NJ 08619 United States;X-APPLE-RADIUS=500;X-TITLE=Justice Samuel A Alito Junior Way 1:geo:-74.695721,40.2113261
END:VEVENT
BEGIN:VEVENT
DTSTART;TZID=America/New_York:20250329T130000
DTEND;TZID=America/New_York:20250329T150000
DTSTAMP:20260420T042350
CREATED:20250320T135943Z
LAST-MODIFIED:20250320T135943Z
UID:10000532-1743253200-1743260400@cjiaa.org
SUMMARY:Hospitals and Institutions Committee Workshop
DESCRIPTION:HOAGIES – PIZZA – RAFFLE!     JOIN US FOR A MEET & GREET \n\n\n\n\n\n\n\n\n\n\nJoin us to better serve your commitment learn about: \nH&I literature budget Sharing Bridging the Gap resource with patients \nWhat facilities are asking from you \n\n\n\n\nOur aim is to connect and organize existing volunteers taking in service commitments to our local facilities as well as encouraging new volunteers to get involved. \n\n\n\n\nAny questions contact us at H&I@cjiaa.org \n 
URL:https://cjiaa.org/event/hospitals-and-institutions-committee-workshop/
LOCATION:1st Presbyterian Church – Hamilton Square\, 3550 Nottingham Way\, Hamilton\, NJ\, 08619\, United States
CATEGORIES:CJI Event
ATTACH;FMTTYPE=image/jpeg:https://cjiaa.org/wp-content/uploads/2025/03/HI-March-Workshop-Flyer.jpg
GEO:40.235204;-74.6921599
X-APPLE-STRUCTURED-LOCATION;VALUE=URI;X-ADDRESS=1st Presbyterian Church – Hamilton Square 3550 Nottingham Way Hamilton NJ 08619 United States;X-APPLE-RADIUS=500;X-TITLE=3550 Nottingham Way:geo:-74.6921599,40.235204
END:VEVENT
BEGIN:VEVENT
DTSTART;TZID=America/New_York:20250328T180000
DTEND;TZID=America/New_York:20250328T190000
DTSTAMP:20260420T042350
CREATED:20241011T202351Z
LAST-MODIFIED:20241011T202351Z
UID:10000254-1743184800-1743188400@cjiaa.org
SUMMARY:CPC/PI Committee Monthly Meeting
DESCRIPTION:
URL:https://cjiaa.org/event/cpc-pi-committee-monthly-meeting/2025-03-28/
LOCATION:Intergroup Office\, Quakerbridge Road 3525\, Hamilton Township\, NJ\, 08619\, United States
ATTACH;FMTTYPE=image/jpg:https://cjiaa.org/wp-content/uploads/2022/04/CPC-PI-Flier-Central-Jersey-Intergroup-REV-3-17-24-pdf-image.jpg
GEO:40.2547923;-74.6794883
X-APPLE-STRUCTURED-LOCATION;VALUE=URI;X-ADDRESS=Intergroup Office Quakerbridge Road 3525 Hamilton Township NJ 08619 United States;X-APPLE-RADIUS=500;X-TITLE=Quakerbridge Road 3525:geo:-74.6794883,40.2547923
END:VEVENT
BEGIN:VEVENT
DTSTART;TZID=America/New_York:20250325T190000
DTEND;TZID=America/New_York:20250325T210000
DTSTAMP:20260420T042350
CREATED:20250316T202401Z
LAST-MODIFIED:20250316T202816Z
UID:10000527-1742929200-1742936400@cjiaa.org
SUMMARY:Cranbury Beginners's 1-2-3 Anniversary Celebration
DESCRIPTION:7pm Food and Fellowship \n8pm Speaker Paul B of Hightstown Early Birds with 37 Years Sobriety \nPlease join us for a great evening!
URL:https://cjiaa.org/event/cranbury-beginnerss-1-2-3-anniversary-celebration/
LOCATION:1st Presbyterian Church of Cranbury\, 22 South Main St\, Cranbury\, 08512\, United States
ATTACH;FMTTYPE=image/jpeg:https://cjiaa.org/wp-content/uploads/2025/03/56th-Anniversary-Flyer.jpg
GEO:40.3078798;-74.5181338
X-APPLE-STRUCTURED-LOCATION;VALUE=URI;X-ADDRESS=1st Presbyterian Church of Cranbury 22 South Main St Cranbury 08512 United States;X-APPLE-RADIUS=500;X-TITLE=22 South Main St:geo:-74.5181338,40.3078798
END:VEVENT
BEGIN:VEVENT
DTSTART;TZID=America/New_York:20250319T190000
DTEND;TZID=America/New_York:20250319T200000
DTSTAMP:20260420T042350
CREATED:20241003T220016Z
LAST-MODIFIED:20241003T220236Z
UID:10000073-1742410800-1742414400@cjiaa.org
SUMMARY:CJI Steering Committee Meeting
DESCRIPTION:
URL:https://cjiaa.org/event/cji-steering-committee-meeting/2025-03-19/
LOCATION:Intergroup Office\, Quakerbridge Road 3525\, Hamilton Township\, NJ\, 08619\, United States
GEO:40.2547923;-74.6794883
X-APPLE-STRUCTURED-LOCATION;VALUE=URI;X-ADDRESS=Intergroup Office Quakerbridge Road 3525 Hamilton Township NJ 08619 United States;X-APPLE-RADIUS=500;X-TITLE=Quakerbridge Road 3525:geo:-74.6794883,40.2547923
END:VEVENT
BEGIN:VEVENT
DTSTART;TZID=America/New_York:20250318T190000
DTEND;TZID=America/New_York:20250318T200000
DTSTAMP:20260420T042350
CREATED:20241011T123805Z
LAST-MODIFIED:20241011T124240Z
UID:10000134-1742324400-1742328000@cjiaa.org
SUMMARY:H&I Committee Monthly Meeting
DESCRIPTION:Meeting ID: 821 4265 2012\nPasscode: 293127
URL:https://cjiaa.org/event/hi-committee-monthly-meeting/2025-03-18/
LOCATION:https://us02web.zoom.us/j/82142652012?pwd=WyR0VbePnlDQ43S58x0OtGD0hib30A.1
CATEGORIES:CJI Committee Meeting
ATTACH;FMTTYPE=image/jpg:https://cjiaa.org/wp-content/uploads/2024/07/hI_meeting_flyer-pdf-image.jpg
END:VEVENT
BEGIN:VEVENT
DTSTART;TZID=America/New_York:20250315T120000
DTEND;TZID=America/New_York:20250315T130000
DTSTAMP:20260420T042350
CREATED:20241011T201820Z
LAST-MODIFIED:20241011T202021Z
UID:10000194-1742040000-1742043600@cjiaa.org
SUMMARY:Worldwide Grapevine Monthly Meeting
DESCRIPTION:Meeting ID:  871 2801 9459 \nPasscode:  GLM
URL:https://cjiaa.org/event/worldwide-grapevine-monthly-meeting/2025-03-15/
LOCATION:
CATEGORIES:Other AA Event
ATTACH;FMTTYPE=image/jpeg:https://cjiaa.org/wp-content/uploads/2024/03/Grapevine-Monthly-Meeting.1.jpeg
END:VEVENT
BEGIN:VEVENT
DTSTART;TZID=America/New_York:20250314T140000
DTEND;TZID=America/New_York:20250316T120000
DTSTAMP:20260420T042350
CREATED:20250109T115116Z
LAST-MODIFIED:20250109T115116Z
UID:10000513-1741960800-1742126400@cjiaa.org
SUMMARY:59th Area 45 Convention
DESCRIPTION:
URL:https://cjiaa.org/event/59th-area-45-convention/
LOCATION:Claridge Hotel\, 123 S Indiana Ave\, Atlantic City\, NJ 08401\, USA\, Atlantic City\, 08401\, United States
CATEGORIES:Area 45 Event
ATTACH;FMTTYPE=image/jpeg:https://cjiaa.org/wp-content/uploads/2022/04/Convention2025-Flyer-1.1.jpeg
GEO:39.3576229;-74.4308103
X-APPLE-STRUCTURED-LOCATION;VALUE=URI;X-ADDRESS=Claridge Hotel 123 S Indiana Ave Atlantic City NJ 08401 USA Atlantic City 08401 United States;X-APPLE-RADIUS=500;X-TITLE=123 S Indiana Ave\, Atlantic City\, NJ 08401\, USA:geo:-74.4308103,39.3576229
END:VEVENT
BEGIN:VEVENT
DTSTART;TZID=America/New_York:20250312T180000
DTEND;TZID=America/New_York:20250312T190000
DTSTAMP:20260420T042350
CREATED:20241030T214047Z
LAST-MODIFIED:20241030T214047Z
UID:10000319-1741802400-1741806000@cjiaa.org
SUMMARY:CJI Social Committee Monthly Meeting
DESCRIPTION:
URL:https://cjiaa.org/event/cji-social-committee-monthly-meeting/2025-03-12/
LOCATION:Intergroup Office\, Quakerbridge Road 3525\, Hamilton Township\, NJ\, 08619\, United States
CATEGORIES:CJI Committee Meeting
GEO:40.2547923;-74.6794883
X-APPLE-STRUCTURED-LOCATION;VALUE=URI;X-ADDRESS=Intergroup Office Quakerbridge Road 3525 Hamilton Township NJ 08619 United States;X-APPLE-RADIUS=500;X-TITLE=Quakerbridge Road 3525:geo:-74.6794883,40.2547923
END:VEVENT
BEGIN:VEVENT
DTSTART;TZID=America/New_York:20250305T190000
DTEND;TZID=America/New_York:20250305T200000
DTSTAMP:20260420T042350
CREATED:20241003T214406Z
LAST-MODIFIED:20241003T214407Z
UID:10000010-1741201200-1741204800@cjiaa.org
SUMMARY:CJI Monthly Body Meeting – Hybrid
DESCRIPTION:Meeting is now HYBRID!  In person still meets in the Hamilton Library basement.
URL:https://cjiaa.org/event/cji-monthly-body-meeting-hybrid-2/2025-03-05/
LOCATION:Hamilton Library\, Justice Samuel A Alito Junior Way 1\, Hamilton Township\, NJ\, 08619\, United States
GEO:40.2113261;-74.695721
X-APPLE-STRUCTURED-LOCATION;VALUE=URI;X-ADDRESS=Hamilton Library Justice Samuel A Alito Junior Way 1 Hamilton Township NJ 08619 United States;X-APPLE-RADIUS=500;X-TITLE=Justice Samuel A Alito Junior Way 1:geo:-74.695721,40.2113261
END:VEVENT
BEGIN:VEVENT
DTSTART;TZID=America/New_York:20250301T140000
DTEND;TZID=America/New_York:20250301T160000
DTSTAMP:20260420T042350
CREATED:20250210T231904Z
LAST-MODIFIED:20250210T231904Z
UID:10000521-1740837600-1740844800@cjiaa.org
SUMMARY:AXE -CELLENT EVENT
DESCRIPTION:Axe Throwing \n\n\n\n\nTickets $40 – Lunch Included \nLimited Tickets Available \nTickets & Information \nPlease contact Libby (609) 516-3305 \nLaura (609) 649-8861
URL:https://cjiaa.org/event/axe-cellent-event/
LOCATION:Stumpy’s Hatchet House of Princeton\, 745 Alexander Rd\, Princeton\, 08540\, United States
ATTACH;FMTTYPE=image/jpeg:https://cjiaa.org/wp-content/uploads/2025/02/AxeThrowingFlyers25_Version-libby.jpg
GEO:40.3211459;-74.6364921
X-APPLE-STRUCTURED-LOCATION;VALUE=URI;X-ADDRESS=Stumpy’s Hatchet House of Princeton 745 Alexander Rd Princeton 08540 United States;X-APPLE-RADIUS=500;X-TITLE=745 Alexander Rd:geo:-74.6364921,40.3211459
END:VEVENT
BEGIN:VEVENT
DTSTART;TZID=America/New_York:20250228T180000
DTEND;TZID=America/New_York:20250228T190000
DTSTAMP:20260420T042350
CREATED:20241011T202351Z
LAST-MODIFIED:20241011T202351Z
UID:10000253-1740765600-1740769200@cjiaa.org
SUMMARY:CPC/PI Committee Monthly Meeting
DESCRIPTION:
URL:https://cjiaa.org/event/cpc-pi-committee-monthly-meeting/2025-02-28/
LOCATION:Intergroup Office\, Quakerbridge Road 3525\, Hamilton Township\, NJ\, 08619\, United States
ATTACH;FMTTYPE=image/jpg:https://cjiaa.org/wp-content/uploads/2022/04/CPC-PI-Flier-Central-Jersey-Intergroup-REV-3-17-24-pdf-image.jpg
GEO:40.2547923;-74.6794883
X-APPLE-STRUCTURED-LOCATION;VALUE=URI;X-ADDRESS=Intergroup Office Quakerbridge Road 3525 Hamilton Township NJ 08619 United States;X-APPLE-RADIUS=500;X-TITLE=Quakerbridge Road 3525:geo:-74.6794883,40.2547923
END:VEVENT
BEGIN:VEVENT
DTSTART;TZID=America/New_York:20250226T180000
DTEND;TZID=America/New_York:20250226T200000
DTSTAMP:20260420T042350
CREATED:20250208T152118Z
LAST-MODIFIED:20250208T152118Z
UID:10000520-1740592800-1740600000@cjiaa.org
SUMMARY:Talk Is Cheap 24th Anniversary Meeting
DESCRIPTION:Carslake Community Center in the large meeting room. \nFood at 6pm\nSpeaker at 7pm : Ed D from Stepping Stones Group with 10 years sobriety
URL:https://cjiaa.org/event/talk-is-cheap-24th-anniversary-meeting/
LOCATION:Carslake Community Center\, 209 Crosswicks St.\, Bordentown\, 08505\, United States
ATTACH;FMTTYPE=image/jpeg:https://cjiaa.org/wp-content/uploads/2025/02/TalkIsCheapAnniv.jpeg
GEO:40.1459018;-74.702933
X-APPLE-STRUCTURED-LOCATION;VALUE=URI;X-ADDRESS=Carslake Community Center 209 Crosswicks St. Bordentown 08505 United States;X-APPLE-RADIUS=500;X-TITLE=209 Crosswicks St.:geo:-74.702933,40.1459018
END:VEVENT
BEGIN:VEVENT
DTSTART;TZID=America/New_York:20250222T090000
DTEND;TZID=America/New_York:20250222T111500
DTSTAMP:20260420T042350
CREATED:20250207T000417Z
LAST-MODIFIED:20250207T000818Z
UID:10000519-1740214800-1740222900@cjiaa.org
SUMMARY:Harmony Hollow AA Anniversary Speakers Meeting
DESCRIPTION:Food and Fellowship starting at 9am \nMeeting 10-11:15am \nSpeaker: Neil M\, Bucks County\, PA
URL:https://cjiaa.org/event/harmony-hollow-aa-anniversary-speakers-meeting-3/
LOCATION:Harmony Hollow Farm\, Harbourton Mount Airy Road\, Lambertville\, NJ\, 08053\, United States
ATTACH;FMTTYPE=image/jpeg:https://cjiaa.org/wp-content/uploads/2025/02/Harmony-Hollow-February.jpg
GEO:40.3577804;-74.8596079
X-APPLE-STRUCTURED-LOCATION;VALUE=URI;X-ADDRESS=Harmony Hollow Farm Harbourton Mount Airy Road Lambertville NJ 08053 United States;X-APPLE-RADIUS=500;X-TITLE=Harbourton Mount Airy Road:geo:-74.8596079,40.3577804
END:VEVENT
BEGIN:VEVENT
DTSTART;TZID=America/New_York:20250221T173000
DTEND;TZID=America/New_York:20250221T193000
DTSTAMP:20260420T042350
CREATED:20250211T145153Z
LAST-MODIFIED:20250211T223541Z
UID:10000522-1740159000-1740166200@cjiaa.org
SUMMARY:Day by Day 45th Anniversary
DESCRIPTION:5:30pm – pizza \n6:30pm Speaker Pat L 38 years of sobriety
URL:https://cjiaa.org/event/day-by-day-45th-anniversary/
LOCATION:1st Presbyterian Church – Hamilton Square\, 3550 Nottingham Way\, Hamilton\, NJ\, 08619\, United States
ATTACH;FMTTYPE=image/jpeg:https://cjiaa.org/wp-content/uploads/2025/02/DayByDay45th.jpeg
GEO:40.235204;-74.6921599
X-APPLE-STRUCTURED-LOCATION;VALUE=URI;X-ADDRESS=1st Presbyterian Church – Hamilton Square 3550 Nottingham Way Hamilton NJ 08619 United States;X-APPLE-RADIUS=500;X-TITLE=3550 Nottingham Way:geo:-74.6921599,40.235204
END:VEVENT
BEGIN:VEVENT
DTSTART;TZID=America/New_York:20250220T190000
DTEND;TZID=America/New_York:20250220T200000
DTSTAMP:20260420T042350
CREATED:20250203T140956Z
LAST-MODIFIED:20250203T141953Z
UID:10000518-1740078000-1740081600@cjiaa.org
SUMMARY:Join us for a special Delegate's Round Table
DESCRIPTION:Join us for a special Delegate’s Round Table with our guest speaker\, Marita R.\, Trustee-at-Large for the U.S./Canada General Service Board. \nMarita will share her incredible experiences traveling the world\, representing Alcoholics Anonymous\, and how our Traditions and Concepts ensure the hand of AA is always there for those in need. \nhttps://us02web.zoom.us/j/89116677391 \nCapacity: Limited to the first 100 participants \nWe encourage you to share this event with your groups\, sponsors\, and sponsees so they don’t miss this amazing opportunity to hear from Marita. \nTo ensure Area 45 members have priority access\, we kindly ask that this invitation not be shared outside of Area 45. \nThe attached flyer has all the event details—feel free to save the date and join us for this exciting event. \nIf you have any questions\, feel free to reply to this email or contact me directly at snjaadelegate@gmail.com. \nWe look forward to seeing you there! \nIn love and service\, \nWendy Manganaro\nArea 45 Panel 74 Delegate\nTreatment and Accessibilities
URL:https://cjiaa.org/event/join-us-for-a-special-delegates-round-table/
LOCATION: https://us02web.zoom.us/j/89116677391
ATTACH;FMTTYPE=image/jpeg:https://cjiaa.org/wp-content/uploads/2025/02/2.20-Delegate-Roundtable.jpg
END:VEVENT
BEGIN:VEVENT
DTSTART;TZID=America/New_York:20250219T190000
DTEND;TZID=America/New_York:20250219T200000
DTSTAMP:20260420T042350
CREATED:20241003T220016Z
LAST-MODIFIED:20241003T220236Z
UID:10000072-1739991600-1739995200@cjiaa.org
SUMMARY:CJI Steering Committee Meeting
DESCRIPTION:
URL:https://cjiaa.org/event/cji-steering-committee-meeting/2025-02-19/
LOCATION:Intergroup Office\, Quakerbridge Road 3525\, Hamilton Township\, NJ\, 08619\, United States
GEO:40.2547923;-74.6794883
X-APPLE-STRUCTURED-LOCATION;VALUE=URI;X-ADDRESS=Intergroup Office Quakerbridge Road 3525 Hamilton Township NJ 08619 United States;X-APPLE-RADIUS=500;X-TITLE=Quakerbridge Road 3525:geo:-74.6794883,40.2547923
END:VEVENT
BEGIN:VEVENT
DTSTART;TZID=America/New_York:20250218T190000
DTEND;TZID=America/New_York:20250218T200000
DTSTAMP:20260420T042350
CREATED:20241011T123805Z
LAST-MODIFIED:20241011T124240Z
UID:10000133-1739905200-1739908800@cjiaa.org
SUMMARY:H&I Committee Monthly Meeting
DESCRIPTION:Meeting ID: 821 4265 2012\nPasscode: 293127
URL:https://cjiaa.org/event/hi-committee-monthly-meeting/2025-02-18/
LOCATION:https://us02web.zoom.us/j/82142652012?pwd=WyR0VbePnlDQ43S58x0OtGD0hib30A.1
CATEGORIES:CJI Committee Meeting
ATTACH;FMTTYPE=image/jpg:https://cjiaa.org/wp-content/uploads/2024/07/hI_meeting_flyer-pdf-image.jpg
END:VEVENT
BEGIN:VEVENT
DTSTART;TZID=America/New_York:20250215T120000
DTEND;TZID=America/New_York:20250215T130000
DTSTAMP:20260420T042350
CREATED:20241011T201820Z
LAST-MODIFIED:20241011T202021Z
UID:10000193-1739620800-1739624400@cjiaa.org
SUMMARY:Worldwide Grapevine Monthly Meeting
DESCRIPTION:Meeting ID:  871 2801 9459 \nPasscode:  GLM
URL:https://cjiaa.org/event/worldwide-grapevine-monthly-meeting/2025-02-15/
LOCATION:
CATEGORIES:Other AA Event
ATTACH;FMTTYPE=image/jpeg:https://cjiaa.org/wp-content/uploads/2024/03/Grapevine-Monthly-Meeting.1.jpeg
END:VEVENT
BEGIN:VEVENT
DTSTART;TZID=America/New_York:20250212T180000
DTEND;TZID=America/New_York:20250212T190000
DTSTAMP:20260420T042350
CREATED:20241030T214047Z
LAST-MODIFIED:20241030T214047Z
UID:10000318-1739383200-1739386800@cjiaa.org
SUMMARY:CJI Social Committee Monthly Meeting
DESCRIPTION:
URL:https://cjiaa.org/event/cji-social-committee-monthly-meeting/2025-02-12/
LOCATION:Intergroup Office\, Quakerbridge Road 3525\, Hamilton Township\, NJ\, 08619\, United States
CATEGORIES:CJI Committee Meeting
GEO:40.2547923;-74.6794883
X-APPLE-STRUCTURED-LOCATION;VALUE=URI;X-ADDRESS=Intergroup Office Quakerbridge Road 3525 Hamilton Township NJ 08619 United States;X-APPLE-RADIUS=500;X-TITLE=Quakerbridge Road 3525:geo:-74.6794883,40.2547923
END:VEVENT
BEGIN:VEVENT
DTSTART;TZID=America/New_York:20250211T163000
DTEND;TZID=America/New_York:20250211T183000
DTSTAMP:20260420T042350
CREATED:20250115T234859Z
LAST-MODIFIED:20250116T000355Z
UID:10000516-1739291400-1739298600@cjiaa.org
SUMMARY:Feelings In Sobriety
DESCRIPTION:Food and Fellowship at 4:30pm\nMeeting at 5:30pm \nCome have pizza and enjoy our speaker: \nJohn M with 47 years sobriety
URL:https://cjiaa.org/event/feelings-in-sobriety/
LOCATION:1st Presbyterian Church – Hamilton Square\, 3550 Nottingham Way\, Hamilton\, NJ\, 08619\, United States
ATTACH;FMTTYPE=application/pdf:https://cjiaa.org/wp-content/uploads/2025/01/FeelingsInSobrietyAnniv.pdf
GEO:40.235204;-74.6921599
X-APPLE-STRUCTURED-LOCATION;VALUE=URI;X-ADDRESS=1st Presbyterian Church – Hamilton Square 3550 Nottingham Way Hamilton NJ 08619 United States;X-APPLE-RADIUS=500;X-TITLE=3550 Nottingham Way:geo:-74.6921599,40.235204
END:VEVENT
BEGIN:VEVENT
DTSTART;TZID=America/New_York:20250207T190000
DTEND;TZID=America/New_York:20250207T210000
DTSTAMP:20260420T042350
CREATED:20250111T223302Z
LAST-MODIFIED:20250118T034513Z
UID:10000514-1738954800-1738962000@cjiaa.org
SUMMARY:"If You Want What We Have" 12th Anniversary
DESCRIPTION:7:00 PM Potluck Dinner and Dessert\nFeel free to bring a favorite dish to share 😊 \n8:00 PM Guest Speaker in the Main Sanctuary \nPearson Memorial United Methodist Church 71 Pearson Drive\, Hamilton\, NJ \nGuest Speaker: \nMark G.\nFrom the Masonville Group \nWith 41 years of continuous sobriety \n\n\n\nLit on Wheels will be available before the meeting
URL:https://cjiaa.org/event/if-you-want-what-we-have-12th-anniversary/
LOCATION:Pearson Memorial United Methodist Church\, 71 Pearson Drive\, Hamilton\, United States
ATTACH;FMTTYPE=image/jpeg:https://cjiaa.org/wp-content/uploads/2022/04/IYWWWH-Anniversary-Flyer-2025-1.jpg
GEO:40.1868875;-74.7061324
X-APPLE-STRUCTURED-LOCATION;VALUE=URI;X-ADDRESS=Pearson Memorial United Methodist Church 71 Pearson Drive Hamilton United States;X-APPLE-RADIUS=500;X-TITLE=71 Pearson Drive:geo:-74.7061324,40.1868875
END:VEVENT
END:VCALENDAR