BEGIN:VCALENDAR
VERSION:2.0
PRODID:-//Central Jersey Intergroup - ECPv6.15.20//NONSGML v1.0//EN
CALSCALE:GREGORIAN
METHOD:PUBLISH
X-WR-CALNAME:Central Jersey Intergroup
X-ORIGINAL-URL:https://cjiaa.org
X-WR-CALDESC:Events for Central Jersey Intergroup
REFRESH-INTERVAL;VALUE=DURATION:PT1H
X-Robots-Tag:noindex
X-PUBLISHED-TTL:PT1H
BEGIN:VTIMEZONE
TZID:America/New_York
BEGIN:DAYLIGHT
TZOFFSETFROM:-0500
TZOFFSETTO:-0400
TZNAME:EDT
DTSTART:20270314T070000
END:DAYLIGHT
BEGIN:STANDARD
TZOFFSETFROM:-0400
TZOFFSETTO:-0500
TZNAME:EST
DTSTART:20271107T060000
END:STANDARD
BEGIN:DAYLIGHT
TZOFFSETFROM:-0500
TZOFFSETTO:-0400
TZNAME:EDT
DTSTART:20280312T070000
END:DAYLIGHT
BEGIN:STANDARD
TZOFFSETFROM:-0400
TZOFFSETTO:-0500
TZNAME:EST
DTSTART:20281105T060000
END:STANDARD
BEGIN:DAYLIGHT
TZOFFSETFROM:-0500
TZOFFSETTO:-0400
TZNAME:EDT
DTSTART:20290311T070000
END:DAYLIGHT
BEGIN:STANDARD
TZOFFSETFROM:-0400
TZOFFSETTO:-0500
TZNAME:EST
DTSTART:20291104T060000
END:STANDARD
END:VTIMEZONE
BEGIN:VEVENT
DTSTART;TZID=America/New_York:20280815T190000
DTEND;TZID=America/New_York:20280815T200000
DTSTAMP:20260420T234530
CREATED:20241011T123805Z
LAST-MODIFIED:20241011T124240Z
UID:10000175-1849978800-1849982400@cjiaa.org
SUMMARY:H&I Committee Monthly Meeting
DESCRIPTION:Meeting ID: 821 4265 2012\nPasscode: 293127
URL:https://cjiaa.org/event/hi-committee-monthly-meeting/2028-08-15/
LOCATION:https://us02web.zoom.us/j/82142652012?pwd=WyR0VbePnlDQ43S58x0OtGD0hib30A.1
CATEGORIES:CJI Committee Meeting
ATTACH;FMTTYPE=image/jpg:https://cjiaa.org/wp-content/uploads/2024/07/hI_meeting_flyer-pdf-image.jpg
END:VEVENT
BEGIN:VEVENT
DTSTART;TZID=America/New_York:20280816T190000
DTEND;TZID=America/New_York:20280816T200000
DTSTAMP:20260420T234530
CREATED:20241003T220016Z
LAST-MODIFIED:20241003T220236Z
UID:10000114-1850065200-1850068800@cjiaa.org
SUMMARY:CJI Steering Committee Meeting
DESCRIPTION:
URL:https://cjiaa.org/event/cji-steering-committee-meeting/2028-08-16/
LOCATION:Intergroup Office\, Quakerbridge Road 3525\, Hamilton Township\, NJ\, 08619\, United States
GEO:40.2547923;-74.6794883
X-APPLE-STRUCTURED-LOCATION;VALUE=URI;X-ADDRESS=Intergroup Office Quakerbridge Road 3525 Hamilton Township NJ 08619 United States;X-APPLE-RADIUS=500;X-TITLE=Quakerbridge Road 3525:geo:-74.6794883,40.2547923
END:VEVENT
BEGIN:VEVENT
DTSTART;TZID=America/New_York:20280819T120000
DTEND;TZID=America/New_York:20280819T130000
DTSTAMP:20260420T234530
CREATED:20241011T201820Z
LAST-MODIFIED:20241011T202021Z
UID:10000235-1850299200-1850302800@cjiaa.org
SUMMARY:Worldwide Grapevine Monthly Meeting
DESCRIPTION:Meeting ID:  871 2801 9459 \nPasscode:  GLM
URL:https://cjiaa.org/event/worldwide-grapevine-monthly-meeting/2028-08-19/
LOCATION:
CATEGORIES:Other AA Event
ATTACH;FMTTYPE=image/jpeg:https://cjiaa.org/wp-content/uploads/2024/03/Grapevine-Monthly-Meeting.1.jpeg
END:VEVENT
BEGIN:VEVENT
DTSTART;TZID=America/New_York:20280825T180000
DTEND;TZID=America/New_York:20280825T190000
DTSTAMP:20260420T234530
CREATED:20241011T202351Z
LAST-MODIFIED:20241011T202351Z
UID:10000295-1850839200-1850842800@cjiaa.org
SUMMARY:CPC/PI Committee Monthly Meeting
DESCRIPTION:
URL:https://cjiaa.org/event/cpc-pi-committee-monthly-meeting/2028-08-25/
LOCATION:Intergroup Office\, Quakerbridge Road 3525\, Hamilton Township\, NJ\, 08619\, United States
ATTACH;FMTTYPE=image/jpg:https://cjiaa.org/wp-content/uploads/2022/04/CPC-PI-Flier-Central-Jersey-Intergroup-REV-3-17-24-pdf-image.jpg
GEO:40.2547923;-74.6794883
X-APPLE-STRUCTURED-LOCATION;VALUE=URI;X-ADDRESS=Intergroup Office Quakerbridge Road 3525 Hamilton Township NJ 08619 United States;X-APPLE-RADIUS=500;X-TITLE=Quakerbridge Road 3525:geo:-74.6794883,40.2547923
END:VEVENT
BEGIN:VEVENT
DTSTART;TZID=America/New_York:20280901T140000
DTEND;TZID=America/New_York:20280901T150000
DTSTAMP:20260420T234530
CREATED:20260202T215957Z
LAST-MODIFIED:20260202T215957Z
UID:10000669-1851429600-1851433200@cjiaa.org
SUMMARY:Public Information Monthly Meeting
DESCRIPTION:
URL:https://cjiaa.org/event/public-information-monthly-meeting/2028-09-01/
LOCATION:Intergroup Office\, Quakerbridge Road 3525\, Hamilton Township\, NJ\, 08619\, United States
CATEGORIES:CJI Committee Meeting
GEO:40.2547923;-74.6794883
X-APPLE-STRUCTURED-LOCATION;VALUE=URI;X-ADDRESS=Intergroup Office Quakerbridge Road 3525 Hamilton Township NJ 08619 United States;X-APPLE-RADIUS=500;X-TITLE=Quakerbridge Road 3525:geo:-74.6794883,40.2547923
END:VEVENT
BEGIN:VEVENT
DTSTART;TZID=America/New_York:20280906T190000
DTEND;TZID=America/New_York:20280906T200000
DTSTAMP:20260420T234530
CREATED:20241003T214406Z
LAST-MODIFIED:20241003T214407Z
UID:10000052-1851879600-1851883200@cjiaa.org
SUMMARY:CJI Monthly Body Meeting – Hybrid
DESCRIPTION:Meeting is now HYBRID!  In person still meets in the Hamilton Library basement.
URL:https://cjiaa.org/event/cji-monthly-body-meeting-hybrid-2/2028-09-06/
LOCATION:Hamilton Library\, Justice Samuel A Alito Junior Way 1\, Hamilton Township\, NJ\, 08619\, United States
GEO:40.2113261;-74.695721
X-APPLE-STRUCTURED-LOCATION;VALUE=URI;X-ADDRESS=Hamilton Library Justice Samuel A Alito Junior Way 1 Hamilton Township NJ 08619 United States;X-APPLE-RADIUS=500;X-TITLE=Justice Samuel A Alito Junior Way 1:geo:-74.695721,40.2113261
END:VEVENT
BEGIN:VEVENT
DTSTART;TZID=America/New_York:20280913T180000
DTEND;TZID=America/New_York:20280913T190000
DTSTAMP:20260420T234530
CREATED:20241030T214047Z
LAST-MODIFIED:20241030T214047Z
UID:10000361-1852480800-1852484400@cjiaa.org
SUMMARY:CJI Social Committee Monthly Meeting
DESCRIPTION:
URL:https://cjiaa.org/event/cji-social-committee-monthly-meeting/2028-09-13/
LOCATION:Intergroup Office\, Quakerbridge Road 3525\, Hamilton Township\, NJ\, 08619\, United States
CATEGORIES:CJI Committee Meeting
GEO:40.2547923;-74.6794883
X-APPLE-STRUCTURED-LOCATION;VALUE=URI;X-ADDRESS=Intergroup Office Quakerbridge Road 3525 Hamilton Township NJ 08619 United States;X-APPLE-RADIUS=500;X-TITLE=Quakerbridge Road 3525:geo:-74.6794883,40.2547923
END:VEVENT
BEGIN:VEVENT
DTSTART;TZID=America/New_York:20280916T120000
DTEND;TZID=America/New_York:20280916T130000
DTSTAMP:20260420T234530
CREATED:20241011T201820Z
LAST-MODIFIED:20241011T202021Z
UID:10000236-1852718400-1852722000@cjiaa.org
SUMMARY:Worldwide Grapevine Monthly Meeting
DESCRIPTION:Meeting ID:  871 2801 9459 \nPasscode:  GLM
URL:https://cjiaa.org/event/worldwide-grapevine-monthly-meeting/2028-09-16/
LOCATION:
CATEGORIES:Other AA Event
ATTACH;FMTTYPE=image/jpeg:https://cjiaa.org/wp-content/uploads/2024/03/Grapevine-Monthly-Meeting.1.jpeg
END:VEVENT
BEGIN:VEVENT
DTSTART;TZID=America/New_York:20280919T190000
DTEND;TZID=America/New_York:20280919T200000
DTSTAMP:20260420T234530
CREATED:20241011T123805Z
LAST-MODIFIED:20241011T124240Z
UID:10000176-1853002800-1853006400@cjiaa.org
SUMMARY:H&I Committee Monthly Meeting
DESCRIPTION:Meeting ID: 821 4265 2012\nPasscode: 293127
URL:https://cjiaa.org/event/hi-committee-monthly-meeting/2028-09-19/
LOCATION:https://us02web.zoom.us/j/82142652012?pwd=WyR0VbePnlDQ43S58x0OtGD0hib30A.1
CATEGORIES:CJI Committee Meeting
ATTACH;FMTTYPE=image/jpg:https://cjiaa.org/wp-content/uploads/2024/07/hI_meeting_flyer-pdf-image.jpg
END:VEVENT
BEGIN:VEVENT
DTSTART;TZID=America/New_York:20280920T190000
DTEND;TZID=America/New_York:20280920T200000
DTSTAMP:20260420T234530
CREATED:20241003T220016Z
LAST-MODIFIED:20241003T220236Z
UID:10000115-1853089200-1853092800@cjiaa.org
SUMMARY:CJI Steering Committee Meeting
DESCRIPTION:
URL:https://cjiaa.org/event/cji-steering-committee-meeting/2028-09-20/
LOCATION:Intergroup Office\, Quakerbridge Road 3525\, Hamilton Township\, NJ\, 08619\, United States
GEO:40.2547923;-74.6794883
X-APPLE-STRUCTURED-LOCATION;VALUE=URI;X-ADDRESS=Intergroup Office Quakerbridge Road 3525 Hamilton Township NJ 08619 United States;X-APPLE-RADIUS=500;X-TITLE=Quakerbridge Road 3525:geo:-74.6794883,40.2547923
END:VEVENT
BEGIN:VEVENT
DTSTART;TZID=America/New_York:20280922T180000
DTEND;TZID=America/New_York:20280922T190000
DTSTAMP:20260420T234530
CREATED:20241011T202351Z
LAST-MODIFIED:20241011T202351Z
UID:10000296-1853258400-1853262000@cjiaa.org
SUMMARY:CPC/PI Committee Monthly Meeting
DESCRIPTION:
URL:https://cjiaa.org/event/cpc-pi-committee-monthly-meeting/2028-09-22/
LOCATION:Intergroup Office\, Quakerbridge Road 3525\, Hamilton Township\, NJ\, 08619\, United States
ATTACH;FMTTYPE=image/jpg:https://cjiaa.org/wp-content/uploads/2022/04/CPC-PI-Flier-Central-Jersey-Intergroup-REV-3-17-24-pdf-image.jpg
GEO:40.2547923;-74.6794883
X-APPLE-STRUCTURED-LOCATION;VALUE=URI;X-ADDRESS=Intergroup Office Quakerbridge Road 3525 Hamilton Township NJ 08619 United States;X-APPLE-RADIUS=500;X-TITLE=Quakerbridge Road 3525:geo:-74.6794883,40.2547923
END:VEVENT
BEGIN:VEVENT
DTSTART;TZID=America/New_York:20281001T140000
DTEND;TZID=America/New_York:20281001T150000
DTSTAMP:20260420T234530
CREATED:20260202T215957Z
LAST-MODIFIED:20260202T215957Z
UID:10000613-1854021600-1854025200@cjiaa.org
SUMMARY:Public Information Monthly Meeting
DESCRIPTION:
URL:https://cjiaa.org/event/public-information-monthly-meeting/2028-10-01/
LOCATION:Intergroup Office\, Quakerbridge Road 3525\, Hamilton Township\, NJ\, 08619\, United States
CATEGORIES:CJI Committee Meeting
GEO:40.2547923;-74.6794883
X-APPLE-STRUCTURED-LOCATION;VALUE=URI;X-ADDRESS=Intergroup Office Quakerbridge Road 3525 Hamilton Township NJ 08619 United States;X-APPLE-RADIUS=500;X-TITLE=Quakerbridge Road 3525:geo:-74.6794883,40.2547923
END:VEVENT
BEGIN:VEVENT
DTSTART;TZID=America/New_York:20281004T190000
DTEND;TZID=America/New_York:20281004T200000
DTSTAMP:20260420T234530
CREATED:20241003T214406Z
LAST-MODIFIED:20241003T214407Z
UID:10000053-1854298800-1854302400@cjiaa.org
SUMMARY:CJI Monthly Body Meeting – Hybrid
DESCRIPTION:Meeting is now HYBRID!  In person still meets in the Hamilton Library basement.
URL:https://cjiaa.org/event/cji-monthly-body-meeting-hybrid-2/2028-10-04/
LOCATION:Hamilton Library\, Justice Samuel A Alito Junior Way 1\, Hamilton Township\, NJ\, 08619\, United States
GEO:40.2113261;-74.695721
X-APPLE-STRUCTURED-LOCATION;VALUE=URI;X-ADDRESS=Hamilton Library Justice Samuel A Alito Junior Way 1 Hamilton Township NJ 08619 United States;X-APPLE-RADIUS=500;X-TITLE=Justice Samuel A Alito Junior Way 1:geo:-74.695721,40.2113261
END:VEVENT
BEGIN:VEVENT
DTSTART;TZID=America/New_York:20281011T180000
DTEND;TZID=America/New_York:20281011T190000
DTSTAMP:20260420T234530
CREATED:20241030T214047Z
LAST-MODIFIED:20241030T214047Z
UID:10000362-1854900000-1854903600@cjiaa.org
SUMMARY:CJI Social Committee Monthly Meeting
DESCRIPTION:
URL:https://cjiaa.org/event/cji-social-committee-monthly-meeting/2028-10-11/
LOCATION:Intergroup Office\, Quakerbridge Road 3525\, Hamilton Township\, NJ\, 08619\, United States
CATEGORIES:CJI Committee Meeting
GEO:40.2547923;-74.6794883
X-APPLE-STRUCTURED-LOCATION;VALUE=URI;X-ADDRESS=Intergroup Office Quakerbridge Road 3525 Hamilton Township NJ 08619 United States;X-APPLE-RADIUS=500;X-TITLE=Quakerbridge Road 3525:geo:-74.6794883,40.2547923
END:VEVENT
BEGIN:VEVENT
DTSTART;TZID=America/New_York:20281017T190000
DTEND;TZID=America/New_York:20281017T200000
DTSTAMP:20260420T234530
CREATED:20241011T123805Z
LAST-MODIFIED:20241011T124240Z
UID:10000177-1855422000-1855425600@cjiaa.org
SUMMARY:H&I Committee Monthly Meeting
DESCRIPTION:Meeting ID: 821 4265 2012\nPasscode: 293127
URL:https://cjiaa.org/event/hi-committee-monthly-meeting/2028-10-17/
LOCATION:https://us02web.zoom.us/j/82142652012?pwd=WyR0VbePnlDQ43S58x0OtGD0hib30A.1
CATEGORIES:CJI Committee Meeting
ATTACH;FMTTYPE=image/jpg:https://cjiaa.org/wp-content/uploads/2024/07/hI_meeting_flyer-pdf-image.jpg
END:VEVENT
BEGIN:VEVENT
DTSTART;TZID=America/New_York:20281018T190000
DTEND;TZID=America/New_York:20281018T200000
DTSTAMP:20260420T234530
CREATED:20241003T220016Z
LAST-MODIFIED:20241003T220236Z
UID:10000116-1855508400-1855512000@cjiaa.org
SUMMARY:CJI Steering Committee Meeting
DESCRIPTION:
URL:https://cjiaa.org/event/cji-steering-committee-meeting/2028-10-18/
LOCATION:Intergroup Office\, Quakerbridge Road 3525\, Hamilton Township\, NJ\, 08619\, United States
GEO:40.2547923;-74.6794883
X-APPLE-STRUCTURED-LOCATION;VALUE=URI;X-ADDRESS=Intergroup Office Quakerbridge Road 3525 Hamilton Township NJ 08619 United States;X-APPLE-RADIUS=500;X-TITLE=Quakerbridge Road 3525:geo:-74.6794883,40.2547923
END:VEVENT
BEGIN:VEVENT
DTSTART;TZID=America/New_York:20281021T120000
DTEND;TZID=America/New_York:20281021T130000
DTSTAMP:20260420T234530
CREATED:20241011T201820Z
LAST-MODIFIED:20241011T202021Z
UID:10000237-1855742400-1855746000@cjiaa.org
SUMMARY:Worldwide Grapevine Monthly Meeting
DESCRIPTION:Meeting ID:  871 2801 9459 \nPasscode:  GLM
URL:https://cjiaa.org/event/worldwide-grapevine-monthly-meeting/2028-10-21/
LOCATION:
CATEGORIES:Other AA Event
ATTACH;FMTTYPE=image/jpeg:https://cjiaa.org/wp-content/uploads/2024/03/Grapevine-Monthly-Meeting.1.jpeg
END:VEVENT
BEGIN:VEVENT
DTSTART;TZID=America/New_York:20281027T180000
DTEND;TZID=America/New_York:20281027T190000
DTSTAMP:20260420T234530
CREATED:20241011T202351Z
LAST-MODIFIED:20241011T202351Z
UID:10000297-1856282400-1856286000@cjiaa.org
SUMMARY:CPC/PI Committee Monthly Meeting
DESCRIPTION:
URL:https://cjiaa.org/event/cpc-pi-committee-monthly-meeting/2028-10-27/
LOCATION:Intergroup Office\, Quakerbridge Road 3525\, Hamilton Township\, NJ\, 08619\, United States
ATTACH;FMTTYPE=image/jpg:https://cjiaa.org/wp-content/uploads/2022/04/CPC-PI-Flier-Central-Jersey-Intergroup-REV-3-17-24-pdf-image.jpg
GEO:40.2547923;-74.6794883
X-APPLE-STRUCTURED-LOCATION;VALUE=URI;X-ADDRESS=Intergroup Office Quakerbridge Road 3525 Hamilton Township NJ 08619 United States;X-APPLE-RADIUS=500;X-TITLE=Quakerbridge Road 3525:geo:-74.6794883,40.2547923
END:VEVENT
BEGIN:VEVENT
DTSTART;TZID=America/New_York:20281101T140000
DTEND;TZID=America/New_York:20281101T150000
DTSTAMP:20260420T234530
CREATED:20260202T215957Z
LAST-MODIFIED:20260202T215957Z
UID:10000670-1856700000-1856703600@cjiaa.org
SUMMARY:Public Information Monthly Meeting
DESCRIPTION:
URL:https://cjiaa.org/event/public-information-monthly-meeting/2028-11-01/
LOCATION:Intergroup Office\, Quakerbridge Road 3525\, Hamilton Township\, NJ\, 08619\, United States
CATEGORIES:CJI Committee Meeting
GEO:40.2547923;-74.6794883
X-APPLE-STRUCTURED-LOCATION;VALUE=URI;X-ADDRESS=Intergroup Office Quakerbridge Road 3525 Hamilton Township NJ 08619 United States;X-APPLE-RADIUS=500;X-TITLE=Quakerbridge Road 3525:geo:-74.6794883,40.2547923
END:VEVENT
BEGIN:VEVENT
DTSTART;TZID=America/New_York:20281101T190000
DTEND;TZID=America/New_York:20281101T200000
DTSTAMP:20260420T234530
CREATED:20241003T214406Z
LAST-MODIFIED:20241003T214407Z
UID:10000054-1856718000-1856721600@cjiaa.org
SUMMARY:CJI Monthly Body Meeting – Hybrid
DESCRIPTION:Meeting is now HYBRID!  In person still meets in the Hamilton Library basement.
URL:https://cjiaa.org/event/cji-monthly-body-meeting-hybrid-2/2028-11-01/
LOCATION:Hamilton Library\, Justice Samuel A Alito Junior Way 1\, Hamilton Township\, NJ\, 08619\, United States
GEO:40.2113261;-74.695721
X-APPLE-STRUCTURED-LOCATION;VALUE=URI;X-ADDRESS=Hamilton Library Justice Samuel A Alito Junior Way 1 Hamilton Township NJ 08619 United States;X-APPLE-RADIUS=500;X-TITLE=Justice Samuel A Alito Junior Way 1:geo:-74.695721,40.2113261
END:VEVENT
BEGIN:VEVENT
DTSTART;TZID=America/New_York:20281108T180000
DTEND;TZID=America/New_York:20281108T190000
DTSTAMP:20260420T234530
CREATED:20241030T214047Z
LAST-MODIFIED:20241030T214047Z
UID:10000363-1857319200-1857322800@cjiaa.org
SUMMARY:CJI Social Committee Monthly Meeting
DESCRIPTION:
URL:https://cjiaa.org/event/cji-social-committee-monthly-meeting/2028-11-08/
LOCATION:Intergroup Office\, Quakerbridge Road 3525\, Hamilton Township\, NJ\, 08619\, United States
CATEGORIES:CJI Committee Meeting
GEO:40.2547923;-74.6794883
X-APPLE-STRUCTURED-LOCATION;VALUE=URI;X-ADDRESS=Intergroup Office Quakerbridge Road 3525 Hamilton Township NJ 08619 United States;X-APPLE-RADIUS=500;X-TITLE=Quakerbridge Road 3525:geo:-74.6794883,40.2547923
END:VEVENT
BEGIN:VEVENT
DTSTART;TZID=America/New_York:20281115T190000
DTEND;TZID=America/New_York:20281115T200000
DTSTAMP:20260420T234530
CREATED:20241003T220016Z
LAST-MODIFIED:20241003T220236Z
UID:10000117-1857927600-1857931200@cjiaa.org
SUMMARY:CJI Steering Committee Meeting
DESCRIPTION:
URL:https://cjiaa.org/event/cji-steering-committee-meeting/2028-11-15/
LOCATION:Intergroup Office\, Quakerbridge Road 3525\, Hamilton Township\, NJ\, 08619\, United States
GEO:40.2547923;-74.6794883
X-APPLE-STRUCTURED-LOCATION;VALUE=URI;X-ADDRESS=Intergroup Office Quakerbridge Road 3525 Hamilton Township NJ 08619 United States;X-APPLE-RADIUS=500;X-TITLE=Quakerbridge Road 3525:geo:-74.6794883,40.2547923
END:VEVENT
BEGIN:VEVENT
DTSTART;TZID=America/New_York:20281118T120000
DTEND;TZID=America/New_York:20281118T130000
DTSTAMP:20260420T234530
CREATED:20241011T201820Z
LAST-MODIFIED:20241011T202021Z
UID:10000238-1858161600-1858165200@cjiaa.org
SUMMARY:Worldwide Grapevine Monthly Meeting
DESCRIPTION:Meeting ID:  871 2801 9459 \nPasscode:  GLM
URL:https://cjiaa.org/event/worldwide-grapevine-monthly-meeting/2028-11-18/
LOCATION:
CATEGORIES:Other AA Event
ATTACH;FMTTYPE=image/jpeg:https://cjiaa.org/wp-content/uploads/2024/03/Grapevine-Monthly-Meeting.1.jpeg
END:VEVENT
BEGIN:VEVENT
DTSTART;TZID=America/New_York:20281121T190000
DTEND;TZID=America/New_York:20281121T200000
DTSTAMP:20260420T234530
CREATED:20241011T123805Z
LAST-MODIFIED:20241011T124240Z
UID:10000178-1858446000-1858449600@cjiaa.org
SUMMARY:H&I Committee Monthly Meeting
DESCRIPTION:Meeting ID: 821 4265 2012\nPasscode: 293127
URL:https://cjiaa.org/event/hi-committee-monthly-meeting/2028-11-21/
LOCATION:https://us02web.zoom.us/j/82142652012?pwd=WyR0VbePnlDQ43S58x0OtGD0hib30A.1
CATEGORIES:CJI Committee Meeting
ATTACH;FMTTYPE=image/jpg:https://cjiaa.org/wp-content/uploads/2024/07/hI_meeting_flyer-pdf-image.jpg
END:VEVENT
BEGIN:VEVENT
DTSTART;TZID=America/New_York:20281124T180000
DTEND;TZID=America/New_York:20281124T190000
DTSTAMP:20260420T234530
CREATED:20241011T202351Z
LAST-MODIFIED:20241011T202351Z
UID:10000298-1858701600-1858705200@cjiaa.org
SUMMARY:CPC/PI Committee Monthly Meeting
DESCRIPTION:
URL:https://cjiaa.org/event/cpc-pi-committee-monthly-meeting/2028-11-24/
LOCATION:Intergroup Office\, Quakerbridge Road 3525\, Hamilton Township\, NJ\, 08619\, United States
ATTACH;FMTTYPE=image/jpg:https://cjiaa.org/wp-content/uploads/2022/04/CPC-PI-Flier-Central-Jersey-Intergroup-REV-3-17-24-pdf-image.jpg
GEO:40.2547923;-74.6794883
X-APPLE-STRUCTURED-LOCATION;VALUE=URI;X-ADDRESS=Intergroup Office Quakerbridge Road 3525 Hamilton Township NJ 08619 United States;X-APPLE-RADIUS=500;X-TITLE=Quakerbridge Road 3525:geo:-74.6794883,40.2547923
END:VEVENT
BEGIN:VEVENT
DTSTART;TZID=America/New_York:20281201T140000
DTEND;TZID=America/New_York:20281201T150000
DTSTAMP:20260420T234530
CREATED:20260202T215957Z
LAST-MODIFIED:20260202T215957Z
UID:10000671-1859292000-1859295600@cjiaa.org
SUMMARY:Public Information Monthly Meeting
DESCRIPTION:
URL:https://cjiaa.org/event/public-information-monthly-meeting/2028-12-01/
LOCATION:Intergroup Office\, Quakerbridge Road 3525\, Hamilton Township\, NJ\, 08619\, United States
CATEGORIES:CJI Committee Meeting
GEO:40.2547923;-74.6794883
X-APPLE-STRUCTURED-LOCATION;VALUE=URI;X-ADDRESS=Intergroup Office Quakerbridge Road 3525 Hamilton Township NJ 08619 United States;X-APPLE-RADIUS=500;X-TITLE=Quakerbridge Road 3525:geo:-74.6794883,40.2547923
END:VEVENT
BEGIN:VEVENT
DTSTART;TZID=America/New_York:20281206T190000
DTEND;TZID=America/New_York:20281206T200000
DTSTAMP:20260420T234530
CREATED:20241003T214406Z
LAST-MODIFIED:20241003T214407Z
UID:10000055-1859742000-1859745600@cjiaa.org
SUMMARY:CJI Monthly Body Meeting – Hybrid
DESCRIPTION:Meeting is now HYBRID!  In person still meets in the Hamilton Library basement.
URL:https://cjiaa.org/event/cji-monthly-body-meeting-hybrid-2/2028-12-06/
LOCATION:Hamilton Library\, Justice Samuel A Alito Junior Way 1\, Hamilton Township\, NJ\, 08619\, United States
GEO:40.2113261;-74.695721
X-APPLE-STRUCTURED-LOCATION;VALUE=URI;X-ADDRESS=Hamilton Library Justice Samuel A Alito Junior Way 1 Hamilton Township NJ 08619 United States;X-APPLE-RADIUS=500;X-TITLE=Justice Samuel A Alito Junior Way 1:geo:-74.695721,40.2113261
END:VEVENT
BEGIN:VEVENT
DTSTART;TZID=America/New_York:20281213T180000
DTEND;TZID=America/New_York:20281213T190000
DTSTAMP:20260420T234530
CREATED:20241030T214047Z
LAST-MODIFIED:20241030T214047Z
UID:10000364-1860343200-1860346800@cjiaa.org
SUMMARY:CJI Social Committee Monthly Meeting
DESCRIPTION:
URL:https://cjiaa.org/event/cji-social-committee-monthly-meeting/2028-12-13/
LOCATION:Intergroup Office\, Quakerbridge Road 3525\, Hamilton Township\, NJ\, 08619\, United States
CATEGORIES:CJI Committee Meeting
GEO:40.2547923;-74.6794883
X-APPLE-STRUCTURED-LOCATION;VALUE=URI;X-ADDRESS=Intergroup Office Quakerbridge Road 3525 Hamilton Township NJ 08619 United States;X-APPLE-RADIUS=500;X-TITLE=Quakerbridge Road 3525:geo:-74.6794883,40.2547923
END:VEVENT
BEGIN:VEVENT
DTSTART;TZID=America/New_York:20281216T120000
DTEND;TZID=America/New_York:20281216T130000
DTSTAMP:20260420T234530
CREATED:20241011T201820Z
LAST-MODIFIED:20241011T202021Z
UID:10000239-1860580800-1860584400@cjiaa.org
SUMMARY:Worldwide Grapevine Monthly Meeting
DESCRIPTION:Meeting ID:  871 2801 9459 \nPasscode:  GLM
URL:https://cjiaa.org/event/worldwide-grapevine-monthly-meeting/2028-12-16/
LOCATION:
CATEGORIES:Other AA Event
ATTACH;FMTTYPE=image/jpeg:https://cjiaa.org/wp-content/uploads/2024/03/Grapevine-Monthly-Meeting.1.jpeg
END:VEVENT
BEGIN:VEVENT
DTSTART;TZID=America/New_York:20281219T190000
DTEND;TZID=America/New_York:20281219T200000
DTSTAMP:20260420T234530
CREATED:20241011T123805Z
LAST-MODIFIED:20241011T124240Z
UID:10000179-1860865200-1860868800@cjiaa.org
SUMMARY:H&I Committee Monthly Meeting
DESCRIPTION:Meeting ID: 821 4265 2012\nPasscode: 293127
URL:https://cjiaa.org/event/hi-committee-monthly-meeting/2028-12-19/
LOCATION:https://us02web.zoom.us/j/82142652012?pwd=WyR0VbePnlDQ43S58x0OtGD0hib30A.1
CATEGORIES:CJI Committee Meeting
ATTACH;FMTTYPE=image/jpg:https://cjiaa.org/wp-content/uploads/2024/07/hI_meeting_flyer-pdf-image.jpg
END:VEVENT
END:VCALENDAR