BEGIN:VCALENDAR
VERSION:2.0
PRODID:-//Central Jersey Intergroup - ECPv6.15.20//NONSGML v1.0//EN
CALSCALE:GREGORIAN
METHOD:PUBLISH
X-WR-CALNAME:Central Jersey Intergroup
X-ORIGINAL-URL:https://cjiaa.org
X-WR-CALDESC:Events for Central Jersey Intergroup
REFRESH-INTERVAL;VALUE=DURATION:PT1H
X-Robots-Tag:noindex
X-PUBLISHED-TTL:PT1H
BEGIN:VTIMEZONE
TZID:America/New_York
BEGIN:DAYLIGHT
TZOFFSETFROM:-0500
TZOFFSETTO:-0400
TZNAME:EDT
DTSTART:20230312T070000
END:DAYLIGHT
BEGIN:STANDARD
TZOFFSETFROM:-0400
TZOFFSETTO:-0500
TZNAME:EST
DTSTART:20231105T060000
END:STANDARD
BEGIN:DAYLIGHT
TZOFFSETFROM:-0500
TZOFFSETTO:-0400
TZNAME:EDT
DTSTART:20240310T070000
END:DAYLIGHT
BEGIN:STANDARD
TZOFFSETFROM:-0400
TZOFFSETTO:-0500
TZNAME:EST
DTSTART:20241103T060000
END:STANDARD
BEGIN:DAYLIGHT
TZOFFSETFROM:-0500
TZOFFSETTO:-0400
TZNAME:EDT
DTSTART:20250309T070000
END:DAYLIGHT
BEGIN:STANDARD
TZOFFSETFROM:-0400
TZOFFSETTO:-0500
TZNAME:EST
DTSTART:20251102T060000
END:STANDARD
END:VTIMEZONE
BEGIN:VEVENT
DTSTART;TZID=America/New_York:20241130T100000
DTEND;TZID=America/New_York:20241130T113000
DTSTAMP:20260420T222924
CREATED:20241119T113243Z
LAST-MODIFIED:20241119T113243Z
UID:10000379-1732960800-1732966200@cjiaa.org
SUMMARY:Harmony Hollow November Meeting
DESCRIPTION:
URL:https://cjiaa.org/event/harmony-hollow-november-meeting/
LOCATION:Harmony Hollow Farm\, Harbourton Mount Airy Road\, Lambertville\, NJ\, 08053\, United States
CATEGORIES:Other AA Event
ATTACH;FMTTYPE=image/jpg:https://cjiaa.org/wp-content/uploads/2024/11/Harmony-Hollow-November--pdf-image.jpg
GEO:40.3577804;-74.8596079
X-APPLE-STRUCTURED-LOCATION;VALUE=URI;X-ADDRESS=Harmony Hollow Farm Harbourton Mount Airy Road Lambertville NJ 08053 United States;X-APPLE-RADIUS=500;X-TITLE=Harbourton Mount Airy Road:geo:-74.8596079,40.3577804
END:VEVENT
BEGIN:VEVENT
DTSTART;TZID=America/New_York:20241128T090000
DTEND;TZID=America/New_York:20241128T120000
DTSTAMP:20260420T222924
CREATED:20241011T204636Z
LAST-MODIFIED:20241124T203651Z
UID:10000311-1732784400-1732795200@cjiaa.org
SUMMARY:Annual Thanksgiving Gratitude Breakfast
DESCRIPTION:
URL:https://cjiaa.org/event/annual-thanksgiving-gratitude-breakfast/
LOCATION:1st Presbyterian Church – Hamilton Square\, 3550 Nottingham Way\, Hamilton\, NJ\, 08619\, United States
CATEGORIES:Other AA Event
ATTACH;FMTTYPE=image/jpeg:https://cjiaa.org/wp-content/uploads/2022/04/GRATITUDE-BREAKFAST-FLYER-2024-page-001.jpg
GEO:40.235204;-74.6921599
X-APPLE-STRUCTURED-LOCATION;VALUE=URI;X-ADDRESS=1st Presbyterian Church – Hamilton Square 3550 Nottingham Way Hamilton NJ 08619 United States;X-APPLE-RADIUS=500;X-TITLE=3550 Nottingham Way:geo:-74.6921599,40.235204
END:VEVENT
BEGIN:VEVENT
DTSTART;TZID=America/New_York:20241122T180000
DTEND;TZID=America/New_York:20241122T190000
DTSTAMP:20260420T222924
CREATED:20241011T202351Z
LAST-MODIFIED:20241011T202351Z
UID:10000250-1732298400-1732302000@cjiaa.org
SUMMARY:CPC/PI Committee Monthly Meeting
DESCRIPTION:
URL:https://cjiaa.org/event/cpc-pi-committee-monthly-meeting/2024-11-22/
LOCATION:Intergroup Office\, Quakerbridge Road 3525\, Hamilton Township\, NJ\, 08619\, United States
ATTACH;FMTTYPE=image/jpg:https://cjiaa.org/wp-content/uploads/2022/04/CPC-PI-Flier-Central-Jersey-Intergroup-REV-3-17-24-pdf-image.jpg
GEO:40.2547923;-74.6794883
X-APPLE-STRUCTURED-LOCATION;VALUE=URI;X-ADDRESS=Intergroup Office Quakerbridge Road 3525 Hamilton Township NJ 08619 United States;X-APPLE-RADIUS=500;X-TITLE=Quakerbridge Road 3525:geo:-74.6794883,40.2547923
END:VEVENT
BEGIN:VEVENT
DTSTART;TZID=America/New_York:20241120T190000
DTEND;TZID=America/New_York:20241120T200000
DTSTAMP:20260420T222924
CREATED:20241003T220016Z
LAST-MODIFIED:20241003T220236Z
UID:10000069-1732129200-1732132800@cjiaa.org
SUMMARY:CJI Steering Committee Meeting
DESCRIPTION:
URL:https://cjiaa.org/event/cji-steering-committee-meeting/2024-11-20/
LOCATION:Intergroup Office\, Quakerbridge Road 3525\, Hamilton Township\, NJ\, 08619\, United States
GEO:40.2547923;-74.6794883
X-APPLE-STRUCTURED-LOCATION;VALUE=URI;X-ADDRESS=Intergroup Office Quakerbridge Road 3525 Hamilton Township NJ 08619 United States;X-APPLE-RADIUS=500;X-TITLE=Quakerbridge Road 3525:geo:-74.6794883,40.2547923
END:VEVENT
BEGIN:VEVENT
DTSTART;TZID=America/New_York:20241119T190000
DTEND;TZID=America/New_York:20241119T200000
DTSTAMP:20260420T222924
CREATED:20241011T123805Z
LAST-MODIFIED:20241011T124240Z
UID:10000130-1732042800-1732046400@cjiaa.org
SUMMARY:H&I Committee Monthly Meeting
DESCRIPTION:Meeting ID: 821 4265 2012\nPasscode: 293127
URL:https://cjiaa.org/event/hi-committee-monthly-meeting/2024-11-19/
LOCATION:https://us02web.zoom.us/j/82142652012?pwd=WyR0VbePnlDQ43S58x0OtGD0hib30A.1
CATEGORIES:CJI Committee Meeting
ATTACH;FMTTYPE=image/jpg:https://cjiaa.org/wp-content/uploads/2024/07/hI_meeting_flyer-pdf-image.jpg
END:VEVENT
BEGIN:VEVENT
DTSTART;TZID=America/New_York:20241117T083000
DTEND;TZID=America/New_York:20241117T140000
DTSTAMP:20260420T222924
CREATED:20241022T142217Z
LAST-MODIFIED:20241022T143051Z
UID:10000313-1731832200-1731852000@cjiaa.org
SUMMARY:Area 45 - Fall Assembly and Committee Meeting
DESCRIPTION:
URL:https://cjiaa.org/event/area-45-fall-assembly-and-committee-meeting/
LOCATION:Gibson House\, East Main Street 535\, Evesham\, NJ\, 08053\, United States
CATEGORIES:Area 45 Event
ATTACH;FMTTYPE=image/jpeg:https://cjiaa.org/wp-content/uploads/2024/10/11.17-Fall-Assembly.1.jpeg
GEO:39.8839146;-74.8916915
X-APPLE-STRUCTURED-LOCATION;VALUE=URI;X-ADDRESS=Gibson House East Main Street 535 Evesham NJ 08053 United States;X-APPLE-RADIUS=500;X-TITLE=East Main Street 535:geo:-74.8916915,39.8839146
END:VEVENT
BEGIN:VEVENT
DTSTART;TZID=America/New_York:20241116T120000
DTEND;TZID=America/New_York:20241116T130000
DTSTAMP:20260420T222924
CREATED:20241011T201820Z
LAST-MODIFIED:20241011T202021Z
UID:10000190-1731758400-1731762000@cjiaa.org
SUMMARY:Worldwide Grapevine Monthly Meeting
DESCRIPTION:Meeting ID:  871 2801 9459 \nPasscode:  GLM
URL:https://cjiaa.org/event/worldwide-grapevine-monthly-meeting/2024-11-16/
LOCATION:
CATEGORIES:Other AA Event
ATTACH;FMTTYPE=image/jpeg:https://cjiaa.org/wp-content/uploads/2024/03/Grapevine-Monthly-Meeting.1.jpeg
END:VEVENT
BEGIN:VEVENT
DTSTART;TZID=America/New_York:20241113T180000
DTEND;TZID=America/New_York:20241113T190000
DTSTAMP:20260420T222924
CREATED:20241030T214047Z
LAST-MODIFIED:20241030T214047Z
UID:10000315-1731520800-1731524400@cjiaa.org
SUMMARY:CJI Social Committee Monthly Meeting
DESCRIPTION:
URL:https://cjiaa.org/event/cji-social-committee-monthly-meeting/2024-11-13/
LOCATION:Intergroup Office\, Quakerbridge Road 3525\, Hamilton Township\, NJ\, 08619\, United States
CATEGORIES:CJI Committee Meeting
GEO:40.2547923;-74.6794883
X-APPLE-STRUCTURED-LOCATION;VALUE=URI;X-ADDRESS=Intergroup Office Quakerbridge Road 3525 Hamilton Township NJ 08619 United States;X-APPLE-RADIUS=500;X-TITLE=Quakerbridge Road 3525:geo:-74.6794883,40.2547923
END:VEVENT
BEGIN:VEVENT
DTSTART;TZID=America/New_York:20241109T180000
DTEND;TZID=America/New_York:20241109T230000
DTSTAMP:20260420T222924
CREATED:20241003T215455Z
LAST-MODIFIED:20241024T125916Z
UID:10000067-1731175200-1731193200@cjiaa.org
SUMMARY:Gratitude Banquet - District 25
DESCRIPTION:
URL:https://cjiaa.org/event/gratitude-banquet-district-25/
LOCATION:St. Anthony of Padua\, 251 Franklin Street\, Hightstown\, NJ\, 08520\, United States
CATEGORIES:District Event
ATTACH;FMTTYPE=image/jpg:https://cjiaa.org/wp-content/uploads/2024/10/Gratitude-Banquet-reviwed-1-1-pdf-image.jpg
GEO:40.2694787;-74.5188987
X-APPLE-STRUCTURED-LOCATION;VALUE=URI;X-ADDRESS=St. Anthony of Padua 251 Franklin Street Hightstown NJ 08520 United States;X-APPLE-RADIUS=500;X-TITLE=251 Franklin Street:geo:-74.5188987,40.2694787
END:VEVENT
BEGIN:VEVENT
DTSTART;TZID=America/New_York:20241106T190000
DTEND;TZID=America/New_York:20241106T200000
DTSTAMP:20260420T222924
CREATED:20241003T214406Z
LAST-MODIFIED:20241003T214407Z
UID:10000006-1730919600-1730923200@cjiaa.org
SUMMARY:CJI Monthly Body Meeting – Hybrid
DESCRIPTION:Meeting is now HYBRID!  In person still meets in the Hamilton Library basement.
URL:https://cjiaa.org/event/cji-monthly-body-meeting-hybrid-2/2024-11-06/
LOCATION:Hamilton Library\, Justice Samuel A Alito Junior Way 1\, Hamilton Township\, NJ\, 08619\, United States
GEO:40.2113261;-74.695721
X-APPLE-STRUCTURED-LOCATION;VALUE=URI;X-ADDRESS=Hamilton Library Justice Samuel A Alito Junior Way 1 Hamilton Township NJ 08619 United States;X-APPLE-RADIUS=500;X-TITLE=Justice Samuel A Alito Junior Way 1:geo:-74.695721,40.2113261
END:VEVENT
BEGIN:VEVENT
DTSTART;TZID=America/New_York:20241026T093000
DTEND;TZID=America/New_York:20241026T113000
DTSTAMP:20260420T222924
CREATED:20241013T180140Z
LAST-MODIFIED:20241013T180140Z
UID:10000312-1729935000-1729942200@cjiaa.org
SUMMARY:Harmony Hollow Farm - October Meeting
DESCRIPTION:
URL:https://cjiaa.org/event/harmony-hollow-farm-october-meeting/
LOCATION:Harmony Hollow Farm\, Harbourton Mount Airy Road\, Lambertville\, NJ\, 08053\, United States
ATTACH;FMTTYPE=image/jpg:https://cjiaa.org/wp-content/uploads/2024/10/Harmony-Hollow-October-pdf-image.jpg
GEO:40.3577804;-74.8596079
X-APPLE-STRUCTURED-LOCATION;VALUE=URI;X-ADDRESS=Harmony Hollow Farm Harbourton Mount Airy Road Lambertville NJ 08053 United States;X-APPLE-RADIUS=500;X-TITLE=Harbourton Mount Airy Road:geo:-74.8596079,40.3577804
END:VEVENT
BEGIN:VEVENT
DTSTART;TZID=America/New_York:20241026T080000
DTEND;TZID=America/New_York:20241026T100000
DTSTAMP:20260420T222924
CREATED:20241011T203119Z
LAST-MODIFIED:20241011T203207Z
UID:10000309-1729929600-1729936800@cjiaa.org
SUMMARY:Phoenix Group 24th Anniversary
DESCRIPTION:
URL:https://cjiaa.org/event/phoenix-group-24th-anniversary/
LOCATION:Slackwood Presbyterian Church\, 2020 US-1\, Trenton\, NJ\, 08648\, United States
ATTACH;FMTTYPE=image/jpeg:https://cjiaa.org/wp-content/uploads/2024/10/PhoenixGroupAnniv-1.jpg
GEO:40.769504;-74.04372
X-APPLE-STRUCTURED-LOCATION;VALUE=URI;X-ADDRESS=Slackwood Presbyterian Church 2020 US-1 Trenton NJ 08648 United States;X-APPLE-RADIUS=500;X-TITLE=2020 US-1:geo:-74.04372,40.769504
END:VEVENT
BEGIN:VEVENT
DTSTART;TZID=America/New_York:20241025T180000
DTEND;TZID=America/New_York:20241025T190000
DTSTAMP:20260420T222924
CREATED:20241011T202351Z
LAST-MODIFIED:20241011T202351Z
UID:10000249-1729879200-1729882800@cjiaa.org
SUMMARY:CPC/PI Committee Monthly Meeting
DESCRIPTION:
URL:https://cjiaa.org/event/cpc-pi-committee-monthly-meeting/2024-10-25/
LOCATION:Intergroup Office\, Quakerbridge Road 3525\, Hamilton Township\, NJ\, 08619\, United States
ATTACH;FMTTYPE=image/jpg:https://cjiaa.org/wp-content/uploads/2022/04/CPC-PI-Flier-Central-Jersey-Intergroup-REV-3-17-24-pdf-image.jpg
GEO:40.2547923;-74.6794883
X-APPLE-STRUCTURED-LOCATION;VALUE=URI;X-ADDRESS=Intergroup Office Quakerbridge Road 3525 Hamilton Township NJ 08619 United States;X-APPLE-RADIUS=500;X-TITLE=Quakerbridge Road 3525:geo:-74.6794883,40.2547923
END:VEVENT
BEGIN:VEVENT
DTSTART;TZID=America/New_York:20241019T180000
DTEND;TZID=America/New_York:20241019T230000
DTSTAMP:20260420T222924
CREATED:20240920T142210Z
LAST-MODIFIED:20241011T205854Z
UID:10000003-1729360800-1729378800@cjiaa.org
SUMMARY:Spooky Soiree - Halloween Dance
DESCRIPTION:Side dishes and desserts are appreciated. \nSee flyer for details!
URL:https://cjiaa.org/event/spooky-soiree-halloween-dance/
LOCATION:Trinity United Methodist Church\, 1985 Pennington Road\, Ewing Township\, NJ\, 08618\, United States
CATEGORIES:Social Event
ATTACH;FMTTYPE=image/jpeg:https://cjiaa.org/wp-content/uploads/2022/04/Spooky-Flyer-scaled.jpg
GEO:40.2705961;-74.7838723
X-APPLE-STRUCTURED-LOCATION;VALUE=URI;X-ADDRESS=Trinity United Methodist Church 1985 Pennington Road Ewing Township NJ 08618 United States;X-APPLE-RADIUS=500;X-TITLE=1985 Pennington Road:geo:-74.7838723,40.2705961
END:VEVENT
BEGIN:VEVENT
DTSTART;TZID=America/New_York:20241019T120000
DTEND;TZID=America/New_York:20241019T130000
DTSTAMP:20260420T222924
CREATED:20241011T201820Z
LAST-MODIFIED:20241011T202021Z
UID:10000189-1729339200-1729342800@cjiaa.org
SUMMARY:Worldwide Grapevine Monthly Meeting
DESCRIPTION:Meeting ID:  871 2801 9459 \nPasscode:  GLM
URL:https://cjiaa.org/event/worldwide-grapevine-monthly-meeting/2024-10-19/
LOCATION:
CATEGORIES:Other AA Event
ATTACH;FMTTYPE=image/jpeg:https://cjiaa.org/wp-content/uploads/2024/03/Grapevine-Monthly-Meeting.1.jpeg
END:VEVENT
BEGIN:VEVENT
DTSTART;TZID=America/New_York:20241018T183000
DTEND;TZID=America/New_York:20241018T203000
DTSTAMP:20260420T222924
CREATED:20241011T203850Z
LAST-MODIFIED:20241011T203850Z
UID:10000310-1729276200-1729283400@cjiaa.org
SUMMARY:Hightstown Men's Step Up 14th Anniversary
DESCRIPTION:
URL:https://cjiaa.org/event/hightstown-mens-step-up-14th-anniversary/
LOCATION:New Jersey
ATTACH;FMTTYPE=application/pdf:https://cjiaa.org/wp-content/uploads/2024/10/Anniversary-14-Flier-10-18-2024.pdf
END:VEVENT
BEGIN:VEVENT
DTSTART;TZID=America/New_York:20241016T190000
DTEND;TZID=America/New_York:20241016T200000
DTSTAMP:20260420T222924
CREATED:20241003T220016Z
LAST-MODIFIED:20241003T220236Z
UID:10000068-1729105200-1729108800@cjiaa.org
SUMMARY:CJI Steering Committee Meeting
DESCRIPTION:
URL:https://cjiaa.org/event/cji-steering-committee-meeting/2024-10-16/
LOCATION:Intergroup Office\, Quakerbridge Road 3525\, Hamilton Township\, NJ\, 08619\, United States
GEO:40.2547923;-74.6794883
X-APPLE-STRUCTURED-LOCATION;VALUE=URI;X-ADDRESS=Intergroup Office Quakerbridge Road 3525 Hamilton Township NJ 08619 United States;X-APPLE-RADIUS=500;X-TITLE=Quakerbridge Road 3525:geo:-74.6794883,40.2547923
END:VEVENT
BEGIN:VEVENT
DTSTART;TZID=America/New_York:20241015T190000
DTEND;TZID=America/New_York:20241015T200000
DTSTAMP:20260420T222924
CREATED:20241011T123805Z
LAST-MODIFIED:20241011T124240Z
UID:10000129-1729018800-1729022400@cjiaa.org
SUMMARY:H&I Committee Monthly Meeting
DESCRIPTION:Meeting ID: 821 4265 2012\nPasscode: 293127
URL:https://cjiaa.org/event/hi-committee-monthly-meeting/2024-10-15/
LOCATION:https://us02web.zoom.us/j/82142652012?pwd=WyR0VbePnlDQ43S58x0OtGD0hib30A.1
CATEGORIES:CJI Committee Meeting
ATTACH;FMTTYPE=image/jpg:https://cjiaa.org/wp-content/uploads/2024/07/hI_meeting_flyer-pdf-image.jpg
END:VEVENT
BEGIN:VEVENT
DTSTART;TZID=America/New_York:20241005T090000
DTEND;TZID=America/New_York:20241005T120000
DTSTAMP:20260420T222924
CREATED:20241003T213947Z
LAST-MODIFIED:20241003T213947Z
UID:10000065-1728118800-1728129600@cjiaa.org
SUMMARY:2024 Day of Sharing - Hybrid
DESCRIPTION:See Flyer for Agenda\nZoom Information: \nMeeting ID:  364 436 4285
URL:https://cjiaa.org/event/2024-day-of-sharing-hybrid/
LOCATION:Northfield Diner\, New Road 1515\, Northfield\, NJ\, 08225\, United States
CATEGORIES:Area 45 Event
ATTACH;FMTTYPE=image/jpeg:https://cjiaa.org/wp-content/uploads/2022/04/10.5-Day-of-Sharing-2024.1.jpeg
GEO:39.3722653;-74.5568994
X-APPLE-STRUCTURED-LOCATION;VALUE=URI;X-ADDRESS=Northfield Diner New Road 1515 Northfield NJ 08225 United States;X-APPLE-RADIUS=500;X-TITLE=New Road 1515:geo:-74.5568994,39.3722653
END:VEVENT
BEGIN:VEVENT
DTSTART;TZID=America/New_York:20241002T190000
DTEND;TZID=America/New_York:20241002T200000
DTSTAMP:20260420T222924
CREATED:20241002T205703Z
LAST-MODIFIED:20241002T205856Z
UID:10000005-1727895600-1727899200@cjiaa.org
SUMMARY:CJI Monthly Body Meeting – Hybrid
DESCRIPTION:Meeting is now HYBRID!  In person still meets in the Hamilton Library basement.
URL:https://cjiaa.org/event/cji-monthly-body-meeting-hybrid/
LOCATION:Hamilton Library\, Justice Samuel A Alito Junior Way 1\, Hamilton Township\, NJ\, 08619\, United States
GEO:40.2113261;-74.695721
X-APPLE-STRUCTURED-LOCATION;VALUE=URI;X-ADDRESS=Hamilton Library Justice Samuel A Alito Junior Way 1 Hamilton Township NJ 08619 United States;X-APPLE-RADIUS=500;X-TITLE=Justice Samuel A Alito Junior Way 1:geo:-74.695721,40.2113261
END:VEVENT
END:VCALENDAR