BEGIN:VCALENDAR
VERSION:2.0
PRODID:-//Central Jersey Intergroup - ECPv6.15.20//NONSGML v1.0//EN
CALSCALE:GREGORIAN
METHOD:PUBLISH
X-ORIGINAL-URL:https://cjiaa.org
X-WR-CALDESC:Events for Central Jersey Intergroup
REFRESH-INTERVAL;VALUE=DURATION:PT1H
X-Robots-Tag:noindex
X-PUBLISHED-TTL:PT1H
BEGIN:VTIMEZONE
TZID:America/New_York
BEGIN:DAYLIGHT
TZOFFSETFROM:-0500
TZOFFSETTO:-0400
TZNAME:EDT
DTSTART:20240310T070000
END:DAYLIGHT
BEGIN:STANDARD
TZOFFSETFROM:-0400
TZOFFSETTO:-0500
TZNAME:EST
DTSTART:20241103T060000
END:STANDARD
BEGIN:DAYLIGHT
TZOFFSETFROM:-0500
TZOFFSETTO:-0400
TZNAME:EDT
DTSTART:20250309T070000
END:DAYLIGHT
BEGIN:STANDARD
TZOFFSETFROM:-0400
TZOFFSETTO:-0500
TZNAME:EST
DTSTART:20251102T060000
END:STANDARD
BEGIN:DAYLIGHT
TZOFFSETFROM:-0500
TZOFFSETTO:-0400
TZNAME:EDT
DTSTART:20260308T070000
END:DAYLIGHT
BEGIN:STANDARD
TZOFFSETFROM:-0400
TZOFFSETTO:-0500
TZNAME:EST
DTSTART:20261101T060000
END:STANDARD
END:VTIMEZONE
BEGIN:VEVENT
DTSTART;TZID=America/New_York:20250101T080000
DTEND;TZID=America/New_York:20250101T170000
DTSTAMP:20260421T220213
CREATED:20241116T165634Z
LAST-MODIFIED:20241124T204128Z
UID:10000378-1735718400-1735750800@cjiaa.org
SUMMARY:New Years' Day Alcathon presented by District 22-23
DESCRIPTION:Alcathon on New Years Day. Light breakfast and lunch provided.\n45 minute meetings starting on the hour.\nFirst meeting at 8am – last meeting at 3pm. \n 
URL:https://cjiaa.org/event/new-years-day-alcathon-presented-by-district-22-23/
LOCATION:United Presbyrterian Church\, 12 Yardville - Hamilton Square Road\, Trenton\, NJ\, 08620\, United States
ATTACH;FMTTYPE=image/jpeg:https://cjiaa.org/wp-content/uploads/2024/11/NYdayAlcathonDistrict22-23.jpg
GEO:40.1799228;-74.6719257
X-APPLE-STRUCTURED-LOCATION;VALUE=URI;X-ADDRESS=United Presbyrterian Church 12 Yardville - Hamilton Square Road Trenton NJ 08620 United States;X-APPLE-RADIUS=500;X-TITLE=12 Yardville - Hamilton Square Road:geo:-74.6719257,40.1799228
END:VEVENT
BEGIN:VEVENT
DTSTART;TZID=America/New_York:20250101T190000
DTEND;TZID=America/New_York:20250101T200000
DTSTAMP:20260421T220213
CREATED:20250102T203300Z
LAST-MODIFIED:20250102T203301Z
UID:10000008-1735758000-1735761600@cjiaa.org
SUMMARY:CJI Monthly Body Meeting – Hybrid
DESCRIPTION:Meeting is now HYBRID!  In person still meets in the Hamilton Library basement.
URL:https://cjiaa.org/event/cji-monthly-body-meeting-hybrid-2-2/
LOCATION:Hamilton Library\, Justice Samuel A Alito Junior Way 1\, Hamilton Township\, NJ\, 08619\, United States
GEO:40.2113261;-74.695721
X-APPLE-STRUCTURED-LOCATION;VALUE=URI;X-ADDRESS=Hamilton Library Justice Samuel A Alito Junior Way 1 Hamilton Township NJ 08619 United States;X-APPLE-RADIUS=500;X-TITLE=Justice Samuel A Alito Junior Way 1:geo:-74.695721,40.2113261
END:VEVENT
BEGIN:VEVENT
DTSTART;TZID=America/New_York:20250108T180000
DTEND;TZID=America/New_York:20250108T190000
DTSTAMP:20260421T220213
CREATED:20241030T214047Z
LAST-MODIFIED:20241030T214047Z
UID:10000317-1736359200-1736362800@cjiaa.org
SUMMARY:CJI Social Committee Monthly Meeting
DESCRIPTION:
URL:https://cjiaa.org/event/cji-social-committee-monthly-meeting/2025-01-08/
LOCATION:Intergroup Office\, Quakerbridge Road 3525\, Hamilton Township\, NJ\, 08619\, United States
CATEGORIES:CJI Committee Meeting
GEO:40.2547923;-74.6794883
X-APPLE-STRUCTURED-LOCATION;VALUE=URI;X-ADDRESS=Intergroup Office Quakerbridge Road 3525 Hamilton Township NJ 08619 United States;X-APPLE-RADIUS=500;X-TITLE=Quakerbridge Road 3525:geo:-74.6794883,40.2547923
END:VEVENT
BEGIN:VEVENT
DTSTART;TZID=America/New_York:20250108T190000
DTEND;TZID=America/New_York:20250108T200000
DTSTAMP:20260421T220213
CREATED:20250102T203424Z
LAST-MODIFIED:20250104T000625Z
UID:10000510-1736362800-1736366400@cjiaa.org
SUMMARY:CJI Monthly Body Meeting – Hybrid
DESCRIPTION:Meeting is now HYBRID!  In person still meets in the Hamilton Library basement.
URL:https://cjiaa.org/event/cji-monthly-body-meeting-hybrid-3/
LOCATION:Hamilton Library\, Justice Samuel A Alito Junior Way 1\, Hamilton Township\, NJ\, 08619\, United States
GEO:40.2113261;-74.695721
X-APPLE-STRUCTURED-LOCATION;VALUE=URI;X-ADDRESS=Hamilton Library Justice Samuel A Alito Junior Way 1 Hamilton Township NJ 08619 United States;X-APPLE-RADIUS=500;X-TITLE=Justice Samuel A Alito Junior Way 1:geo:-74.695721,40.2113261
END:VEVENT
BEGIN:VEVENT
DTSTART;TZID=America/New_York:20250115T190000
DTEND;TZID=America/New_York:20250115T200000
DTSTAMP:20260421T220213
CREATED:20241003T220016Z
LAST-MODIFIED:20241003T220236Z
UID:10000071-1736967600-1736971200@cjiaa.org
SUMMARY:CJI Steering Committee Meeting
DESCRIPTION:
URL:https://cjiaa.org/event/cji-steering-committee-meeting/2025-01-15/
LOCATION:Intergroup Office\, Quakerbridge Road 3525\, Hamilton Township\, NJ\, 08619\, United States
GEO:40.2547923;-74.6794883
X-APPLE-STRUCTURED-LOCATION;VALUE=URI;X-ADDRESS=Intergroup Office Quakerbridge Road 3525 Hamilton Township NJ 08619 United States;X-APPLE-RADIUS=500;X-TITLE=Quakerbridge Road 3525:geo:-74.6794883,40.2547923
END:VEVENT
BEGIN:VEVENT
DTSTART;TZID=America/New_York:20250118T100000
DTEND;TZID=America/New_York:20250118T120000
DTSTAMP:20260421T220213
CREATED:20241217T192006Z
LAST-MODIFIED:20241217T192006Z
UID:10000382-1737194400-1737201600@cjiaa.org
SUMMARY:District 24 Sponsorship Workshop
DESCRIPTION:District 24 Sponsorship Workshop
URL:https://cjiaa.org/event/district-24-sponsorship-workshop/
LOCATION:1st Presbyterian Church – Ewing\, Scotch Road 100\, Ewing Township\, New Jersey\, 08628\, United States
ATTACH;FMTTYPE=image/jpeg:https://cjiaa.org/wp-content/uploads/2022/04/District24Workshop.jpg
GEO:40.2712177;-74.7997738
X-APPLE-STRUCTURED-LOCATION;VALUE=URI;X-ADDRESS=1st Presbyterian Church – Ewing Scotch Road 100 Ewing Township New Jersey 08628 United States;X-APPLE-RADIUS=500;X-TITLE=Scotch Road 100:geo:-74.7997738,40.2712177
END:VEVENT
BEGIN:VEVENT
DTSTART;TZID=America/New_York:20250118T120000
DTEND;TZID=America/New_York:20250118T130000
DTSTAMP:20260421T220213
CREATED:20241011T201820Z
LAST-MODIFIED:20241011T202021Z
UID:10000192-1737201600-1737205200@cjiaa.org
SUMMARY:Worldwide Grapevine Monthly Meeting
DESCRIPTION:Meeting ID:  871 2801 9459 \nPasscode:  GLM
URL:https://cjiaa.org/event/worldwide-grapevine-monthly-meeting/2025-01-18/
LOCATION:
CATEGORIES:Other AA Event
ATTACH;FMTTYPE=image/jpeg:https://cjiaa.org/wp-content/uploads/2024/03/Grapevine-Monthly-Meeting.1.jpeg
END:VEVENT
BEGIN:VEVENT
DTSTART;TZID=America/New_York:20250121T190000
DTEND;TZID=America/New_York:20250121T200000
DTSTAMP:20260421T220213
CREATED:20241011T123805Z
LAST-MODIFIED:20241011T124240Z
UID:10000132-1737486000-1737489600@cjiaa.org
SUMMARY:H&I Committee Monthly Meeting
DESCRIPTION:Meeting ID: 821 4265 2012\nPasscode: 293127
URL:https://cjiaa.org/event/hi-committee-monthly-meeting/2025-01-21/
LOCATION:https://us02web.zoom.us/j/82142652012?pwd=WyR0VbePnlDQ43S58x0OtGD0hib30A.1
CATEGORIES:CJI Committee Meeting
ATTACH;FMTTYPE=image/jpg:https://cjiaa.org/wp-content/uploads/2024/07/hI_meeting_flyer-pdf-image.jpg
END:VEVENT
BEGIN:VEVENT
DTSTART;TZID=America/New_York:20250124T180000
DTEND;TZID=America/New_York:20250124T190000
DTSTAMP:20260421T220213
CREATED:20241011T202351Z
LAST-MODIFIED:20241011T202351Z
UID:10000252-1737741600-1737745200@cjiaa.org
SUMMARY:CPC/PI Committee Monthly Meeting
DESCRIPTION:
URL:https://cjiaa.org/event/cpc-pi-committee-monthly-meeting/2025-01-24/
LOCATION:Intergroup Office\, Quakerbridge Road 3525\, Hamilton Township\, NJ\, 08619\, United States
ATTACH;FMTTYPE=image/jpg:https://cjiaa.org/wp-content/uploads/2022/04/CPC-PI-Flier-Central-Jersey-Intergroup-REV-3-17-24-pdf-image.jpg
GEO:40.2547923;-74.6794883
X-APPLE-STRUCTURED-LOCATION;VALUE=URI;X-ADDRESS=Intergroup Office Quakerbridge Road 3525 Hamilton Township NJ 08619 United States;X-APPLE-RADIUS=500;X-TITLE=Quakerbridge Road 3525:geo:-74.6794883,40.2547923
END:VEVENT
BEGIN:VEVENT
DTSTART;TZID=America/New_York:20250125T063000
DTEND;TZID=America/New_York:20250125T080000
DTSTAMP:20260421T220213
CREATED:20250103T214107Z
LAST-MODIFIED:20250103T214612Z
UID:10000512-1737786600-1737792000@cjiaa.org
SUMMARY:Hightstown Early Birds Hybrid 33rd Anniversary
DESCRIPTION:Our speaker is Chuck M from The Way Out Group in Roselle.\nBreakfast Buffet at 6:30 am\, Speaker 7:00 am\nHybrid – ID 341 314 018 PW 014 111 \nZoom link:\nhttps://zoom.us/j/341314018?pwd=REpoV0lBSWt5azJaSkJoa21ZUXJkQT09
URL:https://cjiaa.org/event/hightstown-early-birds-hybrid-33rd-anniversary/
LOCATION:1st Presbyterian Church – Hightstown\, North Main Street 320\, Hightstown\, NJ\, 08520\, United States
CATEGORIES:Group Anniversary
ATTACH;FMTTYPE=image/jpeg:https://cjiaa.org/wp-content/uploads/2022/04/HightstownEarlyBirds33Anniv.jpg
GEO:40.2731819;-74.5220293
X-APPLE-STRUCTURED-LOCATION;VALUE=URI;X-ADDRESS=1st Presbyterian Church – Hightstown North Main Street 320 Hightstown NJ 08520 United States;X-APPLE-RADIUS=500;X-TITLE=North Main Street 320:geo:-74.5220293,40.2731819
END:VEVENT
BEGIN:VEVENT
DTSTART;TZID=America/New_York:20250125T100000
DTEND;TZID=America/New_York:20250125T111500
DTSTAMP:20260421T220214
CREATED:20250123T142907Z
LAST-MODIFIED:20250124T220905Z
UID:10000517-1737799200-1737803700@cjiaa.org
SUMMARY:Cancelled: Harmony Hollow AA Anniversary Speakers Meeting
DESCRIPTION:Due to weather conditions at Harmony Hollow Farm\, tomorrow’s meeting is cancelled.\nOn behalf of the Harmony Hollow Farm Team\, I apologize for this inconvenience.  \nPlease alert any friends of this official cancellation announcement.  \nStay safe\, warm\, sober\, and happy.
URL:https://cjiaa.org/event/harmony-hollow-aa-anniversary-speakers-meeting-2/
LOCATION:Harmony Hollow Farm\, Harbourton Mount Airy Road\, Lambertville\, NJ\, 08053\, United States
ATTACH;FMTTYPE=image/jpeg:https://cjiaa.org/wp-content/uploads/2025/01/Open-Harmony-Hollow-January-25.jpg
GEO:40.3577804;-74.8596079
X-APPLE-STRUCTURED-LOCATION;VALUE=URI;X-ADDRESS=Harmony Hollow Farm Harbourton Mount Airy Road Lambertville NJ 08053 United States;X-APPLE-RADIUS=500;X-TITLE=Harbourton Mount Airy Road:geo:-74.8596079,40.3577804
END:VEVENT
END:VCALENDAR