BEGIN:VCALENDAR
VERSION:2.0
PRODID:-//Central Jersey Intergroup - ECPv6.15.20//NONSGML v1.0//EN
CALSCALE:GREGORIAN
METHOD:PUBLISH
X-ORIGINAL-URL:https://cjiaa.org
X-WR-CALDESC:Events for Central Jersey Intergroup
REFRESH-INTERVAL;VALUE=DURATION:PT1H
X-Robots-Tag:noindex
X-PUBLISHED-TTL:PT1H
BEGIN:VTIMEZONE
TZID:America/New_York
BEGIN:DAYLIGHT
TZOFFSETFROM:-0500
TZOFFSETTO:-0400
TZNAME:EDT
DTSTART:20240310T070000
END:DAYLIGHT
BEGIN:STANDARD
TZOFFSETFROM:-0400
TZOFFSETTO:-0500
TZNAME:EST
DTSTART:20241103T060000
END:STANDARD
BEGIN:DAYLIGHT
TZOFFSETFROM:-0500
TZOFFSETTO:-0400
TZNAME:EDT
DTSTART:20250309T070000
END:DAYLIGHT
BEGIN:STANDARD
TZOFFSETFROM:-0400
TZOFFSETTO:-0500
TZNAME:EST
DTSTART:20251102T060000
END:STANDARD
BEGIN:DAYLIGHT
TZOFFSETFROM:-0500
TZOFFSETTO:-0400
TZNAME:EDT
DTSTART:20260308T070000
END:DAYLIGHT
BEGIN:STANDARD
TZOFFSETFROM:-0400
TZOFFSETTO:-0500
TZNAME:EST
DTSTART:20261101T060000
END:STANDARD
END:VTIMEZONE
BEGIN:VEVENT
DTSTART;TZID=America/New_York:20250507T190000
DTEND;TZID=America/New_York:20250507T200000
DTSTAMP:20260421T153353
CREATED:20241003T214406Z
LAST-MODIFIED:20241003T214407Z
UID:10000012-1746644400-1746648000@cjiaa.org
SUMMARY:CJI Monthly Body Meeting – Hybrid
DESCRIPTION:Meeting is now HYBRID!  In person still meets in the Hamilton Library basement.
URL:https://cjiaa.org/event/cji-monthly-body-meeting-hybrid-2/2025-05-07/
LOCATION:Hamilton Library\, Justice Samuel A Alito Junior Way 1\, Hamilton Township\, NJ\, 08619\, United States
GEO:40.2113261;-74.695721
X-APPLE-STRUCTURED-LOCATION;VALUE=URI;X-ADDRESS=Hamilton Library Justice Samuel A Alito Junior Way 1 Hamilton Township NJ 08619 United States;X-APPLE-RADIUS=500;X-TITLE=Justice Samuel A Alito Junior Way 1:geo:-74.695721,40.2113261
END:VEVENT
BEGIN:VEVENT
DTSTART;TZID=America/New_York:20250510T100000
DTEND;TZID=America/New_York:20250510T140000
DTSTAMP:20260421T153353
CREATED:20250415T150601Z
LAST-MODIFIED:20250415T150601Z
UID:10000538-1746871200-1746885600@cjiaa.org
SUMMARY:District 24 Service Fair
DESCRIPTION:Interested in Learning About Service Opportunities? \n\n\n\n\nDistrict 24 invites you to our upcoming Service Fair! \nArea 45 Committee Members will be there to talk to you about their service committees\, as well as their experiences in service. \nFood & Refreshments !
URL:https://cjiaa.org/event/district-24-service-fair/
LOCATION:Trinity United Methodist Church\, 1985 Pennington Road\, Ewing Township\, NJ\, 08618\, United States
CATEGORIES:District Event
ATTACH;FMTTYPE=image/jpeg:https://cjiaa.org/wp-content/uploads/2025/04/District24ServiceFair.jpg
GEO:40.2705961;-74.7838723
X-APPLE-STRUCTURED-LOCATION;VALUE=URI;X-ADDRESS=Trinity United Methodist Church 1985 Pennington Road Ewing Township NJ 08618 United States;X-APPLE-RADIUS=500;X-TITLE=1985 Pennington Road:geo:-74.7838723,40.2705961
END:VEVENT
BEGIN:VEVENT
DTSTART;TZID=America/New_York:20250514T180000
DTEND;TZID=America/New_York:20250514T190000
DTSTAMP:20260421T153353
CREATED:20241030T214047Z
LAST-MODIFIED:20241030T214047Z
UID:10000321-1747245600-1747249200@cjiaa.org
SUMMARY:CJI Social Committee Monthly Meeting
DESCRIPTION:
URL:https://cjiaa.org/event/cji-social-committee-monthly-meeting/2025-05-14/
LOCATION:Intergroup Office\, Quakerbridge Road 3525\, Hamilton Township\, NJ\, 08619\, United States
CATEGORIES:CJI Committee Meeting
GEO:40.2547923;-74.6794883
X-APPLE-STRUCTURED-LOCATION;VALUE=URI;X-ADDRESS=Intergroup Office Quakerbridge Road 3525 Hamilton Township NJ 08619 United States;X-APPLE-RADIUS=500;X-TITLE=Quakerbridge Road 3525:geo:-74.6794883,40.2547923
END:VEVENT
BEGIN:VEVENT
DTSTART;TZID=America/New_York:20250516T183000
DTEND;TZID=America/New_York:20250516T200000
DTSTAMP:20260421T153353
CREATED:20250402T234442Z
LAST-MODIFIED:20250515T132713Z
UID:10000534-1747420200-1747425600@cjiaa.org
SUMMARY:24 Hour Solution Group 7th Anniversary
DESCRIPTION:Enjoy delicious cake\, coffee & Fellowship
URL:https://cjiaa.org/event/24-hour-solution-group-7th-anniversary/
LOCATION:St. Vincent  de Paul\, 566 Yardville-Allentown Rd.\, Yardville\, 08620\, United States
ATTACH;FMTTYPE=image/jpeg:https://cjiaa.org/wp-content/uploads/2025/04/FB_IMG_1743431429911.jpg
GEO:40.1761298;-74.6594696
X-APPLE-STRUCTURED-LOCATION;VALUE=URI;X-ADDRESS=St. Vincent  de Paul 566 Yardville-Allentown Rd. Yardville 08620 United States;X-APPLE-RADIUS=500;X-TITLE=566 Yardville-Allentown Rd.:geo:-74.6594696,40.1761298
END:VEVENT
BEGIN:VEVENT
DTSTART;TZID=America/New_York:20250517T120000
DTEND;TZID=America/New_York:20250517T130000
DTSTAMP:20260421T153353
CREATED:20241011T201820Z
LAST-MODIFIED:20241011T202021Z
UID:10000196-1747483200-1747486800@cjiaa.org
SUMMARY:Worldwide Grapevine Monthly Meeting
DESCRIPTION:Meeting ID:  871 2801 9459 \nPasscode:  GLM
URL:https://cjiaa.org/event/worldwide-grapevine-monthly-meeting/2025-05-17/
LOCATION:
CATEGORIES:Other AA Event
ATTACH;FMTTYPE=image/jpeg:https://cjiaa.org/wp-content/uploads/2024/03/Grapevine-Monthly-Meeting.1.jpeg
END:VEVENT
BEGIN:VEVENT
DTSTART;TZID=America/New_York:20250517T183000
DTEND;TZID=America/New_York:20250517T203000
DTSTAMP:20260421T153353
CREATED:20250514T203438Z
LAST-MODIFIED:20250514T203438Z
UID:10000541-1747506600-1747513800@cjiaa.org
SUMMARY:Believing Group 29th Anniversary
DESCRIPTION:
URL:https://cjiaa.org/event/believing-group-29th-anniversary/
LOCATION:St. Vincent  de Paul\, 566 Yardville-Allentown Rd.\, Yardville\, 08620\, United States
CATEGORIES:Group Anniversary
ATTACH;FMTTYPE=image/jpeg:https://cjiaa.org/wp-content/uploads/2022/04/believing_anniversary.jpg
GEO:40.1761298;-74.6594696
X-APPLE-STRUCTURED-LOCATION;VALUE=URI;X-ADDRESS=St. Vincent  de Paul 566 Yardville-Allentown Rd. Yardville 08620 United States;X-APPLE-RADIUS=500;X-TITLE=566 Yardville-Allentown Rd.:geo:-74.6594696,40.1761298
END:VEVENT
BEGIN:VEVENT
DTSTART;TZID=America/New_York:20250518T083000
DTEND;TZID=America/New_York:20250518T160000
DTSTAMP:20260421T153353
CREATED:20250317T031909Z
LAST-MODIFIED:20250317T031909Z
UID:10000530-1747557000-1747584000@cjiaa.org
SUMMARY:Spring Assembly for Area 45
DESCRIPTION:~ Breakfast & Lunch will be served ~ \nWhat is an Assembly? \nA quarterly update meeting where reports are provided to help members understand the activities and service work of A.A. in Southern NJ and A.A. as a whole. \nReports from Districts\, Intergroups and Area Panel/Committees will be provided. \nThis is a hybrid meeting: \nIn person : \n\n\n\n\nElmer Grange Hall \n535 Daretown Rd.\, Elmer\, NJ 08318 \n\n\n\n\n\n\n\n\n\nOR Join Zoom Meeting: \n\nhttps://us02web.zoom.us/j/81376644882 \n\n\nZOOM MEETING ID \n813 7664 4882 \n\n8:30am Registration begins\n8:45am GSRs/DCMs Orientation program\n10:00am Assembly begins. Committee mtg to follow.
URL:https://cjiaa.org/event/spring-assembly-for-area-45/
LOCATION:Elmer Grange\, 535 Daretown Road\, Elmer\, 08318\, United States
CATEGORIES:Area 45 Event
ATTACH;FMTTYPE=image/jpeg:https://cjiaa.org/wp-content/uploads/2025/03/5.18-Assembly.1.jpeg
GEO:39.615812;-75.2335755
X-APPLE-STRUCTURED-LOCATION;VALUE=URI;X-ADDRESS=Elmer Grange 535 Daretown Road Elmer 08318 United States;X-APPLE-RADIUS=500;X-TITLE=535 Daretown Road:geo:-75.2335755,39.615812
END:VEVENT
BEGIN:VEVENT
DTSTART;TZID=America/New_York:20250518T130000
DTEND;TZID=America/New_York:20250518T150000
DTSTAMP:20260421T153353
CREATED:20250409T230440Z
LAST-MODIFIED:20250416T014357Z
UID:10000537-1747573200-1747580400@cjiaa.org
SUMMARY:CJI presents Spring Stroll One Foot At A Time
DESCRIPTION:Join us at Veterans Park \nRain or Shine \nT-Shirts will be available for Pre-order for $20 : \nContact the Social Committee at  social@cjiaa.org \n 
URL:https://cjiaa.org/event/cji-presents-spring-stroll-one-foot-at-a-time/
LOCATION:Veterans Park\, 2388 Kuser Road\, Hamilton\, 06810\, United States
ATTACH;FMTTYPE=image/jpeg:https://cjiaa.org/wp-content/uploads/2025/04/2025springstroll_updated.jpg
GEO:40.2039214;-74.6690671
X-APPLE-STRUCTURED-LOCATION;VALUE=URI;X-ADDRESS=Veterans Park 2388 Kuser Road Hamilton 06810 United States;X-APPLE-RADIUS=500;X-TITLE=2388 Kuser Road:geo:-74.6690671,40.2039214
END:VEVENT
BEGIN:VEVENT
DTSTART;TZID=America/New_York:20250518T190000
DTEND;TZID=America/New_York:20250518T210000
DTSTAMP:20260421T153353
CREATED:20250514T161620Z
LAST-MODIFIED:20250514T162051Z
UID:10000540-1747594800-1747602000@cjiaa.org
SUMMARY:Bordentown Sunday Night Group 8pm: Business Meeting Sunday 5/18 7pm to show support
DESCRIPTION:The Bordentown Sunday Night 8pm group needs new members and support. \nIt is at risk for shutting down as most of the group members are over 70 and 80 years old. \nSome cannot commit much longer. \nPlease come and support this group Sunday night. \nBordentown Sunday Night group \n Lakeside Community Center  \n127 Lakeside Blvd  \nHamilton NJ 08610\nSunday night 8 pm\nBusiness meeting 7 pm this Sunday 5/18 to decide the future of this group.\nPlease join to keep from folding up \nBusiness meeting 7pm \nMeeting 8pm
URL:https://cjiaa.org/event/bordentown-sunday-night-group-8pm-business-meeting-sunday-5-18-7pm-to-show-support/
LOCATION:Lakeside Community House\, 127 Lakeside Blvd\, Hamilton\, 08610\, United States
GEO:40.1900959;-74.688842
X-APPLE-STRUCTURED-LOCATION;VALUE=URI;X-ADDRESS=Lakeside Community House 127 Lakeside Blvd Hamilton 08610 United States;X-APPLE-RADIUS=500;X-TITLE=127 Lakeside Blvd:geo:-74.688842,40.1900959
END:VEVENT
BEGIN:VEVENT
DTSTART;TZID=America/New_York:20250520T190000
DTEND;TZID=America/New_York:20250520T200000
DTSTAMP:20260421T153353
CREATED:20241011T123805Z
LAST-MODIFIED:20241011T124240Z
UID:10000136-1747767600-1747771200@cjiaa.org
SUMMARY:H&I Committee Monthly Meeting
DESCRIPTION:Meeting ID: 821 4265 2012\nPasscode: 293127
URL:https://cjiaa.org/event/hi-committee-monthly-meeting/2025-05-20/
LOCATION:https://us02web.zoom.us/j/82142652012?pwd=WyR0VbePnlDQ43S58x0OtGD0hib30A.1
CATEGORIES:CJI Committee Meeting
ATTACH;FMTTYPE=image/jpg:https://cjiaa.org/wp-content/uploads/2024/07/hI_meeting_flyer-pdf-image.jpg
END:VEVENT
BEGIN:VEVENT
DTSTART;TZID=America/New_York:20250521T190000
DTEND;TZID=America/New_York:20250521T200000
DTSTAMP:20260421T153353
CREATED:20241003T220016Z
LAST-MODIFIED:20241003T220236Z
UID:10000075-1747854000-1747857600@cjiaa.org
SUMMARY:CJI Steering Committee Meeting
DESCRIPTION:
URL:https://cjiaa.org/event/cji-steering-committee-meeting/2025-05-21/
LOCATION:Intergroup Office\, Quakerbridge Road 3525\, Hamilton Township\, NJ\, 08619\, United States
GEO:40.2547923;-74.6794883
X-APPLE-STRUCTURED-LOCATION;VALUE=URI;X-ADDRESS=Intergroup Office Quakerbridge Road 3525 Hamilton Township NJ 08619 United States;X-APPLE-RADIUS=500;X-TITLE=Quakerbridge Road 3525:geo:-74.6794883,40.2547923
END:VEVENT
BEGIN:VEVENT
DTSTART;TZID=America/New_York:20250522T180000
DTEND;TZID=America/New_York:20250522T200000
DTSTAMP:20260421T153353
CREATED:20250407T193514Z
LAST-MODIFIED:20250407T194527Z
UID:10000535-1747936800-1747944000@cjiaa.org
SUMMARY:The Tea Time Women's Meeting 1 Year Anniversary
DESCRIPTION:Food 6:00pm \nSpeaker 7:00pm\, \nCourtney M.\n9 years sobriety from the Gift of Despartion Group\, Philadelphia\, PA
URL:https://cjiaa.org/event/the-tea-time-womens-meeting-1-year-anniversary/
LOCATION:United Presbyrterian Church\, 12 Yardville - Hamilton Square Road\, Trenton\, NJ\, 08620\, United States
CATEGORIES:Group Anniversary
ATTACH;FMTTYPE=image/jpg:https://cjiaa.org/wp-content/uploads/2025/04/T-Anniversary-pdf-image.jpg
GEO:40.1799228;-74.6719257
X-APPLE-STRUCTURED-LOCATION;VALUE=URI;X-ADDRESS=United Presbyrterian Church 12 Yardville - Hamilton Square Road Trenton NJ 08620 United States;X-APPLE-RADIUS=500;X-TITLE=12 Yardville - Hamilton Square Road:geo:-74.6719257,40.1799228
END:VEVENT
BEGIN:VEVENT
DTSTART;TZID=America/New_York:20250523T180000
DTEND;TZID=America/New_York:20250523T190000
DTSTAMP:20260421T153353
CREATED:20241011T202351Z
LAST-MODIFIED:20241011T202351Z
UID:10000256-1748023200-1748026800@cjiaa.org
SUMMARY:CPC/PI Committee Monthly Meeting
DESCRIPTION:
URL:https://cjiaa.org/event/cpc-pi-committee-monthly-meeting/2025-05-23/
LOCATION:Intergroup Office\, Quakerbridge Road 3525\, Hamilton Township\, NJ\, 08619\, United States
ATTACH;FMTTYPE=image/jpg:https://cjiaa.org/wp-content/uploads/2022/04/CPC-PI-Flier-Central-Jersey-Intergroup-REV-3-17-24-pdf-image.jpg
GEO:40.2547923;-74.6794883
X-APPLE-STRUCTURED-LOCATION;VALUE=URI;X-ADDRESS=Intergroup Office Quakerbridge Road 3525 Hamilton Township NJ 08619 United States;X-APPLE-RADIUS=500;X-TITLE=Quakerbridge Road 3525:geo:-74.6794883,40.2547923
END:VEVENT
BEGIN:VEVENT
DTSTART;TZID=America/New_York:20250531T100000
DTEND;TZID=America/New_York:20250531T111500
DTSTAMP:20260421T153353
CREATED:20250515T121746Z
LAST-MODIFIED:20250515T121746Z
UID:10000542-1748685600-1748690100@cjiaa.org
SUMMARY:Harmony Hollow AA Anniversary Speakers Meeting
DESCRIPTION:Open meeting – all are welcome \nCome celebrate sobriety! \nSaturday\, May 31st 10-11:15AM \nFood and fellowship starting at 9AM \nJohn F.\, “Start the Day Right Group” New Brunswick\, NJ \nHarmony Hollow Farm\n35 Harbourton Mt. Airy Rd. Lambertville\, NJ 08053\nFor more information contact: Jim H. 609.955.0030 Harmony Hollow Farm 609.928.8043
URL:https://cjiaa.org/event/harmony-hollow-aa-anniversary-speakers-meeting-4/
LOCATION:Harmony Hollow Farm\, Harbourton Mount Airy Road\, Lambertville\, NJ\, 08053\, United States
ATTACH;FMTTYPE=application/pdf:https://cjiaa.org/wp-content/uploads/2025/05/HarmonyHollowMay25.pdf
GEO:40.3577804;-74.8596079
X-APPLE-STRUCTURED-LOCATION;VALUE=URI;X-ADDRESS=Harmony Hollow Farm Harbourton Mount Airy Road Lambertville NJ 08053 United States;X-APPLE-RADIUS=500;X-TITLE=Harbourton Mount Airy Road:geo:-74.8596079,40.3577804
END:VEVENT
END:VCALENDAR