BEGIN:VCALENDAR
VERSION:2.0
PRODID:-//Central Jersey Intergroup - ECPv6.15.20//NONSGML v1.0//EN
CALSCALE:GREGORIAN
METHOD:PUBLISH
X-WR-CALNAME:Central Jersey Intergroup
X-ORIGINAL-URL:https://cjiaa.org
X-WR-CALDESC:Events for Central Jersey Intergroup
REFRESH-INTERVAL;VALUE=DURATION:PT1H
X-Robots-Tag:noindex
X-PUBLISHED-TTL:PT1H
BEGIN:VTIMEZONE
TZID:America/New_York
BEGIN:DAYLIGHT
TZOFFSETFROM:-0500
TZOFFSETTO:-0400
TZNAME:EDT
DTSTART:20240310T070000
END:DAYLIGHT
BEGIN:STANDARD
TZOFFSETFROM:-0400
TZOFFSETTO:-0500
TZNAME:EST
DTSTART:20241103T060000
END:STANDARD
BEGIN:DAYLIGHT
TZOFFSETFROM:-0500
TZOFFSETTO:-0400
TZNAME:EDT
DTSTART:20250309T070000
END:DAYLIGHT
BEGIN:STANDARD
TZOFFSETFROM:-0400
TZOFFSETTO:-0500
TZNAME:EST
DTSTART:20251102T060000
END:STANDARD
BEGIN:DAYLIGHT
TZOFFSETFROM:-0500
TZOFFSETTO:-0400
TZNAME:EDT
DTSTART:20260308T070000
END:DAYLIGHT
BEGIN:STANDARD
TZOFFSETFROM:-0400
TZOFFSETTO:-0500
TZNAME:EST
DTSTART:20261101T060000
END:STANDARD
END:VTIMEZONE
BEGIN:VEVENT
DTSTART;TZID=America/New_York:20250604T190000
DTEND;TZID=America/New_York:20250604T200000
DTSTAMP:20260421T135522
CREATED:20241003T214406Z
LAST-MODIFIED:20241003T214407Z
UID:10000013-1749063600-1749067200@cjiaa.org
SUMMARY:CJI Monthly Body Meeting – Hybrid
DESCRIPTION:Meeting is now HYBRID!  In person still meets in the Hamilton Library basement.
URL:https://cjiaa.org/event/cji-monthly-body-meeting-hybrid-2/2025-06-04/
LOCATION:Hamilton Library\, Justice Samuel A Alito Junior Way 1\, Hamilton Township\, NJ\, 08619\, United States
GEO:40.2113261;-74.695721
X-APPLE-STRUCTURED-LOCATION;VALUE=URI;X-ADDRESS=Hamilton Library Justice Samuel A Alito Junior Way 1 Hamilton Township NJ 08619 United States;X-APPLE-RADIUS=500;X-TITLE=Justice Samuel A Alito Junior Way 1:geo:-74.695721,40.2113261
END:VEVENT
BEGIN:VEVENT
DTSTART;TZID=America/New_York:20250611T180000
DTEND;TZID=America/New_York:20250611T190000
DTSTAMP:20260421T135522
CREATED:20241030T214047Z
LAST-MODIFIED:20241030T214047Z
UID:10000322-1749664800-1749668400@cjiaa.org
SUMMARY:CJI Social Committee Monthly Meeting
DESCRIPTION:
URL:https://cjiaa.org/event/cji-social-committee-monthly-meeting/2025-06-11/
LOCATION:Intergroup Office\, Quakerbridge Road 3525\, Hamilton Township\, NJ\, 08619\, United States
CATEGORIES:CJI Committee Meeting
GEO:40.2547923;-74.6794883
X-APPLE-STRUCTURED-LOCATION;VALUE=URI;X-ADDRESS=Intergroup Office Quakerbridge Road 3525 Hamilton Township NJ 08619 United States;X-APPLE-RADIUS=500;X-TITLE=Quakerbridge Road 3525:geo:-74.6794883,40.2547923
END:VEVENT
BEGIN:VEVENT
DTSTART;TZID=America/New_York:20250617T190000
DTEND;TZID=America/New_York:20250617T200000
DTSTAMP:20260421T135522
CREATED:20241011T123805Z
LAST-MODIFIED:20241011T124240Z
UID:10000137-1750186800-1750190400@cjiaa.org
SUMMARY:H&I Committee Monthly Meeting
DESCRIPTION:Meeting ID: 821 4265 2012\nPasscode: 293127
URL:https://cjiaa.org/event/hi-committee-monthly-meeting/2025-06-17/
LOCATION:https://us02web.zoom.us/j/82142652012?pwd=WyR0VbePnlDQ43S58x0OtGD0hib30A.1
CATEGORIES:CJI Committee Meeting
ATTACH;FMTTYPE=image/jpg:https://cjiaa.org/wp-content/uploads/2024/07/hI_meeting_flyer-pdf-image.jpg
END:VEVENT
BEGIN:VEVENT
DTSTART;TZID=America/New_York:20250618T190000
DTEND;TZID=America/New_York:20250618T200000
DTSTAMP:20260421T135522
CREATED:20241003T220016Z
LAST-MODIFIED:20241003T220236Z
UID:10000076-1750273200-1750276800@cjiaa.org
SUMMARY:CJI Steering Committee Meeting
DESCRIPTION:
URL:https://cjiaa.org/event/cji-steering-committee-meeting/2025-06-18/
LOCATION:Intergroup Office\, Quakerbridge Road 3525\, Hamilton Township\, NJ\, 08619\, United States
GEO:40.2547923;-74.6794883
X-APPLE-STRUCTURED-LOCATION;VALUE=URI;X-ADDRESS=Intergroup Office Quakerbridge Road 3525 Hamilton Township NJ 08619 United States;X-APPLE-RADIUS=500;X-TITLE=Quakerbridge Road 3525:geo:-74.6794883,40.2547923
END:VEVENT
BEGIN:VEVENT
DTSTART;TZID=America/New_York:20250621T120000
DTEND;TZID=America/New_York:20250621T130000
DTSTAMP:20260421T135522
CREATED:20241011T201820Z
LAST-MODIFIED:20241011T202021Z
UID:10000197-1750507200-1750510800@cjiaa.org
SUMMARY:Worldwide Grapevine Monthly Meeting
DESCRIPTION:Meeting ID:  871 2801 9459 \nPasscode:  GLM
URL:https://cjiaa.org/event/worldwide-grapevine-monthly-meeting/2025-06-21/
LOCATION:
CATEGORIES:Other AA Event
ATTACH;FMTTYPE=image/jpeg:https://cjiaa.org/wp-content/uploads/2024/03/Grapevine-Monthly-Meeting.1.jpeg
END:VEVENT
BEGIN:VEVENT
DTSTART;TZID=America/New_York:20250626T180000
DTEND;TZID=America/New_York:20250626T200000
DTSTAMP:20260421T135522
CREATED:20250516T131140Z
LAST-MODIFIED:20250516T131517Z
UID:10000543-1750960800-1750968000@cjiaa.org
SUMMARY:Bordentown NJ Grapevine Group Anniversary
DESCRIPTION:THE BORDENTOWN\, NJ Grapevine Group\nWelcomes all to our 42nd Year Anniversary Celebration\nThursday – June 26th\nCoffee\, Snacks and Dessert at 6:00 pm \nMeeting and Guest Speaker: \nStaci J.\, from the Sunlight of the Spirit Group\nof Levittown\, PA at 7:00 pm\nFirst Presbyterian Church\n420 Farnsworth Avenue
URL:https://cjiaa.org/event/bordentown-nj-grapevine-group-anniversary/
LOCATION:1st Presbyterian Church – Bordentown\, 420 Farnsworth Avenue\, Bordentown\, 08505\, United States
CATEGORIES:Group Anniversary
ATTACH;FMTTYPE=image/jpeg:https://cjiaa.org/wp-content/uploads/2022/04/‎‎BordentownGrapevineAnniv.jpeg
GEO:40.1433841;-74.7100276
X-APPLE-STRUCTURED-LOCATION;VALUE=URI;X-ADDRESS=1st Presbyterian Church – Bordentown 420 Farnsworth Avenue Bordentown 08505 United States;X-APPLE-RADIUS=500;X-TITLE=420 Farnsworth Avenue:geo:-74.7100276,40.1433841
END:VEVENT
BEGIN:VEVENT
DTSTART;TZID=America/New_York:20250627T180000
DTEND;TZID=America/New_York:20250627T190000
DTSTAMP:20260421T135522
CREATED:20241011T202351Z
LAST-MODIFIED:20241011T202351Z
UID:10000257-1751047200-1751050800@cjiaa.org
SUMMARY:CPC/PI Committee Monthly Meeting
DESCRIPTION:
URL:https://cjiaa.org/event/cpc-pi-committee-monthly-meeting/2025-06-27/
LOCATION:Intergroup Office\, Quakerbridge Road 3525\, Hamilton Township\, NJ\, 08619\, United States
ATTACH;FMTTYPE=image/jpg:https://cjiaa.org/wp-content/uploads/2022/04/CPC-PI-Flier-Central-Jersey-Intergroup-REV-3-17-24-pdf-image.jpg
GEO:40.2547923;-74.6794883
X-APPLE-STRUCTURED-LOCATION;VALUE=URI;X-ADDRESS=Intergroup Office Quakerbridge Road 3525 Hamilton Township NJ 08619 United States;X-APPLE-RADIUS=500;X-TITLE=Quakerbridge Road 3525:geo:-74.6794883,40.2547923
END:VEVENT
BEGIN:VEVENT
DTSTART;TZID=America/New_York:20250628T100000
DTEND;TZID=America/New_York:20250628T111500
DTSTAMP:20260421T135522
CREATED:20250616T213226Z
LAST-MODIFIED:20250616T213226Z
UID:10000548-1751104800-1751109300@cjiaa.org
SUMMARY:Harmony Hollow AA Anniversary Speakers Meeting
DESCRIPTION:Food and fellowship starting at 9AM \nSpeaker: Cynthia M.\, A Design for Living\, Neptune\, NJ
URL:https://cjiaa.org/event/harmony-hollow-aa-anniversary-speakers-meeting-5/
LOCATION:NJ
ATTACH;FMTTYPE=application/pdf:https://cjiaa.org/wp-content/uploads/2025/06/HarmonyHollow-June.pdf
END:VEVENT
BEGIN:VEVENT
DTSTART;TZID=America/New_York:20250629T130000
DTEND;TZID=America/New_York:20250629T170000
DTSTAMP:20260421T135522
CREATED:20250521T222957Z
LAST-MODIFIED:20250521T223002Z
UID:10000544-1751202000-1751216400@cjiaa.org
SUMMARY:CJI Trenton Thunder Event
DESCRIPTION:TICKETS REQUIRED.  $30 each  Food and drinks provided.
URL:https://cjiaa.org/event/cji-trenton-thunder-event/
LOCATION:Trenton Thunder Stadium\, 1 Thunder Rd\, Trenton\, NJ\, 08648\, United States
ATTACH;FMTTYPE=image/jpeg:https://cjiaa.org/wp-content/uploads/2025/05/tenton_thunder_event-1-1.jpg
GEO:40.2037773;-74.7613528
X-APPLE-STRUCTURED-LOCATION;VALUE=URI;X-ADDRESS=Trenton Thunder Stadium 1 Thunder Rd Trenton NJ 08648 United States;X-APPLE-RADIUS=500;X-TITLE=1 Thunder Rd:geo:-74.7613528,40.2037773
END:VEVENT
BEGIN:VEVENT
DTSTART;TZID=America/New_York:20250630T190000
DTEND;TZID=America/New_York:20250630T200000
DTSTAMP:20260421T135522
CREATED:20250617T140002Z
LAST-MODIFIED:20250617T140002Z
UID:10000549-1751310000-1751313600@cjiaa.org
SUMMARY:Last Meeting of the Blind Faith group June 30th
DESCRIPTION:The Blind Faith group which meets Mondays at the United Presbyterian Church\, 12 Yardville Hamilton Sq Rd\, is unfortunately closing its doors. \n\n\n\n\nThe last meeting will be held June 30th at 7 PM\, speaker discussion format. Dessert and fellowship to follow. \n\n\n\n\n\nBlind Faith celebrated 15 Anniversaries (10+ years at the Dwier Center) and helped many of us get and stay sober. It began with the idea of connecting the newly sober/just out of treatment with those having long term sobriety. All were encouraged to share as we “made our way around the room” and “through the Big Book from front to back.” \nJoin us on or before June 30th at 7 PM!
URL:https://cjiaa.org/event/last-meeting-of-the-blind-faith-group-june-30th/
LOCATION:United Presbyrterian Church\, 12 Yardville - Hamilton Square Road\, Trenton\, NJ\, 08620\, United States
ATTACH;FMTTYPE=image/jpeg:https://cjiaa.org/wp-content/uploads/2025/06/BlindFaithClosing.jpg
GEO:40.1799228;-74.6719257
X-APPLE-STRUCTURED-LOCATION;VALUE=URI;X-ADDRESS=United Presbyrterian Church 12 Yardville - Hamilton Square Road Trenton NJ 08620 United States;X-APPLE-RADIUS=500;X-TITLE=12 Yardville - Hamilton Square Road:geo:-74.6719257,40.1799228
END:VEVENT
END:VCALENDAR