BEGIN:VCALENDAR
VERSION:2.0
PRODID:-//Central Jersey Intergroup - ECPv6.15.20//NONSGML v1.0//EN
CALSCALE:GREGORIAN
METHOD:PUBLISH
X-WR-CALNAME:Central Jersey Intergroup
X-ORIGINAL-URL:https://cjiaa.org
X-WR-CALDESC:Events for Central Jersey Intergroup
REFRESH-INTERVAL;VALUE=DURATION:PT1H
X-Robots-Tag:noindex
X-PUBLISHED-TTL:PT1H
BEGIN:VTIMEZONE
TZID:America/New_York
BEGIN:DAYLIGHT
TZOFFSETFROM:-0500
TZOFFSETTO:-0400
TZNAME:EDT
DTSTART:20240310T070000
END:DAYLIGHT
BEGIN:STANDARD
TZOFFSETFROM:-0400
TZOFFSETTO:-0500
TZNAME:EST
DTSTART:20241103T060000
END:STANDARD
BEGIN:DAYLIGHT
TZOFFSETFROM:-0500
TZOFFSETTO:-0400
TZNAME:EDT
DTSTART:20250309T070000
END:DAYLIGHT
BEGIN:STANDARD
TZOFFSETFROM:-0400
TZOFFSETTO:-0500
TZNAME:EST
DTSTART:20251102T060000
END:STANDARD
BEGIN:DAYLIGHT
TZOFFSETFROM:-0500
TZOFFSETTO:-0400
TZNAME:EDT
DTSTART:20260308T070000
END:DAYLIGHT
BEGIN:STANDARD
TZOFFSETFROM:-0400
TZOFFSETTO:-0500
TZNAME:EST
DTSTART:20261101T060000
END:STANDARD
END:VTIMEZONE
BEGIN:VEVENT
DTSTART;TZID=America/New_York:20250702T190000
DTEND;TZID=America/New_York:20250702T200000
DTSTAMP:20260420T074255
CREATED:20241003T214406Z
LAST-MODIFIED:20241003T214407Z
UID:10000014-1751482800-1751486400@cjiaa.org
SUMMARY:CJI Monthly Body Meeting – Hybrid
DESCRIPTION:Meeting is now HYBRID!  In person still meets in the Hamilton Library basement.
URL:https://cjiaa.org/event/cji-monthly-body-meeting-hybrid-2/2025-07-02/
LOCATION:Hamilton Library\, Justice Samuel A Alito Junior Way 1\, Hamilton Township\, NJ\, 08619\, United States
GEO:40.2113261;-74.695721
X-APPLE-STRUCTURED-LOCATION;VALUE=URI;X-ADDRESS=Hamilton Library Justice Samuel A Alito Junior Way 1 Hamilton Township NJ 08619 United States;X-APPLE-RADIUS=500;X-TITLE=Justice Samuel A Alito Junior Way 1:geo:-74.695721,40.2113261
END:VEVENT
BEGIN:VEVENT
DTSTART;TZID=America/New_York:20250709T173000
DTEND;TZID=America/New_York:20250709T183000
DTSTAMP:20260420T074255
CREATED:20250529T204431Z
LAST-MODIFIED:20250529T204431Z
UID:10000545-1752082200-1752085800@cjiaa.org
SUMMARY:Rule 62 10 Year Anniversary
DESCRIPTION:Join us for Coffee & Cake ! \nSpeaker: Rule 62’s own Jen K with 15 years of sobriety
URL:https://cjiaa.org/event/rule-62-10-year-anniversary/
LOCATION:Holy Cross Lutheran Church\, 280 Crosswicks Rd\, Bordentown\, 08505\, United States
CATEGORIES:Group Anniversary
ATTACH;FMTTYPE=image/png:https://cjiaa.org/wp-content/uploads/2025/05/rule62Anniv.png
GEO:40.1418868;-74.6852826
X-APPLE-STRUCTURED-LOCATION;VALUE=URI;X-ADDRESS=Holy Cross Lutheran Church 280 Crosswicks Rd Bordentown 08505 United States;X-APPLE-RADIUS=500;X-TITLE=280 Crosswicks Rd:geo:-74.6852826,40.1418868
END:VEVENT
BEGIN:VEVENT
DTSTART;TZID=America/New_York:20250709T180000
DTEND;TZID=America/New_York:20250709T190000
DTSTAMP:20260420T074255
CREATED:20241030T214047Z
LAST-MODIFIED:20241030T214047Z
UID:10000323-1752084000-1752087600@cjiaa.org
SUMMARY:CJI Social Committee Monthly Meeting
DESCRIPTION:
URL:https://cjiaa.org/event/cji-social-committee-monthly-meeting/2025-07-09/
LOCATION:Intergroup Office\, Quakerbridge Road 3525\, Hamilton Township\, NJ\, 08619\, United States
CATEGORIES:CJI Committee Meeting
GEO:40.2547923;-74.6794883
X-APPLE-STRUCTURED-LOCATION;VALUE=URI;X-ADDRESS=Intergroup Office Quakerbridge Road 3525 Hamilton Township NJ 08619 United States;X-APPLE-RADIUS=500;X-TITLE=Quakerbridge Road 3525:geo:-74.6794883,40.2547923
END:VEVENT
BEGIN:VEVENT
DTSTART;TZID=America/New_York:20250715T190000
DTEND;TZID=America/New_York:20250715T200000
DTSTAMP:20260420T074255
CREATED:20241011T123805Z
LAST-MODIFIED:20241011T124240Z
UID:10000138-1752606000-1752609600@cjiaa.org
SUMMARY:H&I Committee Monthly Meeting
DESCRIPTION:Meeting ID: 821 4265 2012\nPasscode: 293127
URL:https://cjiaa.org/event/hi-committee-monthly-meeting/2025-07-15/
LOCATION:https://us02web.zoom.us/j/82142652012?pwd=WyR0VbePnlDQ43S58x0OtGD0hib30A.1
CATEGORIES:CJI Committee Meeting
ATTACH;FMTTYPE=image/jpg:https://cjiaa.org/wp-content/uploads/2024/07/hI_meeting_flyer-pdf-image.jpg
END:VEVENT
BEGIN:VEVENT
DTSTART;TZID=America/New_York:20250716T190000
DTEND;TZID=America/New_York:20250716T200000
DTSTAMP:20260420T074255
CREATED:20241003T220016Z
LAST-MODIFIED:20241003T220236Z
UID:10000077-1752692400-1752696000@cjiaa.org
SUMMARY:CJI Steering Committee Meeting
DESCRIPTION:
URL:https://cjiaa.org/event/cji-steering-committee-meeting/2025-07-16/
LOCATION:Intergroup Office\, Quakerbridge Road 3525\, Hamilton Township\, NJ\, 08619\, United States
GEO:40.2547923;-74.6794883
X-APPLE-STRUCTURED-LOCATION;VALUE=URI;X-ADDRESS=Intergroup Office Quakerbridge Road 3525 Hamilton Township NJ 08619 United States;X-APPLE-RADIUS=500;X-TITLE=Quakerbridge Road 3525:geo:-74.6794883,40.2547923
END:VEVENT
BEGIN:VEVENT
DTSTART;TZID=America/New_York:20250719T100000
DTEND;TZID=America/New_York:20250719T150000
DTSTAMP:20260420T074255
CREATED:20250602T142238Z
LAST-MODIFIED:20250602T142238Z
UID:10000546-1752919200-1752937200@cjiaa.org
SUMMARY:2025 Speaker Jam
DESCRIPTION:
URL:https://cjiaa.org/event/2025-speaker-jam/
LOCATION:columbus\, 24260 W. Main St.\, 08022\, United States
CATEGORIES:CJI Event
ATTACH;FMTTYPE=image/jpg:https://cjiaa.org/wp-content/uploads/2022/04/Speaker-Jam-2025-Flyer--pdf-image.jpg
GEO:40.071319;-74.725193
X-APPLE-STRUCTURED-LOCATION;VALUE=URI;X-ADDRESS=columbus 24260 W. Main St. 08022 United States;X-APPLE-RADIUS=500;X-TITLE=24260 W. Main St.:geo:-74.725193,40.071319
END:VEVENT
BEGIN:VEVENT
DTSTART;TZID=America/New_York:20250719T120000
DTEND;TZID=America/New_York:20250719T130000
DTSTAMP:20260420T074255
CREATED:20241011T201820Z
LAST-MODIFIED:20241011T202021Z
UID:10000198-1752926400-1752930000@cjiaa.org
SUMMARY:Worldwide Grapevine Monthly Meeting
DESCRIPTION:Meeting ID:  871 2801 9459 \nPasscode:  GLM
URL:https://cjiaa.org/event/worldwide-grapevine-monthly-meeting/2025-07-19/
LOCATION:
CATEGORIES:Other AA Event
ATTACH;FMTTYPE=image/jpeg:https://cjiaa.org/wp-content/uploads/2024/03/Grapevine-Monthly-Meeting.1.jpeg
END:VEVENT
BEGIN:VEVENT
DTSTART;TZID=America/New_York:20250721T180000
DTEND;TZID=America/New_York:20250721T200000
DTSTAMP:20260420T074255
CREATED:20250623T205131Z
LAST-MODIFIED:20250623T205131Z
UID:10000550-1753120800-1753128000@cjiaa.org
SUMMARY:Women's Big Book Study 18th Anniversary
DESCRIPTION:Refreshments 6pm \nSpeaker 7pm: Beth A with 17 years sobriety \nAll are invited
URL:https://cjiaa.org/event/womens-big-book-study-18th-anniversary/
LOCATION:1st Presbyterian Church – Hamilton Square\, 3550 Nottingham Way\, Hamilton\, NJ\, 08619\, United States
ATTACH;FMTTYPE=image/png:https://cjiaa.org/wp-content/uploads/2025/06/womensBigBook.png
GEO:40.235204;-74.6921599
X-APPLE-STRUCTURED-LOCATION;VALUE=URI;X-ADDRESS=1st Presbyterian Church – Hamilton Square 3550 Nottingham Way Hamilton NJ 08619 United States;X-APPLE-RADIUS=500;X-TITLE=3550 Nottingham Way:geo:-74.6921599,40.235204
END:VEVENT
BEGIN:VEVENT
DTSTART;TZID=America/New_York:20250725T180000
DTEND;TZID=America/New_York:20250725T190000
DTSTAMP:20260420T074255
CREATED:20241011T202351Z
LAST-MODIFIED:20241011T202351Z
UID:10000258-1753466400-1753470000@cjiaa.org
SUMMARY:CPC/PI Committee Monthly Meeting
DESCRIPTION:
URL:https://cjiaa.org/event/cpc-pi-committee-monthly-meeting/2025-07-25/
LOCATION:Intergroup Office\, Quakerbridge Road 3525\, Hamilton Township\, NJ\, 08619\, United States
ATTACH;FMTTYPE=image/jpg:https://cjiaa.org/wp-content/uploads/2022/04/CPC-PI-Flier-Central-Jersey-Intergroup-REV-3-17-24-pdf-image.jpg
GEO:40.2547923;-74.6794883
X-APPLE-STRUCTURED-LOCATION;VALUE=URI;X-ADDRESS=Intergroup Office Quakerbridge Road 3525 Hamilton Township NJ 08619 United States;X-APPLE-RADIUS=500;X-TITLE=Quakerbridge Road 3525:geo:-74.6794883,40.2547923
END:VEVENT
BEGIN:VEVENT
DTSTART;TZID=America/New_York:20250726T100000
DTEND;TZID=America/New_York:20250726T111500
DTSTAMP:20260420T074255
CREATED:20250724T134841Z
LAST-MODIFIED:20250724T134841Z
UID:10000552-1753524000-1753528500@cjiaa.org
SUMMARY:Harmony Hollow AA Anniversary Speakers Meeting
DESCRIPTION:Food and fellowship starting at 9AM \nSpeaker Meeting 10-11:15am \n\n\n\nSpeaker: Pat F. Pearl River\, NY
URL:https://cjiaa.org/event/harmony-hollow-aa-anniversary-speakers-meeting-6/
LOCATION:Harmony Hollow Farm\, Harbourton Mount Airy Road\, Lambertville\, NJ\, 08053\, United States
ATTACH;FMTTYPE=application/pdf:https://cjiaa.org/wp-content/uploads/2025/07/July-Flyer.pdf
GEO:40.3577804;-74.8596079
X-APPLE-STRUCTURED-LOCATION;VALUE=URI;X-ADDRESS=Harmony Hollow Farm Harbourton Mount Airy Road Lambertville NJ 08053 United States;X-APPLE-RADIUS=500;X-TITLE=Harbourton Mount Airy Road:geo:-74.8596079,40.3577804
END:VEVENT
END:VCALENDAR