BEGIN:VCALENDAR
VERSION:2.0
PRODID:-//Central Jersey Intergroup - ECPv6.15.20//NONSGML v1.0//EN
CALSCALE:GREGORIAN
METHOD:PUBLISH
X-WR-CALNAME:Central Jersey Intergroup
X-ORIGINAL-URL:https://cjiaa.org
X-WR-CALDESC:Events for Central Jersey Intergroup
REFRESH-INTERVAL;VALUE=DURATION:PT1H
X-Robots-Tag:noindex
X-PUBLISHED-TTL:PT1H
BEGIN:VTIMEZONE
TZID:America/New_York
BEGIN:DAYLIGHT
TZOFFSETFROM:-0500
TZOFFSETTO:-0400
TZNAME:EDT
DTSTART:20230312T070000
END:DAYLIGHT
BEGIN:STANDARD
TZOFFSETFROM:-0400
TZOFFSETTO:-0500
TZNAME:EST
DTSTART:20231105T060000
END:STANDARD
BEGIN:DAYLIGHT
TZOFFSETFROM:-0500
TZOFFSETTO:-0400
TZNAME:EDT
DTSTART:20240310T070000
END:DAYLIGHT
BEGIN:STANDARD
TZOFFSETFROM:-0400
TZOFFSETTO:-0500
TZNAME:EST
DTSTART:20241103T060000
END:STANDARD
BEGIN:DAYLIGHT
TZOFFSETFROM:-0500
TZOFFSETTO:-0400
TZNAME:EDT
DTSTART:20250309T070000
END:DAYLIGHT
BEGIN:STANDARD
TZOFFSETFROM:-0400
TZOFFSETTO:-0500
TZNAME:EST
DTSTART:20251102T060000
END:STANDARD
END:VTIMEZONE
BEGIN:VEVENT
DTSTART;TZID=America/New_York:20241208T090000
DTEND;TZID=America/New_York:20241208T113000
DTSTAMP:20260422T025958
CREATED:20241003T220653Z
LAST-MODIFIED:20241124T203059Z
UID:10000128-1733648400-1733657400@cjiaa.org
SUMMARY:CJI Annual Gratitude Breakfast
DESCRIPTION:
URL:https://cjiaa.org/event/cji-annual-gratitude-breakfast/
LOCATION:St. Gregory the Great\, 4621b Nottingham Way\, Hamilton\, NJ\, 08690\, United States
CATEGORIES:CJI Event
ATTACH;FMTTYPE=image/jpeg:https://cjiaa.org/wp-content/uploads/2024/10/Annual-Gratitude-Breakfast-scaled-1.jpg
GEO:40.2223595;-74.6399099
X-APPLE-STRUCTURED-LOCATION;VALUE=URI;X-ADDRESS=St. Gregory the Great 4621b Nottingham Way Hamilton NJ 08690 United States;X-APPLE-RADIUS=500;X-TITLE=4621b Nottingham Way:geo:-74.6399099,40.2223595
END:VEVENT
BEGIN:VEVENT
DTSTART;TZID=America/New_York:20241208T100000
DTEND;TZID=America/New_York:20241208T120000
DTSTAMP:20260422T025959
CREATED:20241106T153258Z
LAST-MODIFIED:20241124T203537Z
UID:10000376-1733652000-1733659200@cjiaa.org
SUMMARY:Plainsboro 1935 Anniversary 10am - 12
DESCRIPTION: 
URL:https://cjiaa.org/event/plainsboro-1935-anniversary-meeting-10am-12/
LOCATION:Plainsboro Community Center\, Plainsboro Road 641\, Plainsboro Township\, New Jersey\, 08536\, United States
ATTACH;FMTTYPE=image/jpeg:https://cjiaa.org/wp-content/uploads/2022/04/‎2024_Anniversary50th.jpeg
GEO:40.3336193;-74.5871759
X-APPLE-STRUCTURED-LOCATION;VALUE=URI;X-ADDRESS=Plainsboro Community Center Plainsboro Road 641 Plainsboro Township New Jersey 08536 United States;X-APPLE-RADIUS=500;X-TITLE=Plainsboro Road 641:geo:-74.5871759,40.3336193
END:VEVENT
BEGIN:VEVENT
DTSTART;TZID=America/New_York:20241208T180000
DTEND;TZID=America/New_York:20241208T200000
DTSTAMP:20260422T025959
CREATED:20241104T143549Z
LAST-MODIFIED:20241124T204747Z
UID:10000375-1733680800-1733688000@cjiaa.org
SUMMARY:December BYOBB gratitude meeting
DESCRIPTION:
URL:https://cjiaa.org/event/december-byobb-gratitude-meeting/
LOCATION:Christ Church\, Prince Street 130\, Bordentown\, New Jersey\, 08505\, United States
CATEGORIES:Other AA Event
ATTACH;FMTTYPE=image/jpeg:https://cjiaa.org/wp-content/uploads/2022/04/GratitudeMeeting128cr.jpg
GEO:40.1467982;-74.7139583
X-APPLE-STRUCTURED-LOCATION;VALUE=URI;X-ADDRESS=Christ Church Prince Street 130 Bordentown New Jersey 08505 United States;X-APPLE-RADIUS=500;X-TITLE=Prince Street 130:geo:-74.7139583,40.1467982
END:VEVENT
BEGIN:VEVENT
DTSTART;TZID=America/New_York:20241211T180000
DTEND;TZID=America/New_York:20241211T190000
DTSTAMP:20260422T025959
CREATED:20241030T214047Z
LAST-MODIFIED:20241030T214047Z
UID:10000316-1733940000-1733943600@cjiaa.org
SUMMARY:CJI Social Committee Monthly Meeting
DESCRIPTION:
URL:https://cjiaa.org/event/cji-social-committee-monthly-meeting/2024-12-11/
LOCATION:Intergroup Office\, Quakerbridge Road 3525\, Hamilton Township\, NJ\, 08619\, United States
CATEGORIES:CJI Committee Meeting
GEO:40.2547923;-74.6794883
X-APPLE-STRUCTURED-LOCATION;VALUE=URI;X-ADDRESS=Intergroup Office Quakerbridge Road 3525 Hamilton Township NJ 08619 United States;X-APPLE-RADIUS=500;X-TITLE=Quakerbridge Road 3525:geo:-74.6794883,40.2547923
END:VEVENT
BEGIN:VEVENT
DTSTART;TZID=America/New_York:20241213T183000
DTEND;TZID=America/New_York:20241213T203000
DTSTAMP:20260422T025959
CREATED:20241106T162804Z
LAST-MODIFIED:20241106T162804Z
UID:10000377-1734114600-1734121800@cjiaa.org
SUMMARY:Casalan's 67th Anniversary
DESCRIPTION:
URL:https://cjiaa.org/event/casalans-67th-anniversary/
LOCATION:Al An Club\, Cass Street 761\, Trenton\, New Jersey\, 08611\, United States
CATEGORIES:Group Anniversary
ATTACH;FMTTYPE=image/jpeg:https://cjiaa.org/wp-content/uploads/2024/11/casalon_anniversary_2024.jpg
GEO:40.2064288;-74.7512499
X-APPLE-STRUCTURED-LOCATION;VALUE=URI;X-ADDRESS=Al An Club Cass Street 761 Trenton New Jersey 08611 United States;X-APPLE-RADIUS=500;X-TITLE=Cass Street 761:geo:-74.7512499,40.2064288
END:VEVENT
END:VCALENDAR