BEGIN:VCALENDAR
VERSION:2.0
PRODID:-//Central Jersey Intergroup - ECPv6.15.20//NONSGML v1.0//EN
CALSCALE:GREGORIAN
METHOD:PUBLISH
X-ORIGINAL-URL:https://cjiaa.org
X-WR-CALDESC:Events for Central Jersey Intergroup
REFRESH-INTERVAL;VALUE=DURATION:PT1H
X-Robots-Tag:noindex
X-PUBLISHED-TTL:PT1H
BEGIN:VTIMEZONE
TZID:America/New_York
BEGIN:DAYLIGHT
TZOFFSETFROM:-0500
TZOFFSETTO:-0400
TZNAME:EDT
DTSTART:20240310T070000
END:DAYLIGHT
BEGIN:STANDARD
TZOFFSETFROM:-0400
TZOFFSETTO:-0500
TZNAME:EST
DTSTART:20241103T060000
END:STANDARD
BEGIN:DAYLIGHT
TZOFFSETFROM:-0500
TZOFFSETTO:-0400
TZNAME:EDT
DTSTART:20250309T070000
END:DAYLIGHT
BEGIN:STANDARD
TZOFFSETFROM:-0400
TZOFFSETTO:-0500
TZNAME:EST
DTSTART:20251102T060000
END:STANDARD
BEGIN:DAYLIGHT
TZOFFSETFROM:-0500
TZOFFSETTO:-0400
TZNAME:EDT
DTSTART:20260308T070000
END:DAYLIGHT
BEGIN:STANDARD
TZOFFSETFROM:-0400
TZOFFSETTO:-0500
TZNAME:EST
DTSTART:20261101T060000
END:STANDARD
END:VTIMEZONE
BEGIN:VEVENT
DTSTART;TZID=America/New_York:20250101T080000
DTEND;TZID=America/New_York:20250101T170000
DTSTAMP:20260421T234010
CREATED:20241116T165634Z
LAST-MODIFIED:20241124T204128Z
UID:10000378-1735718400-1735750800@cjiaa.org
SUMMARY:New Years' Day Alcathon presented by District 22-23
DESCRIPTION:Alcathon on New Years Day. Light breakfast and lunch provided.\n45 minute meetings starting on the hour.\nFirst meeting at 8am – last meeting at 3pm. \n 
URL:https://cjiaa.org/event/new-years-day-alcathon-presented-by-district-22-23/
LOCATION:United Presbyrterian Church\, 12 Yardville - Hamilton Square Road\, Trenton\, NJ\, 08620\, United States
ATTACH;FMTTYPE=image/jpeg:https://cjiaa.org/wp-content/uploads/2024/11/NYdayAlcathonDistrict22-23.jpg
GEO:40.1799228;-74.6719257
X-APPLE-STRUCTURED-LOCATION;VALUE=URI;X-ADDRESS=United Presbyrterian Church 12 Yardville - Hamilton Square Road Trenton NJ 08620 United States;X-APPLE-RADIUS=500;X-TITLE=12 Yardville - Hamilton Square Road:geo:-74.6719257,40.1799228
END:VEVENT
BEGIN:VEVENT
DTSTART;TZID=America/New_York:20250101T190000
DTEND;TZID=America/New_York:20250101T200000
DTSTAMP:20260421T234010
CREATED:20250102T203300Z
LAST-MODIFIED:20250102T203301Z
UID:10000008-1735758000-1735761600@cjiaa.org
SUMMARY:CJI Monthly Body Meeting – Hybrid
DESCRIPTION:Meeting is now HYBRID!  In person still meets in the Hamilton Library basement.
URL:https://cjiaa.org/event/cji-monthly-body-meeting-hybrid-2-2/
LOCATION:Hamilton Library\, Justice Samuel A Alito Junior Way 1\, Hamilton Township\, NJ\, 08619\, United States
GEO:40.2113261;-74.695721
X-APPLE-STRUCTURED-LOCATION;VALUE=URI;X-ADDRESS=Hamilton Library Justice Samuel A Alito Junior Way 1 Hamilton Township NJ 08619 United States;X-APPLE-RADIUS=500;X-TITLE=Justice Samuel A Alito Junior Way 1:geo:-74.695721,40.2113261
END:VEVENT
END:VCALENDAR