BEGIN:VCALENDAR
VERSION:2.0
PRODID:-//Central Jersey Intergroup - ECPv6.15.20//NONSGML v1.0//EN
CALSCALE:GREGORIAN
METHOD:PUBLISH
X-ORIGINAL-URL:https://cjiaa.org
X-WR-CALDESC:Events for Central Jersey Intergroup
REFRESH-INTERVAL;VALUE=DURATION:PT1H
X-Robots-Tag:noindex
X-PUBLISHED-TTL:PT1H
BEGIN:VTIMEZONE
TZID:America/New_York
BEGIN:DAYLIGHT
TZOFFSETFROM:-0500
TZOFFSETTO:-0400
TZNAME:EDT
DTSTART:20240310T070000
END:DAYLIGHT
BEGIN:STANDARD
TZOFFSETFROM:-0400
TZOFFSETTO:-0500
TZNAME:EST
DTSTART:20241103T060000
END:STANDARD
BEGIN:DAYLIGHT
TZOFFSETFROM:-0500
TZOFFSETTO:-0400
TZNAME:EDT
DTSTART:20250309T070000
END:DAYLIGHT
BEGIN:STANDARD
TZOFFSETFROM:-0400
TZOFFSETTO:-0500
TZNAME:EST
DTSTART:20251102T060000
END:STANDARD
BEGIN:DAYLIGHT
TZOFFSETFROM:-0500
TZOFFSETTO:-0400
TZNAME:EDT
DTSTART:20260308T070000
END:DAYLIGHT
BEGIN:STANDARD
TZOFFSETFROM:-0400
TZOFFSETTO:-0500
TZNAME:EST
DTSTART:20261101T060000
END:STANDARD
END:VTIMEZONE
BEGIN:VEVENT
DTSTART;TZID=America/New_York:20250205T190000
DTEND;TZID=America/New_York:20250205T200000
DTSTAMP:20260421T234107
CREATED:20241003T214406Z
LAST-MODIFIED:20241003T214407Z
UID:10000009-1738782000-1738785600@cjiaa.org
SUMMARY:CJI Monthly Body Meeting – Hybrid
DESCRIPTION:Meeting is now HYBRID!  In person still meets in the Hamilton Library basement.
URL:https://cjiaa.org/event/cji-monthly-body-meeting-hybrid-2/2025-02-05/
LOCATION:Hamilton Library\, Justice Samuel A Alito Junior Way 1\, Hamilton Township\, NJ\, 08619\, United States
GEO:40.2113261;-74.695721
X-APPLE-STRUCTURED-LOCATION;VALUE=URI;X-ADDRESS=Hamilton Library Justice Samuel A Alito Junior Way 1 Hamilton Township NJ 08619 United States;X-APPLE-RADIUS=500;X-TITLE=Justice Samuel A Alito Junior Way 1:geo:-74.695721,40.2113261
END:VEVENT
BEGIN:VEVENT
DTSTART;TZID=America/New_York:20250206T163000
DTEND;TZID=America/New_York:20250206T183000
DTSTAMP:20260421T234107
CREATED:20250115T234341Z
LAST-MODIFIED:20250115T235104Z
UID:10000515-1738859400-1738866600@cjiaa.org
SUMMARY:Steps In Succession 17th Anniversary
DESCRIPTION:Come enjoy delicious hoagies with us as we go through one of the 12 steps! \nFood and Fellowship at 4:30pm \nMeeting at 5:30pm
URL:https://cjiaa.org/event/steps-in-succession-17th-anniversary/
LOCATION:1st Presbyterian Church – Hamilton Square\, 3550 Nottingham Way\, Hamilton\, NJ\, 08619\, United States
ATTACH;FMTTYPE=application/pdf:https://cjiaa.org/wp-content/uploads/2025/01/StepsInSuccessionAnniv.pdf
GEO:40.235204;-74.6921599
X-APPLE-STRUCTURED-LOCATION;VALUE=URI;X-ADDRESS=1st Presbyterian Church – Hamilton Square 3550 Nottingham Way Hamilton NJ 08619 United States;X-APPLE-RADIUS=500;X-TITLE=3550 Nottingham Way:geo:-74.6921599,40.235204
END:VEVENT
BEGIN:VEVENT
DTSTART;TZID=America/New_York:20250207T190000
DTEND;TZID=America/New_York:20250207T210000
DTSTAMP:20260421T234107
CREATED:20250111T223302Z
LAST-MODIFIED:20250118T034513Z
UID:10000514-1738954800-1738962000@cjiaa.org
SUMMARY:"If You Want What We Have" 12th Anniversary
DESCRIPTION:7:00 PM Potluck Dinner and Dessert\nFeel free to bring a favorite dish to share 😊 \n8:00 PM Guest Speaker in the Main Sanctuary \nPearson Memorial United Methodist Church 71 Pearson Drive\, Hamilton\, NJ \nGuest Speaker: \nMark G.\nFrom the Masonville Group \nWith 41 years of continuous sobriety \n\n\n\nLit on Wheels will be available before the meeting
URL:https://cjiaa.org/event/if-you-want-what-we-have-12th-anniversary/
LOCATION:Pearson Memorial United Methodist Church\, 71 Pearson Drive\, Hamilton\, United States
ATTACH;FMTTYPE=image/jpeg:https://cjiaa.org/wp-content/uploads/2022/04/IYWWWH-Anniversary-Flyer-2025-1.jpg
GEO:40.1868875;-74.7061324
X-APPLE-STRUCTURED-LOCATION;VALUE=URI;X-ADDRESS=Pearson Memorial United Methodist Church 71 Pearson Drive Hamilton United States;X-APPLE-RADIUS=500;X-TITLE=71 Pearson Drive:geo:-74.7061324,40.1868875
END:VEVENT
END:VCALENDAR