BEGIN:VCALENDAR
VERSION:2.0
PRODID:-//Central Jersey Intergroup - ECPv6.15.20//NONSGML v1.0//EN
CALSCALE:GREGORIAN
METHOD:PUBLISH
X-WR-CALNAME:Central Jersey Intergroup
X-ORIGINAL-URL:https://cjiaa.org
X-WR-CALDESC:Events for Central Jersey Intergroup
REFRESH-INTERVAL;VALUE=DURATION:PT1H
X-Robots-Tag:noindex
X-PUBLISHED-TTL:PT1H
BEGIN:VTIMEZONE
TZID:America/New_York
BEGIN:DAYLIGHT
TZOFFSETFROM:-0500
TZOFFSETTO:-0400
TZNAME:EDT
DTSTART:20240310T070000
END:DAYLIGHT
BEGIN:STANDARD
TZOFFSETFROM:-0400
TZOFFSETTO:-0500
TZNAME:EST
DTSTART:20241103T060000
END:STANDARD
BEGIN:DAYLIGHT
TZOFFSETFROM:-0500
TZOFFSETTO:-0400
TZNAME:EDT
DTSTART:20250309T070000
END:DAYLIGHT
BEGIN:STANDARD
TZOFFSETFROM:-0400
TZOFFSETTO:-0500
TZNAME:EST
DTSTART:20251102T060000
END:STANDARD
BEGIN:DAYLIGHT
TZOFFSETFROM:-0500
TZOFFSETTO:-0400
TZNAME:EDT
DTSTART:20260308T070000
END:DAYLIGHT
BEGIN:STANDARD
TZOFFSETFROM:-0400
TZOFFSETTO:-0500
TZNAME:EST
DTSTART:20261101T060000
END:STANDARD
END:VTIMEZONE
BEGIN:VEVENT
DTSTART;TZID=America/New_York:20250916T190000
DTEND;TZID=America/New_York:20250916T200000
DTSTAMP:20260421T062258
CREATED:20241011T123805Z
LAST-MODIFIED:20241011T124240Z
UID:10000140-1758049200-1758052800@cjiaa.org
SUMMARY:H&I Committee Monthly Meeting
DESCRIPTION:Meeting ID: 821 4265 2012\nPasscode: 293127
URL:https://cjiaa.org/event/hi-committee-monthly-meeting/2025-09-16/
LOCATION:https://us02web.zoom.us/j/82142652012?pwd=WyR0VbePnlDQ43S58x0OtGD0hib30A.1
CATEGORIES:CJI Committee Meeting
ATTACH;FMTTYPE=image/jpg:https://cjiaa.org/wp-content/uploads/2024/07/hI_meeting_flyer-pdf-image.jpg
END:VEVENT
BEGIN:VEVENT
DTSTART;TZID=America/New_York:20250917T190000
DTEND;TZID=America/New_York:20250917T200000
DTSTAMP:20260421T062258
CREATED:20241003T220016Z
LAST-MODIFIED:20241003T220236Z
UID:10000079-1758135600-1758139200@cjiaa.org
SUMMARY:CJI Steering Committee Meeting
DESCRIPTION:
URL:https://cjiaa.org/event/cji-steering-committee-meeting/2025-09-17/
LOCATION:Intergroup Office\, Quakerbridge Road 3525\, Hamilton Township\, NJ\, 08619\, United States
GEO:40.2547923;-74.6794883
X-APPLE-STRUCTURED-LOCATION;VALUE=URI;X-ADDRESS=Intergroup Office Quakerbridge Road 3525 Hamilton Township NJ 08619 United States;X-APPLE-RADIUS=500;X-TITLE=Quakerbridge Road 3525:geo:-74.6794883,40.2547923
END:VEVENT
BEGIN:VEVENT
DTSTART;TZID=America/New_York:20250920T120000
DTEND;TZID=America/New_York:20250920T130000
DTSTAMP:20260421T062258
CREATED:20241011T201820Z
LAST-MODIFIED:20241011T202021Z
UID:10000200-1758369600-1758373200@cjiaa.org
SUMMARY:Worldwide Grapevine Monthly Meeting
DESCRIPTION:Meeting ID:  871 2801 9459 \nPasscode:  GLM
URL:https://cjiaa.org/event/worldwide-grapevine-monthly-meeting/2025-09-20/
LOCATION:
CATEGORIES:Other AA Event
ATTACH;FMTTYPE=image/jpeg:https://cjiaa.org/wp-content/uploads/2024/03/Grapevine-Monthly-Meeting.1.jpeg
END:VEVENT
BEGIN:VEVENT
DTSTART;TZID=America/New_York:20250920T173000
DTEND;TZID=America/New_York:20250920T220000
DTSTAMP:20260421T062258
CREATED:20250802T002654Z
LAST-MODIFIED:20250802T003630Z
UID:10000553-1758389400-1758405600@cjiaa.org
SUMMARY:CJI Unity Dinner & Dance
DESCRIPTION:Central Jersey Intergroup Presents \nUnity Dinner & Dance \nCelebrating Fellowship and Recovery
URL:https://cjiaa.org/event/cji-unity-dinner-dance/
LOCATION:1st Presbyterian Church – Hightstown\, North Main Street 320\, Hightstown\, NJ\, 08520\, United States
CATEGORIES:CJI Event
ATTACH;FMTTYPE=image/jpeg:https://cjiaa.org/wp-content/uploads/2025/08/‎Unity-Event-Flyer-Dinner_Dance_20Sep25.jpeg
GEO:40.2731819;-74.5220293
X-APPLE-STRUCTURED-LOCATION;VALUE=URI;X-ADDRESS=1st Presbyterian Church – Hightstown North Main Street 320 Hightstown NJ 08520 United States;X-APPLE-RADIUS=500;X-TITLE=North Main Street 320:geo:-74.5220293,40.2731819
END:VEVENT
END:VCALENDAR