BEGIN:VCALENDAR
VERSION:2.0
PRODID:-//Central Jersey Intergroup - ECPv6.15.20//NONSGML v1.0//EN
CALSCALE:GREGORIAN
METHOD:PUBLISH
X-WR-CALNAME:Central Jersey Intergroup
X-ORIGINAL-URL:https://cjiaa.org
X-WR-CALDESC:Events for Central Jersey Intergroup
REFRESH-INTERVAL;VALUE=DURATION:PT1H
X-Robots-Tag:noindex
X-PUBLISHED-TTL:PT1H
BEGIN:VTIMEZONE
TZID:America/New_York
BEGIN:DAYLIGHT
TZOFFSETFROM:-0500
TZOFFSETTO:-0400
TZNAME:EDT
DTSTART:20230312T070000
END:DAYLIGHT
BEGIN:STANDARD
TZOFFSETFROM:-0400
TZOFFSETTO:-0500
TZNAME:EST
DTSTART:20231105T060000
END:STANDARD
BEGIN:DAYLIGHT
TZOFFSETFROM:-0500
TZOFFSETTO:-0400
TZNAME:EDT
DTSTART:20240310T070000
END:DAYLIGHT
BEGIN:STANDARD
TZOFFSETFROM:-0400
TZOFFSETTO:-0500
TZNAME:EST
DTSTART:20241103T060000
END:STANDARD
BEGIN:DAYLIGHT
TZOFFSETFROM:-0500
TZOFFSETTO:-0400
TZNAME:EDT
DTSTART:20250309T070000
END:DAYLIGHT
BEGIN:STANDARD
TZOFFSETFROM:-0400
TZOFFSETTO:-0500
TZNAME:EST
DTSTART:20251102T060000
END:STANDARD
END:VTIMEZONE
BEGIN:VEVENT
DTSTART;TZID=America/New_York:20241117T083000
DTEND;TZID=America/New_York:20241117T140000
DTSTAMP:20260420T043905
CREATED:20241022T142217Z
LAST-MODIFIED:20241022T143051Z
UID:10000313-1731832200-1731852000@cjiaa.org
SUMMARY:Area 45 - Fall Assembly and Committee Meeting
DESCRIPTION:
URL:https://cjiaa.org/event/area-45-fall-assembly-and-committee-meeting/
LOCATION:Gibson House\, East Main Street 535\, Evesham\, NJ\, 08053\, United States
CATEGORIES:Area 45 Event
ATTACH;FMTTYPE=image/jpeg:https://cjiaa.org/wp-content/uploads/2024/10/11.17-Fall-Assembly.1.jpeg
GEO:39.8839146;-74.8916915
X-APPLE-STRUCTURED-LOCATION;VALUE=URI;X-ADDRESS=Gibson House East Main Street 535 Evesham NJ 08053 United States;X-APPLE-RADIUS=500;X-TITLE=East Main Street 535:geo:-74.8916915,39.8839146
END:VEVENT
END:VCALENDAR